Back to Multiple platform build/check report for BioC 3.12
ABCDEFGHIJKLMNOP[Q]RSTUVWXYZ

Multiple platform build/check report for BioC 3.12

Results for QDNAseq

This page was generated on 2020-10-24 10:56:01 -0400 (Sat, 24 Oct 2020).

Package 1423/1974HostnameOS / ArchINSTALLBUILDCHECKBUILD BIN
QDNAseq 1.25.0
Daoud Sie
Snapshot Date: 2020-10-23 14:40:36 -0400 (Fri, 23 Oct 2020)
URL: https://git.bioconductor.org/packages/QDNAseq
Branch: master
Last Commit: 924ede6
Last Changed Date: 2020-04-27 14:39:11 -0400 (Mon, 27 Apr 2020)
malbec1 Linux (Ubuntu 18.04.4 LTS) / x86_64  OK  OK  OK UNNEEDED, same version exists in internal repository
nebbiolo1 Linux (Ubuntu 20.04.1 LTS) / x86_64  OK  OK  OK 
tokay1 Windows Server 2012 R2 Standard / x64  OK  OK  WARNINGS  OK UNNEEDED, same version exists in internal repository
riesling1 Windows Server 2019 Standard / x64  OK  OK  WARNINGS  OK 
merida1 macOS 10.14.6 Mojave / x86_64  OK  OK  OK  OK UNNEEDED, same version exists in internal repository