Back to Multiple platform build/check report for BioC 3.20:   simplified   long
A[B]CDEFGHIJKLMNOPQRSTUVWXYZ

This page was generated on 2024-06-19 12:10 -0400 (Wed, 19 Jun 2024).

HostnameOSArch (*)R versionInstalled pkgs
nebbiolo2Linux (Ubuntu 22.04.3 LTS)x86_644.4.0 RC (2024-04-16 r86468) -- "Puppy Cup" 4687
lconwaymacOS 12.7.1 Montereyx86_644.4.1 RC (2024-06-06 r86719) -- "Race for Your Life" 4402
kjohnson3macOS 13.6.5 Venturaarm644.4.1 RC (2024-06-06 r86719) -- "Race for Your Life" 4351
Click on any hostname to see more info about the system (e.g. compilers)      (*) as reported by 'uname -p', except on Windows and Mac OS X

Package 142/2242HostnameOS / ArchINSTALLBUILDCHECKBUILD BIN
BBCAnalyzer 1.35.0  (landing page)
Sarah Sandmann
Snapshot Date: 2024-06-18 14:00 -0400 (Tue, 18 Jun 2024)
git_url: https://git.bioconductor.org/packages/BBCAnalyzer
git_branch: devel
git_last_commit: 876004b
git_last_commit_date: 2024-04-30 10:45:13 -0400 (Tue, 30 Apr 2024)
nebbiolo2Linux (Ubuntu 22.04.3 LTS) / x86_64  OK    OK    OK  UNNEEDED, same version is already published
lconwaymacOS 12.7.1 Monterey / x86_64  OK    OK    OK    OK  UNNEEDED, same version is already published
kjohnson3macOS 13.6.5 Ventura / arm64  OK    OK    OK    OK  UNNEEDED, same version is already published


CHECK results for BBCAnalyzer on nebbiolo2

To the developers/maintainers of the BBCAnalyzer package:
- Allow up to 24 hours (and sometimes 48 hours) for your latest push to git@git.bioconductor.org:packages/BBCAnalyzer.git to reflect on this report. See Troubleshooting Build Report for more information.
- Use the following Renviron settings to reproduce errors and warnings.
- If 'R CMD check' started to fail recently on the Linux builder(s) over a missing dependency, add the missing dependency to 'Suggests:' in your DESCRIPTION file. See Renviron.bioc for more information.

raw results


Summary

Package: BBCAnalyzer
Version: 1.35.0
Command: /home/biocbuild/bbs-3.20-bioc/R/bin/R CMD check --install=check:BBCAnalyzer.install-out.txt --library=/home/biocbuild/bbs-3.20-bioc/R/site-library --timings BBCAnalyzer_1.35.0.tar.gz
StartedAt: 2024-06-18 20:52:36 -0400 (Tue, 18 Jun 2024)
EndedAt: 2024-06-18 21:03:26 -0400 (Tue, 18 Jun 2024)
EllapsedTime: 650.2 seconds
RetCode: 0
Status:   OK  
CheckDir: BBCAnalyzer.Rcheck
Warnings: 0

Command output

##############################################################################
##############################################################################
###
### Running command:
###
###   /home/biocbuild/bbs-3.20-bioc/R/bin/R CMD check --install=check:BBCAnalyzer.install-out.txt --library=/home/biocbuild/bbs-3.20-bioc/R/site-library --timings BBCAnalyzer_1.35.0.tar.gz
###
##############################################################################
##############################################################################


* using log directory ‘/home/biocbuild/bbs-3.20-bioc/meat/BBCAnalyzer.Rcheck’
* using R version 4.4.0 RC (2024-04-16 r86468)
* using platform: x86_64-pc-linux-gnu
* R was compiled by
    gcc (Ubuntu 11.4.0-1ubuntu1~22.04) 11.4.0
    GNU Fortran (Ubuntu 11.4.0-1ubuntu1~22.04) 11.4.0
* running under: Ubuntu 22.04.4 LTS
* using session charset: UTF-8
* checking for file ‘BBCAnalyzer/DESCRIPTION’ ... OK
* checking extension type ... Package
* this is package ‘BBCAnalyzer’ version ‘1.35.0’
* checking package namespace information ... OK
* checking package dependencies ... OK
* checking if this is a source package ... OK
* checking if there is a namespace ... OK
* checking for hidden files and directories ... OK
* checking for portable file names ... OK
* checking for sufficient/correct file permissions ... OK
* checking whether package ‘BBCAnalyzer’ can be installed ... OK
* checking installed package size ... OK
* checking package directory ... OK
* checking ‘build’ directory ... OK
* checking DESCRIPTION meta-information ... OK
* checking top-level files ... OK
* checking for left-over files ... OK
* checking index information ... OK
* checking package subdirectories ... OK
* checking code files for non-ASCII characters ... OK
* checking R files for syntax errors ... OK
* checking whether the package can be loaded ... OK
* checking whether the package can be loaded with stated dependencies ... OK
* checking whether the package can be unloaded cleanly ... OK
* checking whether the namespace can be loaded with stated dependencies ... OK
* checking whether the namespace can be unloaded cleanly ... OK
* checking loading without being on the library search path ... OK
* checking dependencies in R code ... OK
* checking S3 generic/method consistency ... OK
* checking replacement functions ... OK
* checking foreign function calls ... OK
* checking R code for possible problems ... NOTE
analyzeBases: no visible global function definition for ‘read.table’
analyzeBasesPlotOnly: no visible global function definition for
  ‘read.table’
analyzeReads: no visible global function definition for ‘path’
analyzeReads: no visible global function definition for ‘write.table’
checkBamInput: no visible global function definition for ‘path’
checkVcfInput: no visible global function definition for ‘path’
frequencyAnalysis: no visible global function definition for
  ‘write.table’
frequencyAnalysisVcf: no visible global function definition for
  ‘read.table’
frequencyAnalysisVcf: no visible global function definition for ‘path’
frequencyAnalysisVcf: no visible global function definition for
  ‘write.table’
plotCountsPerSampleRelativeVcf_plot: no visible global function
  definition for ‘par’
plotCountsPerSampleRelativeVcf_plot: no visible global function
  definition for ‘barplot’
plotCountsPerSampleRelativeVcf_plot: no visible global function
  definition for ‘rect’
plotCountsPerSampleRelativeVcf_plot: no visible global function
  definition for ‘lines’
plotCountsPerSampleRelativeVcf_plot: no visible global function
  definition for ‘text’
plotCountsPerSampleRelative_plot: no visible global function definition
  for ‘par’
plotCountsPerSampleRelative_plot: no visible global function definition
  for ‘barplot’
plotCountsPerSampleRelative_plot: no visible global function definition
  for ‘rect’
plotCountsPerSampleRelative_plot: no visible global function definition
  for ‘lines’
plotCountsPerSampleRelative_plot: no visible global function definition
  for ‘text’
plotCountsPerSampleVcf_plot: no visible global function definition for
  ‘par’
plotCountsPerSampleVcf_plot: no visible global function definition for
  ‘barplot’
plotCountsPerSampleVcf_plot: no visible global function definition for
  ‘rect’
plotCountsPerSampleVcf_plot: no visible global function definition for
  ‘lines’
plotCountsPerSampleVcf_plot: no visible global function definition for
  ‘text’
plotCountsPerSample_plot: no visible global function definition for
  ‘par’
plotCountsPerSample_plot: no visible global function definition for
  ‘barplot’
plotCountsPerSample_plot: no visible global function definition for
  ‘rect’
plotCountsPerSample_plot: no visible global function definition for
  ‘lines’
plotCountsPerSample_plot: no visible global function definition for
  ‘text’
plotCountsPerTargetRelativeVcf_plot: no visible global function
  definition for ‘par’
plotCountsPerTargetRelativeVcf_plot: no visible global function
  definition for ‘barplot’
plotCountsPerTargetRelativeVcf_plot: no visible global function
  definition for ‘rect’
plotCountsPerTargetRelativeVcf_plot: no visible global function
  definition for ‘lines’
plotCountsPerTargetRelativeVcf_plot: no visible global function
  definition for ‘text’
plotCountsPerTargetRelative_plot: no visible global function definition
  for ‘par’
plotCountsPerTargetRelative_plot: no visible global function definition
  for ‘barplot’
plotCountsPerTargetRelative_plot: no visible global function definition
  for ‘rect’
plotCountsPerTargetRelative_plot: no visible global function definition
  for ‘lines’
plotCountsPerTargetRelative_plot: no visible global function definition
  for ‘text’
plotCountsPerTargetVcf_plot: no visible global function definition for
  ‘par’
plotCountsPerTargetVcf_plot: no visible global function definition for
  ‘barplot’
plotCountsPerTargetVcf_plot: no visible global function definition for
  ‘rect’
plotCountsPerTargetVcf_plot: no visible global function definition for
  ‘lines’
plotCountsPerTargetVcf_plot: no visible global function definition for
  ‘text’
plotCountsPerTarget_plot: no visible global function definition for
  ‘par’
plotCountsPerTarget_plot: no visible global function definition for
  ‘barplot’
plotCountsPerTarget_plot: no visible global function definition for
  ‘rect’
plotCountsPerTarget_plot: no visible global function definition for
  ‘lines’
plotCountsPerTarget_plot: no visible global function definition for
  ‘text’
processVcfFile: no visible global function definition for ‘read.table’
reportVariants: no visible global function definition for ‘write.table’
reportVariantsVcf: no visible global function definition for
  ‘write.table’
Undefined global functions or variables:
  barplot lines par path read.table rect text write.table
Consider adding
  importFrom("graphics", "barplot", "lines", "par", "rect", "text")
  importFrom("utils", "read.table", "write.table")
to your NAMESPACE file.
* checking Rd files ... OK
* checking Rd metadata ... OK
* checking Rd cross-references ... OK
* checking for missing documentation entries ... OK
* checking for code/documentation mismatches ... OK
* checking Rd \usage sections ... OK
* checking Rd contents ... OK
* checking for unstated dependencies in examples ... OK
* checking files in ‘vignettes’ ... OK
* checking examples ... OK
Examples with CPU (user + system) or elapsed time > 5s
                      user system elapsed
analyzeBasesPlotOnly 19.61  0.504  20.093
* checking for unstated dependencies in vignettes ... OK
* checking package vignettes ... OK
* checking re-building of vignette outputs ... OK
* checking PDF version of manual ... OK
* DONE

Status: 1 NOTE
See
  ‘/home/biocbuild/bbs-3.20-bioc/meat/BBCAnalyzer.Rcheck/00check.log’
for details.


Installation output

BBCAnalyzer.Rcheck/00install.out

##############################################################################
##############################################################################
###
### Running command:
###
###   /home/biocbuild/bbs-3.20-bioc/R/bin/R CMD INSTALL BBCAnalyzer
###
##############################################################################
##############################################################################


* installing to library ‘/home/biocbuild/bbs-3.20-bioc/R/site-library’
* installing *source* package ‘BBCAnalyzer’ ...
** using staged installation
** R
** inst
** byte-compile and prepare package for lazy loading
** help
*** installing help indices
** building package indices
** installing vignettes
** testing if installed package can be loaded from temporary location
** testing if installed package can be loaded from final location
** testing if installed package keeps a record of temporary installation path
* DONE (BBCAnalyzer)

Tests output


Example timings

BBCAnalyzer.Rcheck/BBCAnalyzer-Ex.timings

nameusersystemelapsed
BBCAnalyzer-package0.1810.0240.205
analyzeBases0.1450.0040.149
analyzeBasesPlotOnly19.610 0.50420.093