The requested URL /checkResults/devel/bioc-LATEST/annotationTools/nebbiolo2-checksrc.html was not found on this server.