Back to Multiple platform build/check report for BioC 3.18:   simplified   long
AB[C]DEFGHIJKLMNOPQRSTUVWXYZ

This page was generated on 2023-09-23 11:36:09 -0400 (Sat, 23 Sep 2023).

HostnameOSArch (*)R versionInstalled pkgs
nebbiolo2Linux (Ubuntu 22.04.2 LTS)x86_644.3.1 (2023-06-16) -- "Beagle Scouts" 4659
palomino4Windows Server 2022 Datacenterx644.3.1 (2023-06-16 ucrt) -- "Beagle Scouts" 4394
lconwaymacOS 12.6.5 Montereyx86_644.3.1 Patched (2023-06-17 r84564) -- "Beagle Scouts" 4408
kunpeng2Linux (openEuler 22.03 LTS-SP1)aarch644.3.1 (2023-06-16) -- "Beagle Scouts" 4397
Click on any hostname to see more info about the system (e.g. compilers)      (*) as reported by 'uname -p', except on Windows and Mac OS X

Package 476/2233HostnameOS / ArchINSTALLBUILDCHECKBUILD BIN
cyanoFilter 1.9.0  (landing page)
Oluwafemi Olusoji
Snapshot Date: 2023-09-22 14:05:07 -0400 (Fri, 22 Sep 2023)
git_url: https://git.bioconductor.org/packages/cyanoFilter
git_branch: devel
git_last_commit: 04d7e9f
git_last_commit_date: 2023-04-25 11:28:22 -0400 (Tue, 25 Apr 2023)
nebbiolo2Linux (Ubuntu 22.04.2 LTS) / x86_64  OK    OK    OK  UNNEEDED, same version is already published
palomino4Windows Server 2022 Datacenter / x64  OK    OK    OK    OK  UNNEEDED, same version is already published
lconwaymacOS 12.6.5 Monterey / x86_64  OK    OK    OK    OK  UNNEEDED, same version is already published
kunpeng2Linux (openEuler 22.03 LTS-SP1) / aarch64  OK    OK    OK  

CHECK results for cyanoFilter on nebbiolo2


To the developers/maintainers of the cyanoFilter package:
- Allow up to 24 hours (and sometimes 48 hours) for your latest push to git@git.bioconductor.org:packages/cyanoFilter.git to reflect on this report. See Troubleshooting Build Report for more information.
- Use the following Renviron settings to reproduce errors and warnings.
- If 'R CMD check' started to fail recently on the Linux builder(s) over a missing dependency, add the missing dependency to 'Suggests:' in your DESCRIPTION file. See Renviron.bioc for more information.

raw results


Summary

Package: cyanoFilter
Version: 1.9.0
Command: /home/biocbuild/bbs-3.18-bioc/R/bin/R CMD check --install=check:cyanoFilter.install-out.txt --library=/home/biocbuild/bbs-3.18-bioc/R/site-library --timings cyanoFilter_1.9.0.tar.gz
StartedAt: 2023-09-22 20:42:58 -0400 (Fri, 22 Sep 2023)
EndedAt: 2023-09-22 20:45:15 -0400 (Fri, 22 Sep 2023)
EllapsedTime: 136.9 seconds
RetCode: 0
Status:   OK  
CheckDir: cyanoFilter.Rcheck
Warnings: 0

Command output

##############################################################################
##############################################################################
###
### Running command:
###
###   /home/biocbuild/bbs-3.18-bioc/R/bin/R CMD check --install=check:cyanoFilter.install-out.txt --library=/home/biocbuild/bbs-3.18-bioc/R/site-library --timings cyanoFilter_1.9.0.tar.gz
###
##############################################################################
##############################################################################


* using log directory ‘/home/biocbuild/bbs-3.18-bioc/meat/cyanoFilter.Rcheck’
* using R version 4.3.1 (2023-06-16)
* using platform: x86_64-pc-linux-gnu (64-bit)
* R was compiled by
    gcc (Ubuntu 11.3.0-1ubuntu1~22.04.1) 11.3.0
    GNU Fortran (Ubuntu 11.3.0-1ubuntu1~22.04.1) 11.3.0
* running under: Ubuntu 22.04.3 LTS
* using session charset: UTF-8
* checking for file ‘cyanoFilter/DESCRIPTION’ ... OK
* checking extension type ... Package
* this is package ‘cyanoFilter’ version ‘1.9.0’
* package encoding: UTF-8
* checking package namespace information ... OK
* checking package dependencies ... OK
* checking if this is a source package ... OK
* checking if there is a namespace ... OK
* checking for hidden files and directories ... OK
* checking for portable file names ... OK
* checking for sufficient/correct file permissions ... OK
* checking whether package ‘cyanoFilter’ can be installed ... OK
* checking installed package size ... OK
* checking package directory ... OK
* checking ‘build’ directory ... OK
* checking DESCRIPTION meta-information ... OK
* checking top-level files ... OK
* checking for left-over files ... OK
* checking index information ... OK
* checking package subdirectories ... OK
* checking R files for non-ASCII characters ... OK
* checking R files for syntax errors ... OK
* checking whether the package can be loaded ... OK
* checking whether the package can be loaded with stated dependencies ... OK
* checking whether the package can be unloaded cleanly ... OK
* checking whether the namespace can be loaded with stated dependencies ... OK
* checking whether the namespace can be unloaded cleanly ... OK
* checking loading without being on the library search path ... OK
* checking dependencies in R code ... OK
* checking S3 generic/method consistency ... OK
* checking replacement functions ... OK
* checking foreign function calls ... OK
* checking R code for possible problems ... OK
* checking Rd files ... OK
* checking Rd metadata ... OK
* checking Rd cross-references ... OK
* checking for missing documentation entries ... OK
* checking for code/documentation mismatches ... OK
* checking Rd \usage sections ... OK
* checking Rd contents ... OK
* checking for unstated dependencies in examples ... OK
* checking files in ‘vignettes’ ... OK
* checking examples ... OK
Examples with CPU (user + system) or elapsed time > 5s
          user system elapsed
gateFunc 8.396  0.415   6.959
* checking for unstated dependencies in vignettes ... OK
* checking package vignettes in ‘inst/doc’ ... OK
* checking running R code from vignettes ...
  ‘cyanoFilter.Rmd’ using ‘UTF-8’... OK
 NONE
* checking re-building of vignette outputs ... OK
* checking PDF version of manual ... OK
* DONE

Status: OK


Installation output

cyanoFilter.Rcheck/00install.out

##############################################################################
##############################################################################
###
### Running command:
###
###   /home/biocbuild/bbs-3.18-bioc/R/bin/R CMD INSTALL cyanoFilter
###
##############################################################################
##############################################################################


* installing to library ‘/home/biocbuild/bbs-3.18-bioc/R/site-library’
* installing *source* package ‘cyanoFilter’ ...
** using staged installation
** R
** inst
** byte-compile and prepare package for lazy loading
** help
*** installing help indices
** building package indices
** installing vignettes
** testing if installed package can be loaded from temporary location
** testing if installed package can be loaded from final location
** testing if installed package keeps a record of temporary installation path
* DONE (cyanoFilter)

Tests output


Example timings

cyanoFilter.Rcheck/cyanoFilter-Ex.timings

nameusersystemelapsed
MarginEvents3.0240.1043.131
PhytoFilter0.5300.0270.557
PhytopFilter0.5550.0390.597
accTest0.2970.0120.309
accuracy0.3040.0240.328
cellmargin0.2660.0120.277
clusterExtract0.6660.0210.686
clusterExtractp0.7130.0160.729
debrisNc0.7520.1630.916
fullFlowframe-MarginEvents-method0.2710.0290.299
fullFlowframe-PhytopFilter-method0.5200.0110.531
fullFlowframe0.2910.0280.319
gateFunc8.3960.4156.959
ggpairsDens2.9990.2843.283
ggplotDens0.5190.0000.518
ggplotDens20.6860.0120.698
goodfcs0.0520.0000.053
is.DebrisFilter0.0010.0000.000
is.MarginEvents000
is.PhytopFilter000
is.flowFrame000
is.flowSet000
lnTrans0.1650.0000.165
newFlowframe0.1900.0120.203
nona0.0940.0080.102
noneg0.1360.0080.143
oneDgate0.1820.0120.194
pairsPlot1.8040.0481.854
pigmentGate0.2440.0160.260
reducedFlowframe-MarginEvents-method0.2510.0080.260
reducedFlowframe0.6970.0320.729
retain0.0150.0000.015
rowNumbers0.1760.0040.181
summaries-DebrisFilter-method0.2480.0040.252
summaries-MarginEvents-method0.2480.0000.249
summaries-PhytopFilter-method0.4890.0160.505
summaries0.2550.0080.263