Back to Multiple platform build/check report for BioC 3.17
ABCDEF[G]HIJKLMNOPQRSTUVWXYZ

This page was generated on 2022-12-05 11:04:37 -0500 (Mon, 05 Dec 2022).

HostnameOSArch (*)R versionInstalled pkgs
nebbiolo1Linux (Ubuntu 22.04.1 LTS)x86_64R Under development (unstable) (2022-11-30 r83393) -- "Unsuffered Consequences" 4277
palomino3Windows Server 2022 Datacenterx64R Under development (unstable) (2022-11-30 r83393 ucrt) -- "Unsuffered Consequences" 4193
merida1macOS 10.14.6 Mojavex86_64R Under development (unstable) (2022-11-30 r83393) -- "Unsuffered Consequences" 4236
Click on any hostname to see more info about the system (e.g. compilers)      (*) as reported by 'uname -p', except on Windows and Mac OS X

All results for package GenomicInteractions


To the developers/maintainers of the GenomicInteractions package:
- Please allow up to 24 hours (and sometimes 48 hours) for your latest push to git@git.bioconductor.org:packages/GenomicInteractions.git to
reflect on this report. See How and When does the builder pull? When will my changes propagate? for more information.
- Make sure to use the following settings in order to reproduce any error or warning you see on this page.

raw results

Package 776/2155HostnameOS / ArchINSTALLBUILDCHECKBUILD BIN
GenomicInteractions 1.33.0  (landing page)
Liz Ing-Simmons
Snapshot Date: 2022-12-04 14:00:12 -0500 (Sun, 04 Dec 2022)
git_url: https://git.bioconductor.org/packages/GenomicInteractions
git_branch: master
git_last_commit: 9a34ccf
git_last_commit_date: 2022-11-01 11:10:21 -0500 (Tue, 01 Nov 2022)
nebbiolo1Linux (Ubuntu 22.04.1 LTS) / x86_64  OK    OK    OK  UNNEEDED, same version is already published
palomino3Windows Server 2022 Datacenter / x64  OK    OK    OK    OK  NO, package depends on 'InteractionSet' which is not available
merida1macOS 10.14.6 Mojave / x86_64  OK    OK    OK    OK  NO, package depends on 'Rsamtools' which is not available

Results for Bioconductor software packages that depend directly on package GenomicInteractions

QUICK STATSOS / ArchINSTALLBUILDCHECKBUILD BIN
nebbiolo1Linux (Ubuntu 22.04.1 LTS) / x86_64
005
005
0005
palomino3Windows Server 2022 Datacenter / x64
005
005
0005
005
merida1macOS 10.14.6 Mojave / x86_64
005
005
0005
005
Package 1/5HostnameOS / ArchINSTALLBUILDCHECKBUILD BIN
CAGEfightR 1.19.0  (landing page)
Malte Thodberg
git_last_commit: 8b947db
git_last_commit_date: 2022-11-01 11:17:49 -0500
nebbiolo1Linux (Ubuntu 22.04.1 LTS) / x86_64  OK    OK    OK  UNNEEDED, same version is already published
palomino3Windows Server 2022 Datacenter / x64  OK    OK    OK    OK  NO, package depends on 'GenomicRanges' which is not available
merida1macOS 10.14.6 Mojave / x86_64  OK    OK    OK    OK  NO, package depends on 'rtracklayer' which is not available
Package 2/5HostnameOS / ArchINSTALLBUILDCHECKBUILD BIN
extraChIPs 1.3.3  (landing page)
Stephen Pederson
git_last_commit: 45fb0f3
git_last_commit_date: 2022-11-15 10:45:22 -0500
nebbiolo1Linux (Ubuntu 22.04.1 LTS) / x86_64  OK    OK    OK  UNNEEDED, same version is already published
palomino3Windows Server 2022 Datacenter / x64  OK    OK    OK    OK  NO, package depends on 'GenomicRanges' which is not available
merida1macOS 10.14.6 Mojave / x86_64  OK    OK    OK    OK  NO, package depends on 'BiocParallel' which is not available
Package 3/5HostnameOS / ArchINSTALLBUILDCHECKBUILD BIN
HiCDCPlus 1.7.0  (landing page)
Merve Sahin
git_last_commit: 2610977
git_last_commit_date: 2022-11-01 11:24:01 -0500
nebbiolo1Linux (Ubuntu 22.04.1 LTS) / x86_64  OK    OK    OK  UNNEEDED, same version is already published
palomino3Windows Server 2022 Datacenter / x64  OK    OK    OK    OK  NO, package depends on 'InteractionSet' which is not available
merida1macOS 10.14.6 Mojave / x86_64  OK    OK    OK    OK  NO, package depends on 'GenomicInteractions' which is not available
Package 4/5HostnameOS / ArchINSTALLBUILDCHECKBUILD BIN
HiContacts 1.1.0  (landing page)
Jacques Serizay
git_last_commit: 042f21c
git_last_commit_date: 2022-11-01 11:27:34 -0500
nebbiolo1Linux (Ubuntu 22.04.1 LTS) / x86_64  OK    OK    OK  UNNEEDED, same version is already published
palomino3Windows Server 2022 Datacenter / x64  OK    OK    OK    OK  NO, package depends on 'InteractionSet' which is not available
merida1macOS 10.14.6 Mojave / x86_64  OK    OK    OK    OK  NO, package depends on 'GenomicInteractions' which is not available
Package 5/5HostnameOS / ArchINSTALLBUILDCHECKBUILD BIN
spatzie 1.5.0  (landing page)
Jennifer Hammelman
git_last_commit: e8d94fb
git_last_commit_date: 2022-11-01 11:25:25 -0500
nebbiolo1Linux (Ubuntu 22.04.1 LTS) / x86_64  OK    OK    OK  UNNEEDED, same version is already published
palomino3Windows Server 2022 Datacenter / x64  OK    OK    OK    OK  NO, package depends on 'BSgenome' which is not available
merida1macOS 10.14.6 Mojave / x86_64  OK    OK    OK    OK  NO, package depends on 'BSgenome' which is not available