Back to Multiple platform build/check report for BioC 3.14
ABCDEFGHIJKLMNOPQRSTUVWX[Y]Z

This page was generated on 2021-10-21 12:04:11 -0400 (Thu, 21 Oct 2021).

All results for package yarn

To the developers/maintainers of the yarn package:
- Please allow up to 24 hours (and sometimes 48 hours) for your latest push to git@git.bioconductor.org:packages/yarn.git to
reflect on this report. See How and When does the builder pull? When will my changes propagate? here for more information.
- Make sure to use the following settings in order to reproduce any error or warning you see on this page.

raw results

Package 2071/2075HostnameOS / ArchINSTALLBUILDCHECKBUILD BIN
yarn 1.19.0  (landing page)
Joseph N Paulson
Snapshot Date: 2021-10-20 14:50:05 -0400 (Wed, 20 Oct 2021)
git_url: https://git.bioconductor.org/packages/yarn
git_branch: master
git_last_commit: b67c535
git_last_commit_date: 2021-05-19 12:24:27 -0400 (Wed, 19 May 2021)
nebbiolo2Linux (Ubuntu 20.04.2 LTS) / x86_64  OK    OK    OK  UNNEEDED, same version is already published
riesling1Windows Server 2019 Standard / x64  OK    OK    OK    OK  UNNEEDED, same version is already published
merida1macOS 10.14.6 Mojave / x86_64  OK    OK    OK    NA