Back to Build/check report for BioC 3.13
A[B]CDEFGHIJKLMNOPQRSTUVWXYZ

Build/check report for BioC 3.13

Results for Basic4Cseq

This page was generated on 2020-10-30 10:53:24 -0400 (Fri, 30 Oct 2020).

Package 116/1906HostnameOS / ArchINSTALLBUILDCHECKBUILD BIN
Basic4Cseq 1.27.0
Carolin Walter
Snapshot Date: 2020-10-29 14:40:27 -0400 (Thu, 29 Oct 2020)
URL: https://git.bioconductor.org/packages/Basic4Cseq
Branch: master
Last Commit: 20a204e
Last Changed Date: 2020-10-27 10:55:12 -0400 (Tue, 27 Oct 2020)
malbec2 Linux (Ubuntu 18.04.4 LTS) / x86_64  OK  OK  OK UNNEEDED, same version exists in internal repository