Back to Multiple platform build/check report for BioC 3.11
ABCDEFGHIJKLMN[O]PQRSTUVWXYZ

Multiple platform build/check report for BioC 3.11

Results for openPrimeR

This page was generated on 2020-04-01 13:09:56 -0400 (Wed, 01 Apr 2020).

Package 1208/1855HostnameOS / ArchINSTALLBUILDCHECKBUILD BIN
openPrimeR 1.9.3
Matthias Döring
Snapshot Date: 2020-03-31 16:45:16 -0400 (Tue, 31 Mar 2020)
URL: https://git.bioconductor.org/packages/openPrimeR
Branch: master
Last Commit: 5e4ef9e
Last Changed Date: 2020-03-29 12:02:47 -0400 (Sun, 29 Mar 2020)
malbec2 Linux (Ubuntu 18.04.4 LTS) / x86_64  OK  OK  OK UNNEEDED, same version exists in internal repository
tokay2 Windows Server 2012 R2 Standard / x64  OK  OK  OK  OK UNNEEDED, same version exists in internal repository