Back to Multiple platform build/check report for BioC 3.14
ABCDEFGHIJKLMNOPQR[S]TUVWXYZ

This page was generated on 2021-10-23 14:06:14 -0400 (Sat, 23 Oct 2021).

CHECK results for splatter on nebbiolo2

To the developers/maintainers of the splatter package:
- Please allow up to 24 hours (and sometimes 48 hours) for your latest push to git@git.bioconductor.org:packages/splatter.git to
reflect on this report. See How and When does the builder pull? When will my changes propagate? here for more information.
- Make sure to use the following settings in order to reproduce any error or warning you see on this page.

raw results

Package 1861/2083HostnameOS / ArchINSTALLBUILDCHECKBUILD BIN
splatter 1.17.4  (landing page)
Luke Zappia
Snapshot Date: 2021-10-22 14:50:11 -0400 (Fri, 22 Oct 2021)
git_url: https://git.bioconductor.org/packages/splatter
git_branch: master
git_last_commit: 58bb6c9
git_last_commit_date: 2021-10-22 04:10:18 -0400 (Fri, 22 Oct 2021)
nebbiolo2Linux (Ubuntu 20.04.2 LTS) / x86_64  OK    OK    OK  YES
riesling1Windows Server 2019 Standard / x64  OK    OK    OK    OK  YES
merida1macOS 10.14.6 Mojave / x86_64  OK    OK    OK    OK  YES

Summary

Package: splatter
Version: 1.17.4
Command: /home/biocbuild/bbs-3.14-bioc/R/bin/R CMD check --install=check:splatter.install-out.txt --library=/home/biocbuild/bbs-3.14-bioc/R/library --no-vignettes --timings splatter_1.17.4.tar.gz
StartedAt: 2021-10-22 22:06:19 -0400 (Fri, 22 Oct 2021)
EndedAt: 2021-10-22 22:13:12 -0400 (Fri, 22 Oct 2021)
EllapsedTime: 412.5 seconds
RetCode: 0
Status:   OK  
CheckDir: splatter.Rcheck
Warnings: 0

Command output

##############################################################################
##############################################################################
###
### Running command:
###
###   /home/biocbuild/bbs-3.14-bioc/R/bin/R CMD check --install=check:splatter.install-out.txt --library=/home/biocbuild/bbs-3.14-bioc/R/library --no-vignettes --timings splatter_1.17.4.tar.gz
###
##############################################################################
##############################################################################


* using log directory ‘/home/biocbuild/bbs-3.14-bioc/meat/splatter.Rcheck’
* using R version 4.1.1 (2021-08-10)
* using platform: x86_64-pc-linux-gnu (64-bit)
* using session charset: UTF-8
* using option ‘--no-vignettes’
* checking for file ‘splatter/DESCRIPTION’ ... OK
* checking extension type ... Package
* this is package ‘splatter’ version ‘1.17.4’
* package encoding: UTF-8
* checking package namespace information ... OK
* checking package dependencies ... OK
* checking if this is a source package ... OK
* checking if there is a namespace ... OK
* checking for hidden files and directories ... OK
* checking for portable file names ... OK
* checking for sufficient/correct file permissions ... OK
* checking whether package ‘splatter’ can be installed ... OK
* checking installed package size ... OK
* checking package directory ... OK
* checking ‘build’ directory ... OK
* checking DESCRIPTION meta-information ... OK
* checking top-level files ... OK
* checking for left-over files ... OK
* checking index information ... OK
* checking package subdirectories ... OK
* checking R files for non-ASCII characters ... OK
* checking R files for syntax errors ... OK
* checking whether the package can be loaded ... OK
* checking whether the package can be loaded with stated dependencies ... OK
* checking whether the package can be unloaded cleanly ... OK
* checking whether the namespace can be loaded with stated dependencies ... OK
* checking whether the namespace can be unloaded cleanly ... OK
* checking dependencies in R code ... OK
* checking S3 generic/method consistency ... OK
* checking replacement functions ... OK
* checking foreign function calls ... OK
* checking R code for possible problems ... OK
* checking Rd files ... OK
* checking Rd metadata ... OK
* checking Rd cross-references ... OK
* checking for missing documentation entries ... OK
* checking for code/documentation mismatches ... OK
* checking Rd \usage sections ... OK
* checking Rd contents ... OK
* checking for unstated dependencies in examples ... OK
* checking files in ‘vignettes’ ... OK
* checking examples ... OK
Examples with CPU (user + system) or elapsed time > 5s
               user system elapsed
scDDEstimate 36.808  0.152  36.977
* checking for unstated dependencies in ‘tests’ ... OK
* checking tests ...
  Running ‘spelling.R’
  Running ‘testthat.R’
 OK
* checking for unstated dependencies in vignettes ... OK
* checking package vignettes in ‘inst/doc’ ... OK
* checking running R code from vignettes ... SKIPPED
* checking re-building of vignette outputs ... SKIPPED
* checking PDF version of manual ... OK
* DONE

Status: OK


Installation output

splatter.Rcheck/00install.out

##############################################################################
##############################################################################
###
### Running command:
###
###   /home/biocbuild/bbs-3.14-bioc/R/bin/R CMD INSTALL splatter
###
##############################################################################
##############################################################################


* installing to library ‘/home/biocbuild/bbs-3.14-bioc/R/library’
* installing *source* package ‘splatter’ ...
** using staged installation
** R
** inst
** byte-compile and prepare package for lazy loading
** help
*** installing help indices
** building package indices
** installing vignettes
** testing if installed package can be loaded from temporary location
** testing if installed package can be loaded from final location
** testing if installed package keeps a record of temporary installation path
* DONE (splatter)

Tests output

splatter.Rcheck/tests/spelling.Rout


R version 4.1.1 (2021-08-10) -- "Kick Things"
Copyright (C) 2021 The R Foundation for Statistical Computing
Platform: x86_64-pc-linux-gnu (64-bit)

R is free software and comes with ABSOLUTELY NO WARRANTY.
You are welcome to redistribute it under certain conditions.
Type 'license()' or 'licence()' for distribution details.

R is a collaborative project with many contributors.
Type 'contributors()' for more information and
'citation()' on how to cite R or R packages in publications.

Type 'demo()' for some demos, 'help()' for on-line help, or
'help.start()' for an HTML browser interface to help.
Type 'q()' to quit R.

> if(requireNamespace('spelling', quietly = TRUE))
+   spelling::spell_check_test(vignettes = TRUE, error = FALSE,
+                              skip_on_cran = TRUE)
NULL
> 
> proc.time()
   user  system elapsed 
  0.185   0.040   0.211 

splatter.Rcheck/tests/testthat.Rout


R version 4.1.1 (2021-08-10) -- "Kick Things"
Copyright (C) 2021 The R Foundation for Statistical Computing
Platform: x86_64-pc-linux-gnu (64-bit)

R is free software and comes with ABSOLUTELY NO WARRANTY.
You are welcome to redistribute it under certain conditions.
Type 'license()' or 'licence()' for distribution details.

R is a collaborative project with many contributors.
Type 'contributors()' for more information and
'citation()' on how to cite R or R packages in publications.

Type 'demo()' for some demos, 'help()' for on-line help, or
'help.start()' for an HTML browser interface to help.
Type 'q()' to quit R.

> # setting R_TESTS to empty string because of
> # https://github.com/hadley/testthat/issues/144
> # revert this when that issue in R is fixed.
> Sys.setenv("R_TESTS" = "")
> 
> library(testthat)
> library(splatter)
Loading required package: SingleCellExperiment
Loading required package: SummarizedExperiment
Loading required package: MatrixGenerics
Loading required package: matrixStats

Attaching package: 'MatrixGenerics'

The following objects are masked from 'package:matrixStats':

    colAlls, colAnyNAs, colAnys, colAvgsPerRowSet, colCollapse,
    colCounts, colCummaxs, colCummins, colCumprods, colCumsums,
    colDiffs, colIQRDiffs, colIQRs, colLogSumExps, colMadDiffs,
    colMads, colMaxs, colMeans2, colMedians, colMins, colOrderStats,
    colProds, colQuantiles, colRanges, colRanks, colSdDiffs, colSds,
    colSums2, colTabulates, colVarDiffs, colVars, colWeightedMads,
    colWeightedMeans, colWeightedMedians, colWeightedSds,
    colWeightedVars, rowAlls, rowAnyNAs, rowAnys, rowAvgsPerColSet,
    rowCollapse, rowCounts, rowCummaxs, rowCummins, rowCumprods,
    rowCumsums, rowDiffs, rowIQRDiffs, rowIQRs, rowLogSumExps,
    rowMadDiffs, rowMads, rowMaxs, rowMeans2, rowMedians, rowMins,
    rowOrderStats, rowProds, rowQuantiles, rowRanges, rowRanks,
    rowSdDiffs, rowSds, rowSums2, rowTabulates, rowVarDiffs, rowVars,
    rowWeightedMads, rowWeightedMeans, rowWeightedMedians,
    rowWeightedSds, rowWeightedVars

Loading required package: GenomicRanges
Loading required package: stats4
Loading required package: BiocGenerics

Attaching package: 'BiocGenerics'

The following objects are masked from 'package:stats':

    IQR, mad, sd, var, xtabs

The following objects are masked from 'package:base':

    Filter, Find, Map, Position, Reduce, anyDuplicated, append,
    as.data.frame, basename, cbind, colnames, dirname, do.call,
    duplicated, eval, evalq, get, grep, grepl, intersect, is.unsorted,
    lapply, mapply, match, mget, order, paste, pmax, pmax.int, pmin,
    pmin.int, rank, rbind, rownames, sapply, setdiff, sort, table,
    tapply, union, unique, unsplit, which.max, which.min

Loading required package: S4Vectors

Attaching package: 'S4Vectors'

The following objects are masked from 'package:base':

    I, expand.grid, unname

Loading required package: IRanges
Loading required package: GenomeInfoDb
Loading required package: Biobase
Welcome to Bioconductor

    Vignettes contain introductory material; view with
    'browseVignettes()'. To cite Bioconductor, see
    'citation("Biobase")', and for packages 'citation("pkgname")'.


Attaching package: 'Biobase'

The following object is masked from 'package:MatrixGenerics':

    rowMedians

The following objects are masked from 'package:matrixStats':

    anyMissing, rowMedians

> 
> test_check("splatter")
-----------------------------------------------------
MCMC sampler has been started: 20000 iterations to go.
-----------------------------------------------------
-----------------------------------------------------
End of Burn-in period.
-----------------------------------------------------
 
-----------------------------------------------------
-----------------------------------------------------
All 20000 MCMC iterations have been completed.
-----------------------------------------------------
-----------------------------------------------------
 
-----------------------------------------------------
Please see below a summary of the overall acceptance rates.
-----------------------------------------------------
 
Minimum acceptance rate among mu[i]'s: 0.318933
Average acceptance rate among mu[i]'s: 0.442449
Maximum acceptance rate among mu[i]'s: 0.642267
 
 
Minimum acceptance rate among delta[i]'s: 0.3818
Average acceptance rate among delta[i]'s: 0.450307
Maximum acceptance rate among delta[i]'s: 0.525867
 
 
Acceptance rate for phi (joint): 0.407
 
 
Minimum acceptance rate among nu[j]'s: 0.392933
Average acceptance rate among nu[j]'s: 0.446416
Maximum acceptance rate among nu[j]'s: 0.5014
 
 
Minimum acceptance rate among theta[k]'s: 0.422333
Average acceptance rate among theta[k]'s: 0.422333
Maximum acceptance rate among theta[k]'s: 0.422333
 
-----------------------------------------------------
 
-----------------------------------------------------
MCMC sampler has been started: 20000 iterations to go.
-----------------------------------------------------
-----------------------------------------------------
End of Burn-in period.
-----------------------------------------------------
 
-----------------------------------------------------
-----------------------------------------------------
All 20000 MCMC iterations have been completed.
-----------------------------------------------------
-----------------------------------------------------
 
-----------------------------------------------------
Please see below a summary of the overall acceptance rates.
-----------------------------------------------------
 
Minimum acceptance rate among mu[i]'s: 0.3176
Average acceptance rate among mu[i]'s: 0.459391
Maximum acceptance rate among mu[i]'s: 0.6118
 
 
Minimum acceptance rate among delta[i]'s: 0.381067
Average acceptance rate among delta[i]'s: 0.448929
Maximum acceptance rate among delta[i]'s: 0.522067
 
 
Minimum acceptance rate among nu[jk]'s: 0.376667
Average acceptance rate among nu[jk]'s: 0.4292
Maximum acceptance rate among nu[jk]'s: 0.470267
 
 
Minimum acceptance rate among theta[k]'s: 0.433533
Average acceptance rate among theta[k]'s: 0.4432
Maximum acceptance rate among theta[k]'s: 0.452867
 
 
-----------------------------------------------------
 
[ FAIL 0 | WARN 7 | SKIP 0 | PASS 171 ]
> 
> proc.time()
   user  system elapsed 
162.788   3.152 165.921 

Example timings

splatter.Rcheck/splatter-Ex.timings

nameusersystemelapsed
BASiCSEstimate000
BASiCSSimulate3.2750.1403.415
addGeneLengths0.4670.0160.483
compareSCEs3.3730.1153.489
diffSCEs3.4240.0003.425
getParam000
getParams0.0010.0000.001
kersplatEstimate4.6660.0444.710
kersplatSample1.8830.0361.920
kersplatSetup0.8930.0150.909
kersplatSimulate000
listSims0.0150.0000.015
lun2Estimate000
lun2Simulate0.4020.0280.430
lunEstimate0.6170.0000.617
lunSimulate0.3720.0280.400
makeCompPanel000
makeDiffPanel000
makeOverallPanel000
mfaEstimate0.0840.0000.084
mfaSimulate0.4780.0230.501
minimiseSCE0.9530.0651.017
mockBulkMatrix000
mockBulkeQTL3.7660.0593.826
mockEmpiricalSet4.0190.0804.099
mockGFF0.0030.0040.007
mockVCF0.1220.0150.138
newParams0.0010.0010.001
phenoEstimate0.7110.0920.803
phenoSimulate0.7090.0670.778
scDDEstimate36.808 0.15236.977
scDDSimulate000
setParam0.0070.0000.007
setParams0.0160.0000.016
simpleEstimate0.6040.0000.605
simpleSimulate0.5800.0040.583
sparseDCEstimate0.9100.0080.919
sparseDCSimulate0.5390.0320.572
splatEstimate4.9180.0404.959
splatPopEstimate4.0890.0684.158
splatPopQuantNorm0.0230.0000.023
splatPopSimulate000
splatPopSimulateMeans000
splatPopSimulateSC000
splatSimulate0.8840.0040.889
summariseDiff3.3440.0163.359
zinbEstimate2.1480.0202.168
zinbSimulate0.2210.0000.221