Back to Build/check report for BioC 3.15
ABCDE[F]GHIJKLMNOPQRSTUVWXYZ

This page was generated on 2021-12-04 12:32:08 -0500 (Sat, 04 Dec 2021).

All results for package flowTrans

To the developers/maintainers of the flowTrans package:
- Please allow up to 24 hours (and sometimes 48 hours) for your latest push to git@git.bioconductor.org:packages/flowTrans.git to
reflect on this report. See How and When does the builder pull? When will my changes propagate? here for more information.
- Make sure to use the following settings in order to reproduce any error or warning you see on this page.

raw results

Package 667/2068HostnameOS / ArchINSTALLBUILDCHECKBUILD BIN
flowTrans 1.47.0  (landing page)
Greg Finak
Snapshot Date: 2021-12-03 13:55:11 -0500 (Fri, 03 Dec 2021)
git_url: https://git.bioconductor.org/packages/flowTrans
git_branch: master
git_last_commit: 8dffd50
git_last_commit_date: 2021-10-26 11:56:10 -0500 (Tue, 26 Oct 2021)
nebbiolo1Linux (Ubuntu 20.04.3 LTS) / x86_64  OK    OK    OK  UNNEEDED, same version is already published