Back to Build/check report for BioC 3.15
ABCDEFGHIJKLMNOPQR[S]TUVWXYZ

This page was generated on 2021-12-04 12:32:11 -0500 (Sat, 04 Dec 2021).

All results for package scCB2

To the developers/maintainers of the scCB2 package:
- Please allow up to 24 hours (and sometimes 48 hours) for your latest push to git@git.bioconductor.org:packages/scCB2.git to
reflect on this report. See How and When does the builder pull? When will my changes propagate? here for more information.
- Make sure to use the following settings in order to reproduce any error or warning you see on this page.

raw results

Package 1702/2068HostnameOS / ArchINSTALLBUILDCHECKBUILD BIN
scCB2 1.5.0  (landing page)
Zijian Ni
Snapshot Date: 2021-12-03 13:55:11 -0500 (Fri, 03 Dec 2021)
git_url: https://git.bioconductor.org/packages/scCB2
git_branch: master
git_last_commit: ce946a9
git_last_commit_date: 2021-10-26 13:00:57 -0500 (Tue, 26 Oct 2021)
nebbiolo1Linux (Ubuntu 20.04.3 LTS) / x86_64  OK    OK    OK  UNNEEDED, same version is already published