Back to Multiple platform build/check report for BioC 3.16
ABCDEFGHIJKLMNOPQRS[T]UVWXYZ

This page was generated on 2022-08-16 11:06:01 -0400 (Tue, 16 Aug 2022).

HostnameOSArch (*)R versionInstalled pkgs
nebbiolo2Linux (Ubuntu 20.04.4 LTS)x86_644.2.1 (2022-06-23) -- "Funny-Looking Kid" 4378
palomino4Windows Server 2022 Datacenterx644.2.1 (2022-06-23 ucrt) -- "Funny-Looking Kid" 4161
lconwaymacOS 12.2.1 Montereyx86_644.2.1 Patched (2022-07-09 r82577) -- "Funny-Looking Kid" 4169
Click on any hostname to see more info about the system (e.g. compilers)      (*) as reported by 'uname -p', except on Windows and Mac OS X

CHECK results for tradeSeq on nebbiolo2


To the developers/maintainers of the tradeSeq package:
- Please allow up to 24 hours (and sometimes 48 hours) for your latest push to git@git.bioconductor.org:packages/tradeSeq.git to
reflect on this report. See How and When does the builder pull? When will my changes propagate? for more information.
- Make sure to use the following settings in order to reproduce any error or warning you see on this page.

raw results

Package 2033/2140HostnameOS / ArchINSTALLBUILDCHECKBUILD BIN
tradeSeq 1.11.0  (landing page)
Hector Roux de Bezieux
Snapshot Date: 2022-08-15 14:00:06 -0400 (Mon, 15 Aug 2022)
git_url: https://git.bioconductor.org/packages/tradeSeq
git_branch: master
git_last_commit: 9175407
git_last_commit_date: 2022-04-26 12:01:10 -0400 (Tue, 26 Apr 2022)
nebbiolo2Linux (Ubuntu 20.04.4 LTS) / x86_64  OK    OK    OK  UNNEEDED, same version is already published
palomino4Windows Server 2022 Datacenter / x64  OK    OK    OK    OK  UNNEEDED, same version is already published
lconwaymacOS 12.2.1 Monterey / x86_64  OK    OK    OK    OK  NO, package depends on 'slingshot' which is not available

Summary

Package: tradeSeq
Version: 1.11.0
Command: /home/biocbuild/bbs-3.16-bioc/R/bin/R CMD check --install=check:tradeSeq.install-out.txt --library=/home/biocbuild/bbs-3.16-bioc/R/library --no-vignettes --timings tradeSeq_1.11.0.tar.gz
StartedAt: 2022-08-15 22:15:22 -0400 (Mon, 15 Aug 2022)
EndedAt: 2022-08-15 22:34:05 -0400 (Mon, 15 Aug 2022)
EllapsedTime: 1123.1 seconds
RetCode: 0
Status:   OK  
CheckDir: tradeSeq.Rcheck
Warnings: 0

Command output

##############################################################################
##############################################################################
###
### Running command:
###
###   /home/biocbuild/bbs-3.16-bioc/R/bin/R CMD check --install=check:tradeSeq.install-out.txt --library=/home/biocbuild/bbs-3.16-bioc/R/library --no-vignettes --timings tradeSeq_1.11.0.tar.gz
###
##############################################################################
##############################################################################


* using log directory ‘/home/biocbuild/bbs-3.16-bioc/meat/tradeSeq.Rcheck’
* using R version 4.2.1 (2022-06-23)
* using platform: x86_64-pc-linux-gnu (64-bit)
* using session charset: UTF-8
* using option ‘--no-vignettes’
* checking for file ‘tradeSeq/DESCRIPTION’ ... OK
* checking extension type ... Package
* this is package ‘tradeSeq’ version ‘1.11.0’
* package encoding: UTF-8
* checking package namespace information ... OK
* checking package dependencies ... OK
* checking if this is a source package ... OK
* checking if there is a namespace ... OK
* checking for hidden files and directories ... OK
* checking for portable file names ... OK
* checking for sufficient/correct file permissions ... OK
* checking whether package ‘tradeSeq’ can be installed ... OK
* checking installed package size ... OK
* checking package directory ... OK
* checking ‘build’ directory ... OK
* checking DESCRIPTION meta-information ... OK
* checking top-level files ... OK
* checking for left-over files ... OK
* checking index information ... OK
* checking package subdirectories ... OK
* checking R files for non-ASCII characters ... OK
* checking R files for syntax errors ... OK
* checking whether the package can be loaded ... OK
* checking whether the package can be loaded with stated dependencies ... OK
* checking whether the package can be unloaded cleanly ... OK
* checking whether the namespace can be loaded with stated dependencies ... OK
* checking whether the namespace can be unloaded cleanly ... OK
* checking dependencies in R code ... NOTE
Namespaces in Imports field not imported from:
  ‘Biobase’ ‘igraph’
  All declared Imports should be used.
* checking S3 generic/method consistency ... OK
* checking replacement functions ... OK
* checking foreign function calls ... OK
* checking R code for possible problems ... NOTE
.earlyDETest: no visible binding for global variable ‘X1’
.earlyDETest: no visible binding for global variable ‘X2’
.findKnots: no visible binding for global variable ‘t1’
.findKnots: no visible binding for global variable ‘l1’
.plotGeneCount: no visible binding for global variable ‘dim1’
.plotGeneCount: no visible binding for global variable ‘dim2’
.plotSmoothers: no visible binding for global variable ‘time’
.plotSmoothers: no visible binding for global variable ‘gene_count’
.plotSmoothers: no visible binding for global variable ‘lineage’
.plotSmoothers_conditions: no visible binding for global variable
  ‘time’
.plotSmoothers_conditions: no visible binding for global variable
  ‘gene_count’
.plotSmoothers_conditions: no visible binding for global variable
  ‘lineage’
.plotSmoothers_conditions: no visible binding for global variable
  ‘pCol’
.plotSmoothers_sce: no visible binding for global variable ‘time’
.plotSmoothers_sce: no visible binding for global variable ‘gene_count’
.plotSmoothers_sce: no visible binding for global variable ‘lineage’
.plotSmoothers_sce: no visible binding for global variable ‘pCol’
Undefined global functions or variables:
  X1 X2 dim1 dim2 gene_count l1 lineage pCol t1 time
Consider adding
  importFrom("stats", "time")
to your NAMESPACE file.
* checking Rd files ... OK
* checking Rd metadata ... OK
* checking Rd cross-references ... OK
* checking for missing documentation entries ... OK
* checking for code/documentation mismatches ... OK
* checking Rd \usage sections ... OK
* checking Rd contents ... OK
* checking for unstated dependencies in examples ... OK
* checking contents of ‘data’ directory ... OK
* checking data for non-ASCII characters ... OK
* checking data for ASCII and uncompressed saves ... OK
* checking files in ‘vignettes’ ... OK
* checking examples ... OK
Examples with CPU (user + system) or elapsed time > 5s
                          user system elapsed
conditionTest           99.300  1.480 106.406
associationTest         55.241  1.145  68.655
plotSmoothers           41.924  0.276  42.200
fitGAM                  38.785  0.332  39.118
plotGeneCount           35.648  0.196  35.844
evaluateK               19.366  0.172  19.539
plot_evalutateK_results 19.275  0.104  19.381
* checking for unstated dependencies in ‘tests’ ... OK
* checking tests ...
  Running ‘testthat.R’
 OK
* checking for unstated dependencies in vignettes ... OK
* checking package vignettes in ‘inst/doc’ ... OK
* checking running R code from vignettes ... SKIPPED
* checking re-building of vignette outputs ... SKIPPED
* checking PDF version of manual ... OK
* DONE

Status: 2 NOTEs
See
  ‘/home/biocbuild/bbs-3.16-bioc/meat/tradeSeq.Rcheck/00check.log’
for details.



Installation output

tradeSeq.Rcheck/00install.out

##############################################################################
##############################################################################
###
### Running command:
###
###   /home/biocbuild/bbs-3.16-bioc/R/bin/R CMD INSTALL tradeSeq
###
##############################################################################
##############################################################################


* installing to library ‘/home/biocbuild/bbs-3.16-bioc/R/library’
* installing *source* package ‘tradeSeq’ ...
** using staged installation
** R
** data
** inst
** byte-compile and prepare package for lazy loading
** help
*** installing help indices
** building package indices
** installing vignettes
** testing if installed package can be loaded from temporary location
** testing if installed package can be loaded from final location
** testing if installed package keeps a record of temporary installation path
* DONE (tradeSeq)

Tests output

tradeSeq.Rcheck/tests/testthat.Rout


R version 4.2.1 (2022-06-23) -- "Funny-Looking Kid"
Copyright (C) 2022 The R Foundation for Statistical Computing
Platform: x86_64-pc-linux-gnu (64-bit)

R is free software and comes with ABSOLUTELY NO WARRANTY.
You are welcome to redistribute it under certain conditions.
Type 'license()' or 'licence()' for distribution details.

R is a collaborative project with many contributors.
Type 'contributors()' for more information and
'citation()' on how to cite R or R packages in publications.

Type 'demo()' for some demos, 'help()' for on-line help, or
'help.start()' for an HTML browser interface to help.
Type 'q()' to quit R.

> library(testthat)
> library(tradeSeq)
> library(SingleCellExperiment)
Loading required package: SummarizedExperiment
Loading required package: MatrixGenerics
Loading required package: matrixStats

Attaching package: 'MatrixGenerics'

The following objects are masked from 'package:matrixStats':

    colAlls, colAnyNAs, colAnys, colAvgsPerRowSet, colCollapse,
    colCounts, colCummaxs, colCummins, colCumprods, colCumsums,
    colDiffs, colIQRDiffs, colIQRs, colLogSumExps, colMadDiffs,
    colMads, colMaxs, colMeans2, colMedians, colMins, colOrderStats,
    colProds, colQuantiles, colRanges, colRanks, colSdDiffs, colSds,
    colSums2, colTabulates, colVarDiffs, colVars, colWeightedMads,
    colWeightedMeans, colWeightedMedians, colWeightedSds,
    colWeightedVars, rowAlls, rowAnyNAs, rowAnys, rowAvgsPerColSet,
    rowCollapse, rowCounts, rowCummaxs, rowCummins, rowCumprods,
    rowCumsums, rowDiffs, rowIQRDiffs, rowIQRs, rowLogSumExps,
    rowMadDiffs, rowMads, rowMaxs, rowMeans2, rowMedians, rowMins,
    rowOrderStats, rowProds, rowQuantiles, rowRanges, rowRanks,
    rowSdDiffs, rowSds, rowSums2, rowTabulates, rowVarDiffs, rowVars,
    rowWeightedMads, rowWeightedMeans, rowWeightedMedians,
    rowWeightedSds, rowWeightedVars

Loading required package: GenomicRanges
Loading required package: stats4
Loading required package: BiocGenerics

Attaching package: 'BiocGenerics'

The following objects are masked from 'package:stats':

    IQR, mad, sd, var, xtabs

The following objects are masked from 'package:base':

    Filter, Find, Map, Position, Reduce, anyDuplicated, append,
    as.data.frame, basename, cbind, colnames, dirname, do.call,
    duplicated, eval, evalq, get, grep, grepl, intersect, is.unsorted,
    lapply, mapply, match, mget, order, paste, pmax, pmax.int, pmin,
    pmin.int, rank, rbind, rownames, sapply, setdiff, sort, table,
    tapply, union, unique, unsplit, which.max, which.min

Loading required package: S4Vectors

Attaching package: 'S4Vectors'

The following objects are masked from 'package:base':

    I, expand.grid, unname

Loading required package: IRanges
Loading required package: GenomeInfoDb
Loading required package: Biobase
Welcome to Bioconductor

    Vignettes contain introductory material; view with
    'browseVignettes()'. To cite Bioconductor, see
    'citation("Biobase")', and for packages 'citation("pkgname")'.


Attaching package: 'Biobase'

The following object is masked from 'package:MatrixGenerics':

    rowMedians

The following objects are masked from 'package:matrixStats':

    anyMissing, rowMedians

> library(slingshot)
Loading required package: princurve
Loading required package: TrajectoryUtils
> 
> test_check("tradeSeq")
2 parameter combinations, 2 use sequential method, 2 use subsampling method
Running Clustering on Parameter Combinations...
done.
2 parameter combinations, 2 use sequential method, 2 use subsampling method
Running Clustering on Parameter Combinations...
done.
2 parameter combinations, 2 use sequential method, 2 use subsampling method
Running Clustering on Parameter Combinations...
done.
2 parameter combinations, 2 use sequential method, 2 use subsampling method
Running Clustering on Parameter Combinations...
done.
2 parameter combinations, 2 use sequential method, 2 use subsampling method
Running Clustering on Parameter Combinations...
done.
2 parameter combinations, 2 use sequential method, 2 use subsampling method
Running Clustering on Parameter Combinations...
done.
[ FAIL 0 | WARN 0 | SKIP 0 | PASS 208 ]
> 
> proc.time()
   user  system elapsed 
621.128   3.656 624.767 

Example timings

tradeSeq.Rcheck/tradeSeq-Ex.timings

nameusersystemelapsed
associationTest55.241 1.14568.655
clusterExpressionPatterns000
conditionTest 99.300 1.480106.406
diffEndTest0.0310.0000.031
earlyDETest0.0320.0000.032
evaluateK19.366 0.17219.539
fitGAM38.785 0.33239.118
getSmootherPvalues0.0370.0040.041
getSmootherTestStats0.0380.0000.039
nknots0.0190.0000.019
patternTest0.0330.0000.033
plotGeneCount35.648 0.19635.844
plotSmoothers41.924 0.27642.200
plot_evalutateK_results19.275 0.10419.381
predictCells0.0170.0000.017
predictSmooth0.0260.0000.026
startVsEndTest0.0390.0000.040