Back to Multiple platform build/check report for BioC 3.13
ABCDEFGHIJKLMNOPQR[S]TUVWXYZ

Multiple platform build/check report for BioC 3.13

Results for SC3

This page was generated on 2020-11-29 11:58:12 -0500 (Sun, 29 Nov 2020).

Package 1571/1914HostnameOS / ArchINSTALLBUILDCHECKBUILD BIN
SC3 1.19.0
Vladimir Kiselev
Snapshot Date: 2020-11-28 14:40:21 -0500 (Sat, 28 Nov 2020)
URL: https://git.bioconductor.org/packages/SC3
Branch: master
Last Commit: 807f991
Last Changed Date: 2020-10-27 11:10:34 -0500 (Tue, 27 Oct 2020)
malbec2 Linux (Ubuntu 20.04.1 LTS) / x86_64  OK  OK  OK UNNEEDED, same version exists in internal repository
tokay2 Windows Server 2012 R2 Standard / x64  OK  OK  WARNINGS  OK UNNEEDED, same version exists in internal repository
riesling1 Windows Server 2019 Standard / x64  OK  OK  WARNINGS  OK 
machv2 macOS 10.14.6 Mojave / x86_64  OK  OK  OK  OK UNNEEDED, same version exists in internal repository