Back to Multiple platform build/check report for BioC 3.12
ABCDEFGH[I]JKLMNOPQRSTUVWXYZ

Multiple platform build/check report for BioC 3.12

Results for iCNV

This page was generated on 2020-10-27 11:49:34 -0400 (Tue, 27 Oct 2020).

Package 869/1974HostnameOS / ArchINSTALLBUILDCHECKBUILD BIN
iCNV 1.9.0
Zilu Zhou
Snapshot Date: 2020-10-26 14:42:55 -0400 (Mon, 26 Oct 2020)
URL: https://git.bioconductor.org/packages/iCNV
Branch: master
Last Commit: 9c2d40a
Last Changed Date: 2020-04-27 15:14:51 -0400 (Mon, 27 Apr 2020)
malbec1 Linux (Ubuntu 18.04.4 LTS) / x86_64  OK  OK  WARNINGS UNNEEDED, same version exists in internal repository
nebbiolo1 Linux (Ubuntu 20.04.1 LTS) / x86_64  OK  OK  WARNINGS 
tokay1 Windows Server 2012 R2 Standard / x64  OK  OK  WARNINGS  OK UNNEEDED, same version exists in internal repository
riesling1 Windows Server 2019 Standard / x64  OK  OK  WARNINGS  OK 
merida1 macOS 10.14.6 Mojave / x86_64  OK  OK  WARNINGS  OK UNNEEDED, same version exists in internal repository