Back to Multiple platform build/check report for BioC 3.16
ABCDEFG[H]IJKLMNOPQRSTUVWXYZ

This page was generated on 2022-06-29 11:04:24 -0400 (Wed, 29 Jun 2022).

HostnameOSArch (*)R versionInstalled pkgs
nebbiolo2Linux (Ubuntu 20.04.4 LTS)x86_644.2.0 Patched (2022-06-02 r82447) -- "Vigorous Calisthenics" 4343
lconwaymacOS 12.2.1 Montereyx86_644.2.0 Patched (2022-05-29 r82424) -- "Vigorous Calisthenics" 4159
Click on any hostname to see more info about the system (e.g. compilers)      (*) as reported by 'uname -p', except on Windows and Mac OS X

BUILD results for HTSeqGenie on nebbiolo2


To the developers/maintainers of the HTSeqGenie package:
- Please allow up to 24 hours (and sometimes 48 hours) for your latest push to git@git.bioconductor.org:packages/HTSeqGenie.git to
reflect on this report. See How and When does the builder pull? When will my changes propagate? for more information.
- Make sure to use the following settings in order to reproduce any error or warning you see on this page.

raw results

Package 903/2124HostnameOS / ArchINSTALLBUILDCHECKBUILD BIN
HTSeqGenie 4.27.0  (landing page)
Jens Reeder
Snapshot Date: 2022-06-28 14:00:02 -0400 (Tue, 28 Jun 2022)
git_url: https://git.bioconductor.org/packages/HTSeqGenie
git_branch: master
git_last_commit: 3c6ad4f
git_last_commit_date: 2022-04-26 11:12:25 -0400 (Tue, 26 Apr 2022)
nebbiolo2Linux (Ubuntu 20.04.4 LTS) / x86_64  OK    OK    ERROR  
lconwaymacOS 12.2.1 Monterey / x86_64... NOT SUPPORTED ...

Summary

Package: HTSeqGenie
Version: 4.27.0
Command: /home/biocbuild/bbs-3.16-bioc/R/bin/R CMD build --keep-empty-dirs --no-resave-data HTSeqGenie
StartedAt: 2022-06-28 16:43:22 -0400 (Tue, 28 Jun 2022)
EndedAt: 2022-06-28 16:46:14 -0400 (Tue, 28 Jun 2022)
EllapsedTime: 171.3 seconds
RetCode: 0
Status:   OK  
PackageFile: HTSeqGenie_4.27.0.tar.gz
PackageFileSize: 2.884 MiB

Command output

##############################################################################
##############################################################################
###
### Running command:
###
###   /home/biocbuild/bbs-3.16-bioc/R/bin/R CMD build --keep-empty-dirs --no-resave-data HTSeqGenie
###
##############################################################################
##############################################################################


* checking for file ‘HTSeqGenie/DESCRIPTION’ ... OK
* preparing ‘HTSeqGenie’:
* checking DESCRIPTION meta-information ... OK
* installing the package to build vignettes
* creating vignettes ... OK
* checking for LF line-endings in source and make files and shell scripts
* checking for empty or unneeded directories
  NB: this package now depends on R (>= 3.5.0)
  WARNING: Added dependency on R >= 3.5.0 because serialized objects in
  serialize/load version 3 cannot be read in older versions of R.
  File(s) containing such objects:
    ‘HTSeqGenie/inst/test-data/tp53_dbsnp.Rdata’
* building ‘HTSeqGenie_4.27.0.tar.gz’