Back to Multiple platform build/check report for BioC 3.16
ABCDEFGHIJKL[M]NOPQRSTUVWXYZ

This page was generated on 2022-08-17 11:04:36 -0400 (Wed, 17 Aug 2022).

HostnameOSArch (*)R versionInstalled pkgs
nebbiolo2Linux (Ubuntu 20.04.4 LTS)x86_644.2.1 (2022-06-23) -- "Funny-Looking Kid" 4379
palomino4Windows Server 2022 Datacenterx644.2.1 (2022-06-23 ucrt) -- "Funny-Looking Kid" 4161
lconwaymacOS 12.2.1 Montereyx86_644.2.1 Patched (2022-07-09 r82577) -- "Funny-Looking Kid" 4169
Click on any hostname to see more info about the system (e.g. compilers)      (*) as reported by 'uname -p', except on Windows and Mac OS X

All results for package miRspongeR


To the developers/maintainers of the miRspongeR package:
- Please allow up to 24 hours (and sometimes 48 hours) for your latest push to git@git.bioconductor.org:packages/miRspongeR.git to
reflect on this report. See How and When does the builder pull? When will my changes propagate? for more information.
- Make sure to use the following settings in order to reproduce any error or warning you see on this page.

raw results

Package 1201/2140HostnameOS / ArchINSTALLBUILDCHECKBUILD BIN
miRspongeR 2.1.0  (landing page)
Junpeng Zhang
Snapshot Date: 2022-08-16 14:00:04 -0400 (Tue, 16 Aug 2022)
git_url: https://git.bioconductor.org/packages/miRspongeR
git_branch: master
git_last_commit: e1ba920
git_last_commit_date: 2022-04-26 11:42:36 -0400 (Tue, 26 Apr 2022)
nebbiolo2Linux (Ubuntu 20.04.4 LTS) / x86_64  ERROR    ERROR  skipped
palomino4Windows Server 2022 Datacenter / x64  ERROR    ERROR  skippedskipped
lconwaymacOS 12.2.1 Monterey / x86_64  ERROR    ERROR  skippedskipped

Results for Bioconductor software packages that depend directly on package miRspongeR

QUICK STATSOS / ArchINSTALLBUILDCHECKBUILD BIN
nebbiolo2Linux (Ubuntu 20.04.4 LTS) / x86_64
010
010
0000
palomino4Windows Server 2022 Datacenter / x64
010
010
0000
000
lconwaymacOS 12.2.1 Monterey / x86_64
010
010
0000
000
Package 1/1HostnameOS / ArchINSTALLBUILDCHECKBUILD BIN
miRSM 1.15.0  (landing page)
Junpeng Zhang
git_last_commit: 6e75e8d
git_last_commit_date: 2022-04-26 11:50:42 -0400
nebbiolo2Linux (Ubuntu 20.04.4 LTS) / x86_64  ERROR    ERROR  skipped
palomino4Windows Server 2022 Datacenter / x64  ERROR    ERROR  skippedskipped
lconwaymacOS 12.2.1 Monterey / x86_64  ERROR    ERROR  skippedskipped