Back to Multiple platform build/check report for BioC 3.16 |
|
This page was generated on 2022-06-22 11:07:23 -0400 (Wed, 22 Jun 2022).
Hostname | OS | Arch (*) | R version | Installed pkgs |
---|---|---|---|---|
nebbiolo2 | Linux (Ubuntu 20.04.4 LTS) | x86_64 | 4.2.0 Patched (2022-06-02 r82447) -- "Vigorous Calisthenics" | 4331 |
palomino4 | Windows Server 2022 Datacenter | x64 | 4.2.0 Patched (2022-06-02 r82447 ucrt) -- "Vigorous Calisthenics" | 4136 |
lconway | macOS 12.2.1 Monterey | x86_64 | 4.2.0 Patched (2022-05-29 r82424) -- "Vigorous Calisthenics" | 4147 |
Click on any hostname to see more info about the system (e.g. compilers) (*) as reported by 'uname -p', except on Windows and Mac OS X |
To the developers/maintainers of the DAPAR package: - Please allow up to 24 hours (and sometimes 48 hours) for your latest push to git@git.bioconductor.org:packages/DAPAR.git to reflect on this report. See How and When does the builder pull? When will my changes propagate? for more information. - Make sure to use the following settings in order to reproduce any error or warning you see on this page. |
Package 463/2118 | Hostname | OS / Arch | INSTALL | BUILD | CHECK | BUILD BIN | ||||||||
DAPAR 1.29.0 (landing page) Samuel Wieczorek
| nebbiolo2 | Linux (Ubuntu 20.04.4 LTS) / x86_64 | OK | OK | OK | ![]() | ||||||||
palomino4 | Windows Server 2022 Datacenter / x64 | OK | OK | OK | OK | ![]() | ||||||||
lconway | macOS 12.2.1 Monterey / x86_64 | OK | OK | OK | OK | ![]() | ||||||||
Package: DAPAR |
Version: 1.29.0 |
Command: rm -rf DAPAR.buildbin-libdir && mkdir DAPAR.buildbin-libdir && /Users/biocbuild/BBS/utils/build-universal.sh DAPAR_1.29.0.tar.gz /Library/Frameworks/R.framework/Resources/bin/R DAPAR.buildbin-libdir |
StartedAt: 2022-06-21 23:37:45 -0400 (Tue, 21 Jun 2022) |
EndedAt: 2022-06-21 23:38:20 -0400 (Tue, 21 Jun 2022) |
EllapsedTime: 35.7 seconds |
RetCode: 0 |
Status: OK |
PackageFile: DAPAR_1.29.0.tgz |
PackageFileSize: 2.195 MiB |
############################################################################## ############################################################################## ### ### Running command: ### ### rm -rf DAPAR.buildbin-libdir && mkdir DAPAR.buildbin-libdir && /Users/biocbuild/BBS/utils/build-universal.sh DAPAR_1.29.0.tar.gz /Library/Frameworks/R.framework/Resources/bin/R DAPAR.buildbin-libdir ### ############################################################################## ############################################################################## >>>>>>> >>>>>>> INSTALLATION WITH 'R CMD INSTALL --preclean --no-multiarch --library=DAPAR.buildbin-libdir DAPAR_1.29.0.tar.gz' >>>>>>> * installing *source* package ‘DAPAR’ ... ** using staged installation ** R ** inst ** byte-compile and prepare package for lazy loading ** help *** installing help indices ** building package indices ** installing vignettes ** testing if installed package can be loaded from temporary location ** testing if installed package can be loaded from final location ** testing if installed package keeps a record of temporary installation path * DONE (DAPAR)