Back to Multiple platform build/check report for BioC 3.16
ABCDE[F]GHIJKLMNOPQRSTUVWXYZ

This page was generated on 2022-05-19 11:04:28 -0400 (Thu, 19 May 2022).

HostnameOSArch (*)R versionInstalled pkgs
nebbiolo2Linux (Ubuntu 20.04.4 LTS)x86_644.2.0 RC (2022-04-21 r82226) -- "Vigorous Calisthenics" 4357
palomino4Windows Server 2022 Datacenterx644.2.0 Patched (2022-04-24 r82246 ucrt) -- "Vigorous Calisthenics" 4129
lconwaymacOS 12.2.1 Montereyx86_644.2.0 Patched (2022-04-24 r82246) -- "Vigorous Calisthenics" 4138
Click on any hostname to see more info about the system (e.g. compilers)      (*) as reported by 'uname -p', except on Windows and Mac OS X

All results for package FlowSOM


To the developers/maintainers of the FlowSOM package:
- Please allow up to 24 hours (and sometimes 48 hours) for your latest push to git@git.bioconductor.org:packages/FlowSOM.git to
reflect on this report. See How and When does the builder pull? When will my changes propagate? for more information.
- Make sure to use the following settings in order to reproduce any error or warning you see on this page.

raw results

Package 684/2112HostnameOS / ArchINSTALLBUILDCHECKBUILD BIN
FlowSOM 2.5.1  (landing page)
Sofie Van Gassen
Snapshot Date: 2022-05-18 13:55:06 -0400 (Wed, 18 May 2022)
git_url: https://git.bioconductor.org/packages/FlowSOM
git_branch: master
git_last_commit: bcf761f
git_last_commit_date: 2022-05-06 11:07:24 -0400 (Fri, 06 May 2022)
nebbiolo2Linux (Ubuntu 20.04.4 LTS) / x86_64  OK    OK    ERROR  
palomino4Windows Server 2022 Datacenter / x64  OK    OK    ERROR    OK  
lconwaymacOS 12.2.1 Monterey / x86_64  OK    OK    ERROR    OK  

Results for Bioconductor software packages that depend directly on package FlowSOM

QUICK STATSOS / ArchINSTALLBUILDCHECKBUILD BIN
nebbiolo2Linux (Ubuntu 20.04.4 LTS) / x86_64
004
004
0103
palomino4Windows Server 2022 Datacenter / x64
004
004
0103
004
lconwaymacOS 12.2.1 Monterey / x86_64
004
004
0103
004
Package 1/4HostnameOS / ArchINSTALLBUILDCHECKBUILD BIN
CATALYST 1.21.1  (landing page)
Helena L. Crowell
git_last_commit: f9f6b35
git_last_commit_date: 2022-05-18 06:29:19 -0400
nebbiolo2Linux (Ubuntu 20.04.4 LTS) / x86_64  OK    OK    ERROR  
palomino4Windows Server 2022 Datacenter / x64  OK    OK    ERROR    OK  
lconwaymacOS 12.2.1 Monterey / x86_64  OK    OK    ERROR    OK  
Package 2/4HostnameOS / ArchINSTALLBUILDCHECKBUILD BIN
CytoTree 1.7.0  (landing page)
Yuting Dai
git_last_commit: 12d639e
git_last_commit_date: 2022-04-26 12:06:26 -0400
nebbiolo2Linux (Ubuntu 20.04.4 LTS) / x86_64  OK    OK    OK  NO, package depends on 'flowUtils' which is not available
palomino4Windows Server 2022 Datacenter / x64  OK    OK    OK    OK  NO, package depends on 'FlowSOM' which is not available
lconwaymacOS 12.2.1 Monterey / x86_64  OK    OK    OK    OK  NO, package depends on 'FlowSOM' which is not available
Package 3/4HostnameOS / ArchINSTALLBUILDCHECKBUILD BIN
diffcyt 1.17.0  (landing page)
Lukas M. Weber
git_last_commit: 198d19f
git_last_commit_date: 2022-04-26 11:48:24 -0400
nebbiolo2Linux (Ubuntu 20.04.4 LTS) / x86_64  OK    OK    OK  UNNEEDED, same version is already published
palomino4Windows Server 2022 Datacenter / x64  OK    OK    OK    OK  NO, package depends on 'FlowSOM' which is not available
lconwaymacOS 12.2.1 Monterey / x86_64  OK    OK    OK    OK  NO, package depends on 'flowCore' which is not available
Package 4/4HostnameOS / ArchINSTALLBUILDCHECKBUILD BIN
MetaCyto 1.19.0  (landing page)
Zicheng Hu
git_last_commit: 68653e0
git_last_commit_date: 2022-04-26 11:45:07 -0400
nebbiolo2Linux (Ubuntu 20.04.4 LTS) / x86_64  OK    OK    OK  UNNEEDED, same version is already published
palomino4Windows Server 2022 Datacenter / x64  OK    OK    OK    OK  NO, package depends on 'FlowSOM' which is not available
lconwaymacOS 12.2.1 Monterey / x86_64  OK    OK    OK    OK  NO, package depends on 'flowCore' which is not available