Back to Multiple platform build/check report for BioC 3.17
ABCDEFGHIJKLMNO[P]QRSTUVWXYZ

This page was generated on 2022-12-08 11:04:58 -0500 (Thu, 08 Dec 2022).

HostnameOSArch (*)R versionInstalled pkgs
nebbiolo1Linux (Ubuntu 22.04.1 LTS)x86_64R Under development (unstable) (2022-11-30 r83393) -- "Unsuffered Consequences" 4448
palomino3Windows Server 2022 Datacenterx64R Under development (unstable) (2022-11-30 r83393 ucrt) -- "Unsuffered Consequences" 4193
merida1macOS 10.14.6 Mojavex86_64R Under development (unstable) (2022-11-30 r83393) -- "Unsuffered Consequences" 4236
Click on any hostname to see more info about the system (e.g. compilers)      (*) as reported by 'uname -p', except on Windows and Mac OS X

All results for package pipeFrame


To the developers/maintainers of the pipeFrame package:
- Please allow up to 24 hours (and sometimes 48 hours) for your latest push to git@git.bioconductor.org:packages/pipeFrame.git to
reflect on this report. See How and When does the builder pull? When will my changes propagate? for more information.
- Make sure to use the following settings in order to reproduce any error or warning you see on this page.

raw results

Package 1473/2155HostnameOS / ArchINSTALLBUILDCHECKBUILD BIN
pipeFrame 1.15.0  (landing page)
Zheng Wei
Snapshot Date: 2022-12-07 14:00:20 -0500 (Wed, 07 Dec 2022)
git_url: https://git.bioconductor.org/packages/pipeFrame
git_branch: master
git_last_commit: 59770a6
git_last_commit_date: 2022-11-01 11:19:48 -0500 (Tue, 01 Nov 2022)
nebbiolo1Linux (Ubuntu 22.04.1 LTS) / x86_64  OK    OK    OK  UNNEEDED, same version is already published
palomino3Windows Server 2022 Datacenter / x64  OK    OK    OK    OK  NO, package depends on 'BSgenome' which is not available
merida1macOS 10.14.6 Mojave / x86_64  OK    OK    OK    OK  NO, package depends on 'BSgenome' which is not available

Results for Bioconductor software packages that depend directly on package pipeFrame

QUICK STATSOS / ArchINSTALLBUILDCHECKBUILD BIN
nebbiolo1Linux (Ubuntu 22.04.1 LTS) / x86_64
002
002
0011
palomino3Windows Server 2022 Datacenter / x64
002
002
0011
002
merida1macOS 10.14.6 Mojave / x86_64
002
002
0011
002
Package 1/2HostnameOS / ArchINSTALLBUILDCHECKBUILD BIN
enrichTF 1.15.0  (landing page)
Zheng Wei
git_last_commit: 8cb8d13
git_last_commit_date: 2022-11-01 11:19:51 -0500
nebbiolo1Linux (Ubuntu 22.04.1 LTS) / x86_64  OK    OK    OK  UNNEEDED, same version is already published
palomino3Windows Server 2022 Datacenter / x64  OK    OK    OK    OK  NO, package depends on 'pipeFrame' which is not available
merida1macOS 10.14.6 Mojave / x86_64  OK    OK    OK    OK  NO, package depends on 'pipeFrame' which is not available
Package 2/2HostnameOS / ArchINSTALLBUILDCHECKBUILD BIN
esATAC 1.21.0  (landing page)
Zheng Wei
git_last_commit: dc1b794
git_last_commit_date: 2022-11-01 11:16:47 -0500
nebbiolo1Linux (Ubuntu 22.04.1 LTS) / x86_64  OK    OK    WARNINGS  UNNEEDED, same version is already published
palomino3Windows Server 2022 Datacenter / x64  OK    OK    WARNINGS    OK  NO, package depends on 'Rsamtools' which is not available
merida1macOS 10.14.6 Mojave / x86_64  OK    OK    WARNINGS    OK  NO, package depends on 'Rsamtools' which is not available