Back to Multiple platform build/check report for BioC 3.16 |
|
This page was generated on 2022-06-24 11:07:27 -0400 (Fri, 24 Jun 2022).
Hostname | OS | Arch (*) | R version | Installed pkgs |
---|---|---|---|---|
nebbiolo2 | Linux (Ubuntu 20.04.4 LTS) | x86_64 | 4.2.0 Patched (2022-06-02 r82447) -- "Vigorous Calisthenics" | 4331 |
palomino4 | Windows Server 2022 Datacenter | x64 | 4.2.0 Patched (2022-06-02 r82447 ucrt) -- "Vigorous Calisthenics" | 4136 |
lconway | macOS 12.2.1 Monterey | x86_64 | 4.2.0 Patched (2022-05-29 r82424) -- "Vigorous Calisthenics" | 4147 |
Click on any hostname to see more info about the system (e.g. compilers) (*) as reported by 'uname -p', except on Windows and Mac OS X |
To the developers/maintainers of the affylmGUI package: - Please allow up to 24 hours (and sometimes 48 hours) for your latest push to git@git.bioconductor.org:packages/affylmGUI.git to reflect on this report. See How and When does the builder pull? When will my changes propagate? for more information. - Make sure to use the following settings in order to reproduce any error or warning you see on this page. |
Package 29/2118 | Hostname | OS / Arch | INSTALL | BUILD | CHECK | BUILD BIN | ||||||||
affylmGUI 1.71.0 (landing page) Gordon Smyth
| nebbiolo2 | Linux (Ubuntu 20.04.4 LTS) / x86_64 | OK | OK | OK | ![]() | ||||||||
palomino4 | Windows Server 2022 Datacenter / x64 | OK | OK | OK | OK | ![]() | ||||||||
lconway | macOS 12.2.1 Monterey / x86_64 | OK | OK | OK | OK | ![]() | ||||||||
Package: affylmGUI |
Version: 1.71.0 |
Command: rm -rf affylmGUI.buildbin-libdir && mkdir affylmGUI.buildbin-libdir && /Users/biocbuild/BBS/utils/build-universal.sh affylmGUI_1.71.0.tar.gz /Library/Frameworks/R.framework/Resources/bin/R affylmGUI.buildbin-libdir |
StartedAt: 2022-06-23 23:26:20 -0400 (Thu, 23 Jun 2022) |
EndedAt: 2022-06-23 23:26:55 -0400 (Thu, 23 Jun 2022) |
EllapsedTime: 35.1 seconds |
RetCode: 0 |
Status: OK |
PackageFile: affylmGUI_1.71.0.tgz |
PackageFileSize: 2.145 MiB |
############################################################################## ############################################################################## ### ### Running command: ### ### rm -rf affylmGUI.buildbin-libdir && mkdir affylmGUI.buildbin-libdir && /Users/biocbuild/BBS/utils/build-universal.sh affylmGUI_1.71.0.tar.gz /Library/Frameworks/R.framework/Resources/bin/R affylmGUI.buildbin-libdir ### ############################################################################## ############################################################################## >>>>>>> >>>>>>> INSTALLATION WITH 'R CMD INSTALL --preclean --no-multiarch --library=affylmGUI.buildbin-libdir affylmGUI_1.71.0.tar.gz' >>>>>>> * installing *source* package ‘affylmGUI’ ... ** using staged installation ** R ** inst ** byte-compile and prepare package for lazy loading ** help *** installing help indices ** building package indices ** installing vignettes ** testing if installed package can be loaded from temporary location ** testing if installed package can be loaded from final location ** testing if installed package keeps a record of temporary installation path * DONE (affylmGUI)