Back to Multiple platform build/check report for BioC 3.16
ABCDEFGHIJKLMNOPQ[R]STUVWXYZ

This page was generated on 2022-08-16 11:04:46 -0400 (Tue, 16 Aug 2022).

HostnameOSArch (*)R versionInstalled pkgs
nebbiolo2Linux (Ubuntu 20.04.4 LTS)x86_644.2.1 (2022-06-23) -- "Funny-Looking Kid" 4378
palomino4Windows Server 2022 Datacenterx644.2.1 (2022-06-23 ucrt) -- "Funny-Looking Kid" 4161
lconwaymacOS 12.2.1 Montereyx86_644.2.1 Patched (2022-07-09 r82577) -- "Funny-Looking Kid" 4169
Click on any hostname to see more info about the system (e.g. compilers)      (*) as reported by 'uname -p', except on Windows and Mac OS X

All results for package RUVSeq


To the developers/maintainers of the RUVSeq package:
- Please allow up to 24 hours (and sometimes 48 hours) for your latest push to git@git.bioconductor.org:packages/RUVSeq.git to
reflect on this report. See How and When does the builder pull? When will my changes propagate? for more information.
- Make sure to use the following settings in order to reproduce any error or warning you see on this page.

raw results

Package 1724/2140HostnameOS / ArchINSTALLBUILDCHECKBUILD BIN
RUVSeq 1.31.0  (landing page)
Davide Risso
Snapshot Date: 2022-08-15 14:00:06 -0400 (Mon, 15 Aug 2022)
git_url: https://git.bioconductor.org/packages/RUVSeq
git_branch: master
git_last_commit: 729a414
git_last_commit_date: 2022-04-26 11:20:05 -0400 (Tue, 26 Apr 2022)
nebbiolo2Linux (Ubuntu 20.04.4 LTS) / x86_64  OK    OK    OK  UNNEEDED, same version is already published
palomino4Windows Server 2022 Datacenter / x64  OK    OK    OK    OK  UNNEEDED, same version is already published
lconwaymacOS 12.2.1 Monterey / x86_64  OK    OK    OK    OK  UNNEEDED, same version is already published

Results for Bioconductor software packages that depend directly on package RUVSeq

QUICK STATSOS / ArchINSTALLBUILDCHECKBUILD BIN
nebbiolo2Linux (Ubuntu 20.04.4 LTS) / x86_64
004
004
0004
palomino4Windows Server 2022 Datacenter / x64
004
004
0004
004
lconwaymacOS 12.2.1 Monterey / x86_64
004
004
0004
004
Package 1/4HostnameOS / ArchINSTALLBUILDCHECKBUILD BIN
consensusDE 1.15.0  (landing page)
Ashley J. Waardenberg
git_last_commit: 6b6b5a2
git_last_commit_date: 2022-04-26 11:51:54 -0400
nebbiolo2Linux (Ubuntu 20.04.4 LTS) / x86_64  OK    OK    OK  UNNEEDED, same version is already published
palomino4Windows Server 2022 Datacenter / x64  OK    OK    OK    OK  UNNEEDED, same version is already published
lconwaymacOS 12.2.1 Monterey / x86_64  OK    OK    OK    OK  UNNEEDED, same version is already published
Package 2/4HostnameOS / ArchINSTALLBUILDCHECKBUILD BIN
ribosomeProfilingQC 1.9.0  (landing page)
Jianhong Ou
git_last_commit: b99da30
git_last_commit_date: 2022-04-26 12:02:49 -0400
nebbiolo2Linux (Ubuntu 20.04.4 LTS) / x86_64  OK    OK    OK  UNNEEDED, same version is already published
palomino4Windows Server 2022 Datacenter / x64  OK    OK    OK    OK  UNNEEDED, same version is already published
lconwaymacOS 12.2.1 Monterey / x86_64  OK    OK    OK    OK  UNNEEDED, same version is already published
Package 3/4HostnameOS / ArchINSTALLBUILDCHECKBUILD BIN
scone 1.21.0  (landing page)
Davide Risso
git_last_commit: ff3a800
git_last_commit_date: 2022-04-26 11:38:13 -0400
nebbiolo2Linux (Ubuntu 20.04.4 LTS) / x86_64  OK    OK    OK  UNNEEDED, same version is already published
palomino4Windows Server 2022 Datacenter / x64  OK    OK    OK    OK  UNNEEDED, same version is already published
lconwaymacOS 12.2.1 Monterey / x86_64  OK    OK    OK    OK  UNNEEDED, same version is already published
Package 4/4HostnameOS / ArchINSTALLBUILDCHECKBUILD BIN
standR 1.1.3  (landing page)
Ning Liu
git_last_commit: 64478a6
git_last_commit_date: 2022-08-08 02:33:33 -0400
nebbiolo2Linux (Ubuntu 20.04.4 LTS) / x86_64  OK    OK    OK  UNNEEDED, same version is already published
palomino4Windows Server 2022 Datacenter / x64  OK    OK    OK    OK  UNNEEDED, same version is already published
lconwaymacOS 12.2.1 Monterey / x86_64  OK    OK    OK    OK  UNNEEDED, same version is already published