Back to Multiple platform build/check report for BioC 3.13
ABCDEFGHIJKLM[N]OPQRSTUVWXYZ

Multiple platform build/check report for BioC 3.13

Results for nuCpos

This page was generated on 2020-11-24 12:01:40 -0500 (Tue, 24 Nov 2020).

Package 1198/1907HostnameOS / ArchINSTALLBUILDCHECKBUILD BIN
nuCpos 1.9.0
Hiroaki Kato
Snapshot Date: 2020-11-23 14:41:10 -0500 (Mon, 23 Nov 2020)
URL: https://git.bioconductor.org/packages/nuCpos
Branch: master
Last Commit: 3d552b8
Last Changed Date: 2020-10-27 11:37:59 -0500 (Tue, 27 Oct 2020)
malbec2 Linux (Ubuntu 20.04.1 LTS) / x86_64  OK  OK  OK UNNEEDED, same version exists in internal repository
tokay2 Windows Server 2012 R2 Standard / x64  OK  OK  WARNINGS  OK UNNEEDED, same version exists in internal repository
riesling1 Windows Server 2019 Standard / x64  OK  OK  WARNINGS  OK 
machv2 macOS 10.14.6 Mojave / x86_64  OK  OK  OK  OK UNNEEDED, same version exists in internal repository