Back to Build/check report for BioC 3.15
ABCDEFGHIJKLMNOPQR[S]TUVWXYZ

This page was generated on 2021-12-06 12:31:52 -0500 (Mon, 06 Dec 2021).

All results for package scBFA

To the developers/maintainers of the scBFA package:
- Please allow up to 24 hours (and sometimes 48 hours) for your latest push to git@git.bioconductor.org:packages/scBFA.git to
reflect on this report. See How and When does the builder pull? When will my changes propagate? here for more information.
- Make sure to use the following settings in order to reproduce any error or warning you see on this page.

raw results

Package 1700/2068HostnameOS / ArchINSTALLBUILDCHECKBUILD BIN
scBFA 1.9.0  (landing page)
Ruoxin Li
Snapshot Date: 2021-12-05 13:55:08 -0500 (Sun, 05 Dec 2021)
git_url: https://git.bioconductor.org/packages/scBFA
git_branch: master
git_last_commit: f07892d
git_last_commit_date: 2021-10-26 12:53:20 -0500 (Tue, 26 Oct 2021)
nebbiolo1Linux (Ubuntu 20.04.3 LTS) / x86_64  OK    OK    OK  UNNEEDED, same version is already published