Back to Multiple platform build/check report for BioC 3.18:   simplified   long
A[B]CDEFGHIJKLMNOPQRSTUVWXYZ

This page was generated on 2023-05-29 11:04:17 -0400 (Mon, 29 May 2023).

HostnameOSArch (*)R versionInstalled pkgs
nebbiolo2Linux (Ubuntu 22.04.2 LTS)x86_644.3.0 RC (2023-04-18 r84287) -- "Already Tomorrow" 4587
palomino4Windows Server 2022 Datacenterx644.3.0 RC (2023-04-18 r84287 ucrt) -- "Already Tomorrow" 4336
lconwaymacOS 12.6.5 Montereyx86_644.3.0 RC (2023-04-13 r84266) -- "Already Tomorrow" 4337
Click on any hostname to see more info about the system (e.g. compilers)      (*) as reported by 'uname -p', except on Windows and Mac OS X

All results for package BiocCheck


To the developers/maintainers of the BiocCheck package:
- Allow up to 24 hours (and sometimes 48 hours) for your latest push to git@git.bioconductor.org:packages/BiocCheck.git to reflect on this report. See Troubleshooting Build Report for more information.

- Use the following Renviron settings to reproduce errors and warnings.

Note: If "R CMD check" recently failed on the Linux builder over a missing dependency, add the missing dependency to "Suggests" in your DESCRIPTION file. See the Renviron.bioc for details.

raw results

Package 169/2197HostnameOS / ArchINSTALLBUILDCHECKBUILD BIN
BiocCheck 1.37.1  (landing page)
Marcel Ramos
Snapshot Date: 2023-05-28 14:00:06 -0400 (Sun, 28 May 2023)
git_url: https://git.bioconductor.org/packages/BiocCheck
git_branch: devel
git_last_commit: 9545ee4
git_last_commit_date: 2023-05-25 15:26:42 -0400 (Thu, 25 May 2023)
nebbiolo2Linux (Ubuntu 22.04.2 LTS) / x86_64  OK    OK    OK  UNNEEDED, same version is already published
palomino4Windows Server 2022 Datacenter / x64  OK    OK    OK    OK  YES
lconwaymacOS 12.6.5 Monterey / x86_64  OK    OK    OK    OK  UNNEEDED, same version is already published

Results for Bioconductor software packages that depend directly on package BiocCheck

QUICK STATSOS / ArchINSTALLBUILDCHECKBUILD BIN
nebbiolo2Linux (Ubuntu 22.04.2 LTS) / x86_64
001
001
0010
palomino4Windows Server 2022 Datacenter / x64
001
001
0010
001
lconwaymacOS 12.6.5 Monterey / x86_64
001
001
0010
001
Package 1/1HostnameOS / ArchINSTALLBUILDCHECKBUILD BIN
AnnotationHubData 1.31.0  (landing page)
Bioconductor Package Maintainer
git_last_commit: 6bfb5ee
git_last_commit_date: 2023-04-25 10:41:16 -0400
nebbiolo2Linux (Ubuntu 22.04.2 LTS) / x86_64  OK    OK    WARNINGS  UNNEEDED, same version is already published
palomino4Windows Server 2022 Datacenter / x64  OK    OK    WARNINGS    OK  UNNEEDED, same version is already published
lconwaymacOS 12.6.5 Monterey / x86_64  OK    OK    WARNINGS    OK  UNNEEDED, same version is already published