Back to Build/check report for BioC 3.17:   simplified   long
ABCDEFGHIJKLMNO[P]QRSTUVWXYZ

This page was generated on 2023-03-30 12:33:37 -0400 (Thu, 30 Mar 2023).

HostnameOSArch (*)R versionInstalled pkgs
nebbiolo1Linux (Ubuntu 22.04.1 LTS)x86_64R Under development (unstable) (2023-03-16 r83996) -- "Unsuffered Consequences" 4547
Click on any hostname to see more info about the system (e.g. compilers)      (*) as reported by 'uname -p', except on Windows and Mac OS X

All results for package pcaExplorer


To the developers/maintainers of the pcaExplorer package:
- Allow up to 24 hours (and sometimes 48 hours) for your latest push to git@git.bioconductor.org:packages/pcaExplorer.git to reflect on this report. See Troubleshooting Build Report for more information.

- Use the following Renviron settings to reproduce errors and warnings.

Note: If "R CMD check" recently failed on the Linux builder over a missing dependency, add the missing dependency to "Suggests" in your DESCRIPTION file. See the Renviron.bioc for details.

raw results

Package 1463/2195HostnameOS / ArchINSTALLBUILDCHECKBUILD BIN
pcaExplorer 2.25.0  (landing page)
Federico Marini
Snapshot Date: 2023-03-29 14:00:20 -0400 (Wed, 29 Mar 2023)
git_url: https://git.bioconductor.org/packages/pcaExplorer
git_branch: devel
git_last_commit: 05d71e7
git_last_commit_date: 2022-11-03 10:03:12 -0400 (Thu, 03 Nov 2022)
nebbiolo1Linux (Ubuntu 22.04.1 LTS) / x86_64  OK    OK    ERROR  

Results for Bioconductor software packages that depend directly on package pcaExplorer

QUICK STATSOS / ArchINSTALLBUILDCHECKBUILD BIN
nebbiolo1Linux (Ubuntu 22.04.1 LTS) / x86_64
001
001
0100
Package 1/1HostnameOS / ArchINSTALLBUILDCHECKBUILD BIN
ideal 1.23.0  (landing page)
Federico Marini
git_last_commit: 11a9293
git_last_commit_date: 2023-01-05 09:07:52 -0400
nebbiolo1Linux (Ubuntu 22.04.1 LTS) / x86_64  OK    OK    ERROR