Back to Multiple platform build/check report for BioC 3.11
AB[C]DEFGHIJKLMNOPQRSTUVWXYZ

Multiple platform build/check report for BioC 3.11

Results for cogena

This page was generated on 2020-04-06 13:16:06 -0400 (Mon, 06 Apr 2020).

Package 342/1857HostnameOS / ArchINSTALLBUILDCHECKBUILD BIN
cogena 1.21.1
Zhilong Jia
Snapshot Date: 2020-04-05 16:45:17 -0400 (Sun, 05 Apr 2020)
URL: https://git.bioconductor.org/packages/cogena
Branch: master
Last Commit: e52aed6
Last Changed Date: 2020-03-20 05:28:45 -0400 (Fri, 20 Mar 2020)
malbec2 Linux (Ubuntu 18.04.4 LTS) / x86_64  OK  ERROR  skipped 
tokay2 Windows Server 2012 R2 Standard / x64  OK  ERROR  skipped  skipped