Back to Build/check report for BioC 3.16
ABCDEFGHIJKL[M]NOPQRSTUVWXYZ

This page was generated on 2022-06-27 11:05:23 -0400 (Mon, 27 Jun 2022).

HostnameOSArch (*)R versionInstalled pkgs
nebbiolo2Linux (Ubuntu 20.04.4 LTS)x86_644.2.0 Patched (2022-06-02 r82447) -- "Vigorous Calisthenics" 4331
Click on any hostname to see more info about the system (e.g. compilers)      (*) as reported by 'uname -p', except on Windows and Mac OS X

BUILD results for makecdfenv on nebbiolo2


To the developers/maintainers of the makecdfenv package:
- Please allow up to 24 hours (and sometimes 48 hours) for your latest push to git@git.bioconductor.org:packages/makecdfenv.git to
reflect on this report. See How and When does the builder pull? When will my changes propagate? for more information.
- Make sure to use the following settings in order to reproduce any error or warning you see on this page.

raw results

Package 1055/2118HostnameOS / ArchINSTALLBUILDCHECKBUILD BIN
makecdfenv 1.73.0  (landing page)
James W. MacDonald
Snapshot Date: 2022-06-26 14:00:03 -0400 (Sun, 26 Jun 2022)
git_url: https://git.bioconductor.org/packages/makecdfenv
git_branch: master
git_last_commit: d9e7e85
git_last_commit_date: 2022-04-26 10:54:49 -0400 (Tue, 26 Apr 2022)
nebbiolo2Linux (Ubuntu 20.04.4 LTS) / x86_64  OK    OK    WARNINGS  UNNEEDED, same version is already published

Summary

Package: makecdfenv
Version: 1.73.0
Command: /home/biocbuild/bbs-3.16-bioc/R/bin/R CMD build --keep-empty-dirs --no-resave-data makecdfenv
StartedAt: 2022-06-26 16:46:34 -0400 (Sun, 26 Jun 2022)
EndedAt: 2022-06-26 16:46:41 -0400 (Sun, 26 Jun 2022)
EllapsedTime: 7.6 seconds
RetCode: 0
Status:   OK  
PackageFile: makecdfenv_1.73.0.tar.gz
PackageFileSize: 3.124 MiB

Command output

##############################################################################
##############################################################################
###
### Running command:
###
###   /home/biocbuild/bbs-3.16-bioc/R/bin/R CMD build --keep-empty-dirs --no-resave-data makecdfenv
###
##############################################################################
##############################################################################


* checking for file ‘makecdfenv/DESCRIPTION’ ... OK
* preparing ‘makecdfenv’:
* checking DESCRIPTION meta-information ... OK
* cleaning src
* installing the package to build vignettes
* creating vignettes ... OK
* cleaning src
* checking for LF line-endings in source and make files and shell scripts
* checking for empty or unneeded directories
* building ‘makecdfenv_1.73.0.tar.gz’