Back to Multiple platform build/check report for BioC 3.18: simplified long |
|
This page was generated on 2023-05-30 11:07:26 -0400 (Tue, 30 May 2023).
Hostname | OS | Arch (*) | R version | Installed pkgs |
---|---|---|---|---|
nebbiolo2 | Linux (Ubuntu 22.04.2 LTS) | x86_64 | 4.3.0 RC (2023-04-18 r84287) -- "Already Tomorrow" | 4587 |
palomino4 | Windows Server 2022 Datacenter | x64 | 4.3.0 RC (2023-04-18 r84287 ucrt) -- "Already Tomorrow" | 4336 |
lconway | macOS 12.6.5 Monterey | x86_64 | 4.3.0 RC (2023-04-13 r84266) -- "Already Tomorrow" | 4337 |
Click on any hostname to see more info about the system (e.g. compilers) (*) as reported by 'uname -p', except on Windows and Mac OS X |
To the developers/maintainers of the BEAT package: - Allow up to 24 hours (and sometimes 48 hours) for your latest push to git@git.bioconductor.org:packages/BEAT.git to reflect on this report. See Troubleshooting Build Report for more information. - Use the following Renviron settings to reproduce errors and warnings. Note: If "R CMD check" recently failed on the Linux builder over a missing dependency, add the missing dependency to "Suggests" in your DESCRIPTION file. See the Renviron.bioc for details. |
Package 147/2197 | Hostname | OS / Arch | INSTALL | BUILD | CHECK | BUILD BIN | ||||||||
BEAT 1.39.0 (landing page) Kemal Akman
| nebbiolo2 | Linux (Ubuntu 22.04.2 LTS) / x86_64 | OK | OK | OK | ![]() | ||||||||
palomino4 | Windows Server 2022 Datacenter / x64 | OK | OK | OK | OK | ![]() | ||||||||
lconway | macOS 12.6.5 Monterey / x86_64 | OK | OK | OK | OK | ![]() | ||||||||
Package: BEAT |
Version: 1.39.0 |
Command: /Library/Frameworks/R.framework/Resources/bin/R CMD check --install=check:BEAT.install-out.txt --library=/Library/Frameworks/R.framework/Resources/library --no-vignettes --timings BEAT_1.39.0.tar.gz |
StartedAt: 2023-05-29 18:28:26 -0400 (Mon, 29 May 2023) |
EndedAt: 2023-05-29 18:33:31 -0400 (Mon, 29 May 2023) |
EllapsedTime: 305.4 seconds |
RetCode: 0 |
Status: OK |
CheckDir: BEAT.Rcheck |
Warnings: 0 |
############################################################################## ############################################################################## ### ### Running command: ### ### /Library/Frameworks/R.framework/Resources/bin/R CMD check --install=check:BEAT.install-out.txt --library=/Library/Frameworks/R.framework/Resources/library --no-vignettes --timings BEAT_1.39.0.tar.gz ### ############################################################################## ############################################################################## * using log directory ‘/Users/biocbuild/bbs-3.18-bioc/meat/BEAT.Rcheck’ * using R version 4.3.0 RC (2023-04-13 r84266) * using platform: x86_64-apple-darwin20 (64-bit) * R was compiled by Apple clang version 14.0.3 (clang-1403.0.22.14.1) GNU Fortran (GCC) 12.2.0 * running under: macOS Monterey 12.6.5 * using session charset: UTF-8 * using option ‘--no-vignettes’ * checking for file ‘BEAT/DESCRIPTION’ ... OK * checking extension type ... Package * this is package ‘BEAT’ version ‘1.39.0’ * checking package namespace information ... OK * checking package dependencies ... OK * checking if this is a source package ... OK * checking if there is a namespace ... OK * checking for hidden files and directories ... OK * checking for portable file names ... OK * checking for sufficient/correct file permissions ... OK * checking whether package ‘BEAT’ can be installed ... OK * checking installed package size ... NOTE installed size is 11.5Mb sub-directories of 1Mb or more: extdata 10.4Mb * checking package directory ... OK * checking ‘build’ directory ... OK * checking DESCRIPTION meta-information ... NOTE Malformed Description field: should contain one or more complete sentences. * checking top-level files ... OK * checking for left-over files ... OK * checking index information ... OK * checking package subdirectories ... OK * checking R files for non-ASCII characters ... OK * checking R files for syntax errors ... OK * checking whether the package can be loaded ... OK * checking whether the package can be loaded with stated dependencies ... OK * checking whether the package can be unloaded cleanly ... OK * checking whether the namespace can be loaded with stated dependencies ... OK * checking whether the namespace can be unloaded cleanly ... OK * checking dependencies in R code ... OK * checking S3 generic/method consistency ... OK * checking replacement functions ... OK * checking foreign function calls ... OK * checking R code for possible problems ... NOTE koeff: no visible global function definition for ‘dbinom’ positionsReadCSV: no visible global function definition for ‘read.csv’ printEpimutStats: no visible global function definition for ‘median’ priorr: no visible global function definition for ‘dbeta’ Undefined global functions or variables: dbeta dbinom median read.csv Consider adding importFrom("stats", "dbeta", "dbinom", "median") importFrom("utils", "read.csv") to your NAMESPACE file. * checking Rd files ... OK * checking Rd metadata ... OK * checking Rd cross-references ... OK * checking for missing documentation entries ... OK * checking for code/documentation mismatches ... OK * checking Rd \usage sections ... OK * checking Rd contents ... OK * checking for unstated dependencies in examples ... OK * checking contents of ‘data’ directory ... OK * checking data for non-ASCII characters ... OK * checking data for ASCII and uncompressed saves ... OK * checking sizes of PDF files under ‘inst/doc’ ... OK * checking files in ‘vignettes’ ... OK * checking examples ... OK Examples with CPU (user + system) or elapsed time > 5s user system elapsed epimutation_calls 25.902 0.691 26.673 generate_results 23.191 0.511 23.758 * checking for unstated dependencies in vignettes ... OK * checking package vignettes in ‘inst/doc’ ... OK * checking running R code from vignettes ... SKIPPED * checking re-building of vignette outputs ... SKIPPED * checking PDF version of manual ... OK * DONE Status: 3 NOTEs See ‘/Users/biocbuild/bbs-3.18-bioc/meat/BEAT.Rcheck/00check.log’ for details.
BEAT.Rcheck/00install.out
############################################################################## ############################################################################## ### ### Running command: ### ### /Library/Frameworks/R.framework/Resources/bin/R CMD INSTALL BEAT ### ############################################################################## ############################################################################## * installing to library ‘/Library/Frameworks/R.framework/Versions/4.3-x86_64/Resources/library’ * installing *source* package ‘BEAT’ ... ** using staged installation ** R ** data ** inst ** byte-compile and prepare package for lazy loading ** help *** installing help indices ** building package indices ** installing vignettes ** testing if installed package can be loaded from temporary location ** testing if installed package can be loaded from final location ** testing if installed package keeps a record of temporary installation path * DONE (BEAT)
BEAT.Rcheck/BEAT-Ex.timings
name | user | system | elapsed | |
epimutation_calls | 25.902 | 0.691 | 26.673 | |
generate_results | 23.191 | 0.511 | 23.758 | |
makeParams | 2.212 | 0.124 | 2.347 | |
positions_to_regions | 2.034 | 0.059 | 2.102 | |