Back to Multiple platform build/check report for BioC 3.18:   simplified   long
ABCDEFGHIJKL[M]NOPQRSTUVWXYZ

This page was generated on 2023-06-03 11:04:49 -0400 (Sat, 03 Jun 2023).

HostnameOSArch (*)R versionInstalled pkgs
nebbiolo2Linux (Ubuntu 22.04.2 LTS)x86_644.3.0 RC (2023-04-18 r84287) -- "Already Tomorrow" 4593
palomino4Windows Server 2022 Datacenterx644.3.0 RC (2023-04-18 r84287 ucrt) -- "Already Tomorrow" 4342
lconwaymacOS 12.6.5 Montereyx86_644.3.0 RC (2023-04-13 r84266) -- "Already Tomorrow" 4343
Click on any hostname to see more info about the system (e.g. compilers)      (*) as reported by 'uname -p', except on Windows and Mac OS X

All results for package multtest


To the developers/maintainers of the multtest package:
- Allow up to 24 hours (and sometimes 48 hours) for your latest push to git@git.bioconductor.org:packages/multtest.git to reflect on this report. See Troubleshooting Build Report for more information.

- Use the following Renviron settings to reproduce errors and warnings.

Note: If "R CMD check" recently failed on the Linux builder over a missing dependency, add the missing dependency to "Suggests" in your DESCRIPTION file. See the Renviron.bioc for details.

raw results

Package 1322/2199HostnameOS / ArchINSTALLBUILDCHECKBUILD BIN
multtest 2.57.0  (landing page)
Katherine S. Pollard
Snapshot Date: 2023-06-02 14:00:07 -0400 (Fri, 02 Jun 2023)
git_url: https://git.bioconductor.org/packages/multtest
git_branch: devel
git_last_commit: 2f8ffc3
git_last_commit_date: 2023-04-25 09:38:25 -0400 (Tue, 25 Apr 2023)
nebbiolo2Linux (Ubuntu 22.04.2 LTS) / x86_64  OK    OK    WARNINGS  UNNEEDED, same version is already published
palomino4Windows Server 2022 Datacenter / x64  OK    OK    WARNINGS    OK  UNNEEDED, same version is already published
lconwaymacOS 12.6.5 Monterey / x86_64  OK    OK    WARNINGS    OK  UNNEEDED, same version is already published

Results for Bioconductor software packages that depend directly on package multtest

QUICK STATSOS / ArchINSTALLBUILDCHECKBUILD BIN
nebbiolo2Linux (Ubuntu 22.04.2 LTS) / x86_64
0028
0127
00720
palomino4Windows Server 2022 Datacenter / x64
0028
0127
00621
0027
lconwaymacOS 12.6.5 Monterey / x86_64
0028
0127
00621
0027
Package 1/28HostnameOS / ArchINSTALLBUILDCHECKBUILD BIN
a4Base 1.49.0  (landing page)
Laure Cougnaud
git_last_commit: 90b4173
git_last_commit_date: 2023-04-25 10:19:28 -0400
nebbiolo2Linux (Ubuntu 22.04.2 LTS) / x86_64  OK    OK    OK  UNNEEDED, same version is already published
palomino4Windows Server 2022 Datacenter / x64  OK    OK    OK    OK  UNNEEDED, same version is already published
lconwaymacOS 12.6.5 Monterey / x86_64  OK    OK    OK    OK  UNNEEDED, same version is already published
Package 2/28HostnameOS / ArchINSTALLBUILDCHECKBUILD BIN
ABarray 1.69.0  (landing page)
Yongming Andrew Sun
git_last_commit: cedda74
git_last_commit_date: 2023-04-25 09:43:58 -0400
nebbiolo2Linux (Ubuntu 22.04.2 LTS) / x86_64  OK    OK    OK  UNNEEDED, same version is already published
palomino4Windows Server 2022 Datacenter / x64  OK    OK    OK    OK  UNNEEDED, same version is already published
lconwaymacOS 12.6.5 Monterey / x86_64  OK    OK    OK    OK  UNNEEDED, same version is already published
Package 3/28HostnameOS / ArchINSTALLBUILDCHECKBUILD BIN
aCGH 1.79.0  (landing page)
Peter Dimitrov
git_last_commit: 1b45ed9
git_last_commit_date: 2023-04-25 09:40:31 -0400
nebbiolo2Linux (Ubuntu 22.04.2 LTS) / x86_64  OK    OK    OK  UNNEEDED, same version is already published
palomino4Windows Server 2022 Datacenter / x64  OK    OK    OK    OK  UNNEEDED, same version is already published
lconwaymacOS 12.6.5 Monterey / x86_64  OK    OK    OK    OK  UNNEEDED, same version is already published
Package 4/28HostnameOS / ArchINSTALLBUILDCHECKBUILD BIN
adSplit 1.71.0  (landing page)
Claudio Lottaz
git_last_commit: 8e7d76c
git_last_commit_date: 2023-04-25 09:43:13 -0400
nebbiolo2Linux (Ubuntu 22.04.2 LTS) / x86_64  OK    OK    OK  UNNEEDED, same version is already published
palomino4Windows Server 2022 Datacenter / x64  OK    OK    OK    OK  UNNEEDED, same version is already published
lconwaymacOS 12.6.5 Monterey / x86_64  OK    OK    OK    OK  UNNEEDED, same version is already published
Package 5/28HostnameOS / ArchINSTALLBUILDCHECKBUILD BIN
ALDEx2 1.33.0  (landing page)
Greg Gloor
git_last_commit: b8756f5
git_last_commit_date: 2023-04-25 10:34:57 -0400
nebbiolo2Linux (Ubuntu 22.04.2 LTS) / x86_64  OK    OK    WARNINGS  UNNEEDED, same version is already published
palomino4Windows Server 2022 Datacenter / x64  OK    OK    WARNINGS    OK  UNNEEDED, same version is already published
lconwaymacOS 12.6.5 Monterey / x86_64  OK    OK    WARNINGS    OK  UNNEEDED, same version is already published
Package 6/28HostnameOS / ArchINSTALLBUILDCHECKBUILD BIN
anota 1.49.0  (landing page)
Ola Larsson
git_last_commit: bf9cbb9
git_last_commit_date: 2023-04-25 10:19:42 -0400
nebbiolo2Linux (Ubuntu 22.04.2 LTS) / x86_64  OK    OK    OK  UNNEEDED, same version is already published
palomino4Windows Server 2022 Datacenter / x64  OK    OK    OK    OK  UNNEEDED, same version is already published
lconwaymacOS 12.6.5 Monterey / x86_64  OK    OK    OK    OK  UNNEEDED, same version is already published
Package 7/28HostnameOS / ArchINSTALLBUILDCHECKBUILD BIN
anota2seq 1.23.0  (landing page)
Christian Oertlin , Julie Lorent
git_last_commit: 131d9bc
git_last_commit_date: 2023-04-25 10:57:11 -0400
nebbiolo2Linux (Ubuntu 22.04.2 LTS) / x86_64  OK    OK    WARNINGS  UNNEEDED, same version is already published
palomino4Windows Server 2022 Datacenter / x64  OK    OK    OK    OK  UNNEEDED, same version is already published
lconwaymacOS 12.6.5 Monterey / x86_64  OK    OK    OK    OK  UNNEEDED, same version is already published
Package 8/28HostnameOS / ArchINSTALLBUILDCHECKBUILD BIN
BicARE 1.59.0  (landing page)
Pierre Gestraud
git_last_commit: 9e01640
git_last_commit_date: 2023-04-25 09:47:55 -0400
nebbiolo2Linux (Ubuntu 22.04.2 LTS) / x86_64  OK    OK    OK  UNNEEDED, same version is already published
palomino4Windows Server 2022 Datacenter / x64  OK    OK    OK    OK  UNNEEDED, same version is already published
lconwaymacOS 12.6.5 Monterey / x86_64  OK    OK    OK    OK  UNNEEDED, same version is already published
Package 9/28HostnameOS / ArchINSTALLBUILDCHECKBUILD BIN
ChIPpeakAnno 3.35.1  (landing page)
Jianhong Ou
git_last_commit: 71289ee
git_last_commit_date: 2023-04-26 18:35:48 -0400
nebbiolo2Linux (Ubuntu 22.04.2 LTS) / x86_64  OK    OK    OK  UNNEEDED, same version is already published
palomino4Windows Server 2022 Datacenter / x64  OK    OK    OK    OK  UNNEEDED, same version is already published
lconwaymacOS 12.6.5 Monterey / x86_64  OK    OK    OK    OK  UNNEEDED, same version is already published
Package 10/28HostnameOS / ArchINSTALLBUILDCHECKBUILD BIN
GUIDEseq 1.31.0  (landing page)
Lihua Julie Zhu
git_last_commit: d312de5
git_last_commit_date: 2023-04-25 10:42:14 -0400
nebbiolo2Linux (Ubuntu 22.04.2 LTS) / x86_64  OK    OK    OK  UNNEEDED, same version is already published
palomino4Windows Server 2022 Datacenter / x64  OK    OK    OK    OK  UNNEEDED, same version is already published
lconwaymacOS 12.6.5 Monterey / x86_64  OK    OK    OK    OK  UNNEEDED, same version is already published
Package 11/28HostnameOS / ArchINSTALLBUILDCHECKBUILD BIN
iPAC 1.45.0  (landing page)
Gregory Ryslik
git_last_commit: 9b62859
git_last_commit_date: 2023-04-25 10:23:36 -0400
nebbiolo2Linux (Ubuntu 22.04.2 LTS) / x86_64  OK    OK    OK  UNNEEDED, same version is already published
palomino4Windows Server 2022 Datacenter / x64  OK    OK    OK    OK  UNNEEDED, same version is already published
lconwaymacOS 12.6.5 Monterey / x86_64  OK    OK    OK    OK  UNNEEDED, same version is already published
Package 12/28HostnameOS / ArchINSTALLBUILDCHECKBUILD BIN
KCsmart 2.59.0  (landing page)
Jorma de Ronde
git_last_commit: f7a675f
git_last_commit_date: 2023-04-25 09:47:40 -0400
nebbiolo2Linux (Ubuntu 22.04.2 LTS) / x86_64  OK    OK    WARNINGS  UNNEEDED, same version is already published
palomino4Windows Server 2022 Datacenter / x64  OK    OK    WARNINGS    OK  UNNEEDED, same version is already published
lconwaymacOS 12.6.5 Monterey / x86_64  OK    OK    WARNINGS    OK  UNNEEDED, same version is already published
Package 13/28HostnameOS / ArchINSTALLBUILDCHECKBUILD BIN
mAPKL 1.31.0  (landing page)
Argiris Sakellariou
git_last_commit: 9eff7fe
git_last_commit_date: 2023-04-25 10:37:13 -0400
nebbiolo2Linux (Ubuntu 22.04.2 LTS) / x86_64  OK    ERROR  skipped
palomino4Windows Server 2022 Datacenter / x64  OK    ERROR  skippedskipped
lconwaymacOS 12.6.5 Monterey / x86_64  OK    ERROR  skippedskipped
Package 14/28HostnameOS / ArchINSTALLBUILDCHECKBUILD BIN
metabomxtr 1.35.0  (landing page)
Michael Nodzenski
git_last_commit: a19a42d
git_last_commit_date: 2023-04-25 10:33:36 -0400
nebbiolo2Linux (Ubuntu 22.04.2 LTS) / x86_64  OK    OK    OK  UNNEEDED, same version is already published
palomino4Windows Server 2022 Datacenter / x64  OK    OK    OK    OK  UNNEEDED, same version is already published
lconwaymacOS 12.6.5 Monterey / x86_64  OK    OK    OK    OK  UNNEEDED, same version is already published
Package 15/28HostnameOS / ArchINSTALLBUILDCHECKBUILD BIN
microbiomeMarker 1.7.0  (landing page)
Yang Cao
git_last_commit: 687b160
git_last_commit_date: 2023-04-25 11:33:28 -0400
nebbiolo2Linux (Ubuntu 22.04.2 LTS) / x86_64  OK    OK    OK  UNNEEDED, same version is already published
palomino4Windows Server 2022 Datacenter / x64  OK    OK    OK    OK  NO, package depends on 'ANCOMBC' which is not available
lconwaymacOS 12.6.5 Monterey / x86_64  OK    OK    OK    OK  NO, package depends on 'metagenomeSeq' which is not available
Package 16/28HostnameOS / ArchINSTALLBUILDCHECKBUILD BIN
nethet 1.33.0  (landing page)
Nicolas Staedler
git_last_commit: f5e92fa
git_last_commit_date: 2023-04-25 10:36:49 -0400
nebbiolo2Linux (Ubuntu 22.04.2 LTS) / x86_64  OK    OK    WARNINGS  UNNEEDED, same version is already published
palomino4Windows Server 2022 Datacenter / x64  OK    OK    WARNINGS    OK  UNNEEDED, same version is already published
lconwaymacOS 12.6.5 Monterey / x86_64  OK    OK    WARNINGS    OK  UNNEEDED, same version is already published
Package 17/28HostnameOS / ArchINSTALLBUILDCHECKBUILD BIN
OCplus 1.75.0  (landing page)
Alexander Ploner
git_last_commit: f17f463
git_last_commit_date: 2023-04-25 09:43:24 -0400
nebbiolo2Linux (Ubuntu 22.04.2 LTS) / x86_64  OK    OK    OK  UNNEEDED, same version is already published
palomino4Windows Server 2022 Datacenter / x64  OK    OK    OK    OK  UNNEEDED, same version is already published
lconwaymacOS 12.6.5 Monterey / x86_64  OK    OK    OK    OK  UNNEEDED, same version is already published
Package 18/28HostnameOS / ArchINSTALLBUILDCHECKBUILD BIN
phyloseq 1.45.0  (landing page)
Paul J. McMurdie
git_last_commit: 78b659b
git_last_commit_date: 2023-04-25 10:22:14 -0400
nebbiolo2Linux (Ubuntu 22.04.2 LTS) / x86_64  OK    OK    WARNINGS  UNNEEDED, same version is already published
palomino4Windows Server 2022 Datacenter / x64  OK    OK    WARNINGS    OK  UNNEEDED, same version is already published
lconwaymacOS 12.6.5 Monterey / x86_64  OK    OK    WARNINGS    OK  UNNEEDED, same version is already published
Package 19/28HostnameOS / ArchINSTALLBUILDCHECKBUILD BIN
PREDA 1.47.0  (landing page)
Francesco Ferrari
git_last_commit: ff2e09c
git_last_commit_date: 2023-04-25 10:20:33 -0400
nebbiolo2Linux (Ubuntu 22.04.2 LTS) / x86_64  OK    OK    WARNINGS  UNNEEDED, same version is already published
palomino4Windows Server 2022 Datacenter / x64  OK    OK    WARNINGS    OK  UNNEEDED, same version is already published
lconwaymacOS 12.6.5 Monterey / x86_64  OK    OK    WARNINGS    OK  UNNEEDED, same version is already published
Package 20/28HostnameOS / ArchINSTALLBUILDCHECKBUILD BIN
rain 1.35.0  (landing page)
Paul F. Thaben
git_last_commit: 7172217
git_last_commit_date: 2023-04-25 10:34:25 -0400
nebbiolo2Linux (Ubuntu 22.04.2 LTS) / x86_64  OK    OK    OK  UNNEEDED, same version is already published
palomino4Windows Server 2022 Datacenter / x64  OK    OK    OK    OK  UNNEEDED, same version is already published
lconwaymacOS 12.6.5 Monterey / x86_64  OK    OK    OK    OK  UNNEEDED, same version is already published
Package 21/28HostnameOS / ArchINSTALLBUILDCHECKBUILD BIN
REDseq 1.47.0  (landing page)
Lihua Julie Zhu
git_last_commit: ba84f00
git_last_commit_date: 2023-04-25 10:19:52 -0400
nebbiolo2Linux (Ubuntu 22.04.2 LTS) / x86_64  OK    OK    OK  UNNEEDED, same version is already published
palomino4Windows Server 2022 Datacenter / x64  OK    OK    OK    OK  UNNEEDED, same version is already published
lconwaymacOS 12.6.5 Monterey / x86_64  OK    OK    OK    OK  UNNEEDED, same version is already published
Package 22/28HostnameOS / ArchINSTALLBUILDCHECKBUILD BIN
RTopper 1.47.0  (landing page)
Luigi Marchionni
git_last_commit: 2452a6b
git_last_commit_date: 2023-04-25 10:20:52 -0400
nebbiolo2Linux (Ubuntu 22.04.2 LTS) / x86_64  OK    OK    OK  UNNEEDED, same version is already published
palomino4Windows Server 2022 Datacenter / x64  OK    OK    OK    OK  UNNEEDED, same version is already published
lconwaymacOS 12.6.5 Monterey / x86_64  OK    OK    OK    OK  UNNEEDED, same version is already published
Package 23/28HostnameOS / ArchINSTALLBUILDCHECKBUILD BIN
siggenes 1.75.0  (landing page)
Holger Schwender
git_last_commit: 33f5607
git_last_commit_date: 2023-04-25 09:39:10 -0400
nebbiolo2Linux (Ubuntu 22.04.2 LTS) / x86_64  OK    OK    OK  UNNEEDED, same version is already published
palomino4Windows Server 2022 Datacenter / x64  OK    OK    OK    OK  UNNEEDED, same version is already published
lconwaymacOS 12.6.5 Monterey / x86_64  OK    OK    OK    OK  UNNEEDED, same version is already published
Package 24/28HostnameOS / ArchINSTALLBUILDCHECKBUILD BIN
SingleCellSignalR 1.13.0  (landing page)
Jacques Colinge Developer
git_last_commit: c97df9e
git_last_commit_date: 2023-04-25 11:18:03 -0400
nebbiolo2Linux (Ubuntu 22.04.2 LTS) / x86_64  OK    OK    WARNINGS  UNNEEDED, same version is already published
palomino4Windows Server 2022 Datacenter / x64  OK    OK    WARNINGS    OK  UNNEEDED, same version is already published
lconwaymacOS 12.6.5 Monterey / x86_64  OK    OK    WARNINGS    OK  UNNEEDED, same version is already published
Package 25/28HostnameOS / ArchINSTALLBUILDCHECKBUILD BIN
singleCellTK 2.11.0  (landing page)
Yichen Wang
git_last_commit: bce567d2
git_last_commit_date: 2023-04-25 11:01:21 -0400
nebbiolo2Linux (Ubuntu 22.04.2 LTS) / x86_64  OK    OK    OK  UNNEEDED, same version is already published
palomino4Windows Server 2022 Datacenter / x64  OK    OK    OK    OK  NO, package depends on 'scater' which is not available
lconwaymacOS 12.6.5 Monterey / x86_64  OK    OK    OK    OK  UNNEEDED, same version is already published
Package 26/28HostnameOS / ArchINSTALLBUILDCHECKBUILD BIN
synapter 2.25.0  (landing page)
Laurent Gatto
git_last_commit: 26ad5c6
git_last_commit_date: 2023-04-25 10:23:28 -0400
nebbiolo2Linux (Ubuntu 22.04.2 LTS) / x86_64  OK    OK    OK  NO, package depends on 'MSnbase' which is not available
palomino4Windows Server 2022 Datacenter / x64  OK    OK    OK    OK  UNNEEDED, same version is already published
lconwaymacOS 12.6.5 Monterey / x86_64  OK    OK    OK    OK  UNNEEDED, same version is already published
Package 27/28HostnameOS / ArchINSTALLBUILDCHECKBUILD BIN
webbioc 1.73.0  (landing page)
Colin A. Smith
git_last_commit: 7557ac1
git_last_commit_date: 2023-04-25 09:39:33 -0400
nebbiolo2Linux (Ubuntu 22.04.2 LTS) / x86_64  OK    OK    OK  NO, package depends on 'affy' which is not available
palomino4Windows Server 2022 Datacenter / x64  OK    OK    OK    OK  UNNEEDED, same version is already published
lconwaymacOS 12.6.5 Monterey / x86_64  OK    OK    OK    OK  UNNEEDED, same version is already published
Package 28/28HostnameOS / ArchINSTALLBUILDCHECKBUILD BIN
xcms 3.99.2  (landing page)
Steffen Neumann
git_last_commit: bf1eb5a
git_last_commit_date: 2023-05-04 04:13:22 -0400
nebbiolo2Linux (Ubuntu 22.04.2 LTS) / x86_64  OK    OK    OK  NO, package depends on 'MSnbase' which is not available
palomino4Windows Server 2022 Datacenter / x64  OK    OK    OK    OK  UNNEEDED, same version is already published
lconwaymacOS 12.6.5 Monterey / x86_64  OK    OK    OK    OK  UNNEEDED, same version is already published