Back to Multiple platform build/check report for BioC 3.19:   simplified   long
A[B]CDEFGHIJKLMNOPQRSTUVWXYZ

This page was generated on 2023-11-30 11:34:24 -0500 (Thu, 30 Nov 2023).

HostnameOSArch (*)R versionInstalled pkgs
nebbiolo1Linux (Ubuntu 22.04.2 LTS)x86_64R Under development (unstable) (2023-11-11 r85510) -- "Unsuffered Consequences" 4601
palomino3Windows Server 2022 Datacenterx64R Under development (unstable) (2023-11-14 r85524 ucrt) -- "Unsuffered Consequences" 4343
merida1macOS 12.7.1 Montereyx86_64R Under development (unstable) (2023-11-11 r85510) -- "Unsuffered Consequences" 4368
kunpeng2Linux (openEuler 22.03 LTS-SP1)aarch64R Under development (unstable) (2023-11-01 r85459) -- "Unsuffered Consequences" 4253
Click on any hostname to see more info about the system (e.g. compilers)      (*) as reported by 'uname -p', except on Windows and Mac OS X

All results for package bsseq


To the developers/maintainers of the bsseq package:
- Allow up to 24 hours (and sometimes 48 hours) for your latest push to git@git.bioconductor.org:packages/bsseq.git to reflect on this report. See Troubleshooting Build Report for more information.
- Use the following Renviron settings to reproduce errors and warnings.
- If 'R CMD check' started to fail recently on the Linux builder(s) over a missing dependency, add the missing dependency to 'Suggests:' in your DESCRIPTION file. See Renviron.bioc for more information.

raw results

Package 239/2225HostnameOS / ArchINSTALLBUILDCHECKBUILD BIN
bsseq 1.39.0  (landing page)
Kasper Daniel Hansen
Snapshot Date: 2023-11-29 14:00:17 -0500 (Wed, 29 Nov 2023)
git_url: https://git.bioconductor.org/packages/bsseq
git_branch: devel
git_last_commit: c22c4d2
git_last_commit_date: 2023-10-24 09:50:39 -0500 (Tue, 24 Oct 2023)
nebbiolo1Linux (Ubuntu 22.04.2 LTS) / x86_64  OK    OK    OK  UNNEEDED, same version is already published
palomino3Windows Server 2022 Datacenter / x64  OK    OK    OK    OK  UNNEEDED, same version is already published
merida1macOS 12.7.1 Monterey / x86_64  OK    OK    OK    OK  UNNEEDED, same version is already published
kunpeng2Linux (openEuler 22.03 LTS-SP1) / aarch64  OK    OK    OK  

Results for Bioconductor software packages that depend directly on package bsseq

QUICK STATSOS / ArchINSTALLBUILDCHECKBUILD BIN
nebbiolo1Linux (Ubuntu 22.04.2 LTS) / x86_64
0011
0110
0118
palomino3Windows Server 2022 Datacenter / x64
0011
0011
1028
0011
merida1macOS 12.7.1 Monterey / x86_64
0011
0011
1028
009
kunpeng2Linux (openEuler 22.03 LTS-SP1) / aarch64
0011
047
0025
Package 1/11HostnameOS / ArchINSTALLBUILDCHECKBUILD BIN
biscuiteer 1.17.0  (landing page)
Jacob Morrison
git_last_commit: 365f240
git_last_commit_date: 2023-10-24 11:17:31 -0500
nebbiolo1Linux (Ubuntu 22.04.2 LTS) / x86_64  OK    OK    WARNINGS  UNNEEDED, same version is already published
palomino3Windows Server 2022 Datacenter / x64  OK    OK    WARNINGS    OK  UNNEEDED, same version is already published
merida1macOS 12.7.1 Monterey / x86_64  OK    OK    WARNINGS    OK  UNNEEDED, same version is already published
kunpeng2Linux (openEuler 22.03 LTS-SP1) / aarch64  OK    OK    WARNINGS  
Package 2/11HostnameOS / ArchINSTALLBUILDCHECKBUILD BIN
borealis 1.7.0  (landing page)
Garrett Jenkinson
git_last_commit: 6999560
git_last_commit_date: 2023-10-24 11:41:29 -0500
nebbiolo1Linux (Ubuntu 22.04.2 LTS) / x86_64  OK    OK    OK  UNNEEDED, same version is already published
palomino3Windows Server 2022 Datacenter / x64  OK    OK    OK    OK  UNNEEDED, same version is already published
merida1macOS 12.7.1 Monterey / x86_64  OK    OK    OK    OK  UNNEEDED, same version is already published
kunpeng2Linux (openEuler 22.03 LTS-SP1) / aarch64  OK    ERROR  skipped
Package 3/11HostnameOS / ArchINSTALLBUILDCHECKBUILD BIN
DMRcate 2.17.0  (landing page)
Tim Peters
git_last_commit: 1480d24
git_last_commit_date: 2023-10-24 09:57:39 -0500
nebbiolo1Linux (Ubuntu 22.04.2 LTS) / x86_64  OK    ERROR  skipped
palomino3Windows Server 2022 Datacenter / x64  OK    OK    TIMEOUT    OK  
merida1macOS 12.7.1 Monterey / x86_64  OK    OK    TIMEOUT    OK  
kunpeng2Linux (openEuler 22.03 LTS-SP1) / aarch64  OK    ERROR  skipped
Package 4/11HostnameOS / ArchINSTALLBUILDCHECKBUILD BIN
dmrseq 1.23.0  (landing page)
Keegan Korthauer
git_last_commit: 9724fff
git_last_commit_date: 2023-10-24 11:03:07 -0500
nebbiolo1Linux (Ubuntu 22.04.2 LTS) / x86_64  OK    OK    OK  UNNEEDED, same version is already published
palomino3Windows Server 2022 Datacenter / x64  OK    OK    OK    OK  UNNEEDED, same version is already published
merida1macOS 12.7.1 Monterey / x86_64  OK    OK    OK    OK  UNNEEDED, same version is already published
kunpeng2Linux (openEuler 22.03 LTS-SP1) / aarch64  OK    ERROR  skipped
Package 5/11HostnameOS / ArchINSTALLBUILDCHECKBUILD BIN
DSS 2.51.0  (landing page)
Hao Wu , Hao Feng
git_last_commit: 03fc966
git_last_commit_date: 2023-10-24 09:50:26 -0500
nebbiolo1Linux (Ubuntu 22.04.2 LTS) / x86_64  OK    OK    ERROR  
palomino3Windows Server 2022 Datacenter / x64  OK    OK    WARNINGS    OK  UNNEEDED, same version is already published
merida1macOS 12.7.1 Monterey / x86_64  OK    OK    WARNINGS    OK  UNNEEDED, same version is already published
kunpeng2Linux (openEuler 22.03 LTS-SP1) / aarch64  OK    OK    WARNINGS  
Package 6/11HostnameOS / ArchINSTALLBUILDCHECKBUILD BIN
methylCC 1.17.0  (landing page)
Stephanie C. Hicks
git_last_commit: a810ab3
git_last_commit_date: 2023-10-24 11:16:54 -0500
nebbiolo1Linux (Ubuntu 22.04.2 LTS) / x86_64  OK    OK    OK  UNNEEDED, same version is already published
palomino3Windows Server 2022 Datacenter / x64  OK    OK    OK    OK  UNNEEDED, same version is already published
merida1macOS 12.7.1 Monterey / x86_64  OK    OK    OK    OK  UNNEEDED, same version is already published
kunpeng2Linux (openEuler 22.03 LTS-SP1) / aarch64  OK    OK    OK  
Package 7/11HostnameOS / ArchINSTALLBUILDCHECKBUILD BIN
methylSig 1.15.0  (landing page)
Raymond G. Cavalcante
git_last_commit: 6d7efe4
git_last_commit_date: 2023-10-24 11:21:42 -0500
nebbiolo1Linux (Ubuntu 22.04.2 LTS) / x86_64  OK    OK    OK  UNNEEDED, same version is already published
palomino3Windows Server 2022 Datacenter / x64  OK    OK    OK    OK  UNNEEDED, same version is already published
merida1macOS 12.7.1 Monterey / x86_64  OK    OK    OK    OK  UNNEEDED, same version is already published
kunpeng2Linux (openEuler 22.03 LTS-SP1) / aarch64  OK    OK    OK  
Package 8/11HostnameOS / ArchINSTALLBUILDCHECKBUILD BIN
MIRA 1.25.0  (landing page)
John Lawson
git_last_commit: 0582ff6
git_last_commit_date: 2023-10-24 11:00:09 -0500
nebbiolo1Linux (Ubuntu 22.04.2 LTS) / x86_64  OK    OK    OK  UNNEEDED, same version is already published
palomino3Windows Server 2022 Datacenter / x64  OK    OK    OK    OK  UNNEEDED, same version is already published
merida1macOS 12.7.1 Monterey / x86_64  OK    OK    OK    OK  UNNEEDED, same version is already published
kunpeng2Linux (openEuler 22.03 LTS-SP1) / aarch64  OK    OK    OK  
Package 9/11HostnameOS / ArchINSTALLBUILDCHECKBUILD BIN
NanoMethViz 2.9.0  (landing page)
Shian Su
git_last_commit: 5b6d279
git_last_commit_date: 2023-10-24 11:27:30 -0500
nebbiolo1Linux (Ubuntu 22.04.2 LTS) / x86_64  OK    OK    OK  UNNEEDED, same version is already published
palomino3Windows Server 2022 Datacenter / x64  OK    OK    OK    OK  UNNEEDED, same version is already published
merida1macOS 12.7.1 Monterey / x86_64  OK    OK    OK    OK  UNNEEDED, same version is already published
kunpeng2Linux (openEuler 22.03 LTS-SP1) / aarch64  OK    OK    OK  
Package 10/11HostnameOS / ArchINSTALLBUILDCHECKBUILD BIN
scmeth 1.23.0  (landing page)
Divy Kangeyan
git_last_commit: 5569f96
git_last_commit_date: 2023-10-24 11:02:56 -0500
nebbiolo1Linux (Ubuntu 22.04.2 LTS) / x86_64  OK    OK    OK  UNNEEDED, same version is already published
palomino3Windows Server 2022 Datacenter / x64  OK    OK    OK    OK  UNNEEDED, same version is already published
merida1macOS 12.7.1 Monterey / x86_64  OK    OK    OK    NA  
kunpeng2Linux (openEuler 22.03 LTS-SP1) / aarch64  OK    ERROR  skipped
Package 11/11HostnameOS / ArchINSTALLBUILDCHECKBUILD BIN
SOMNiBUS 1.11.0  (landing page)
Kathleen Klein
git_last_commit: 96c6ca1
git_last_commit_date: 2023-10-24 11:29:28 -0500
nebbiolo1Linux (Ubuntu 22.04.2 LTS) / x86_64  OK    OK    OK  UNNEEDED, same version is already published
palomino3Windows Server 2022 Datacenter / x64  OK    OK    OK    OK  UNNEEDED, same version is already published
merida1macOS 12.7.1 Monterey / x86_64  OK    OK    OK    NA  
kunpeng2Linux (openEuler 22.03 LTS-SP1) / aarch64  OK    OK    OK