Back to Multiple platform build/check report for BioC 3.16
ABC[D]EFGHIJKLMNOPQRSTUVWXYZ

This page was generated on 2022-05-21 11:04:14 -0400 (Sat, 21 May 2022).

HostnameOSArch (*)R versionInstalled pkgs
nebbiolo2Linux (Ubuntu 20.04.4 LTS)x86_644.2.0 RC (2022-04-21 r82226) -- "Vigorous Calisthenics" 4357
palomino4Windows Server 2022 Datacenterx644.2.0 Patched (2022-04-24 r82246 ucrt) -- "Vigorous Calisthenics" 4129
lconwaymacOS 12.2.1 Montereyx86_644.2.0 Patched (2022-04-24 r82246) -- "Vigorous Calisthenics" 4138
Click on any hostname to see more info about the system (e.g. compilers)      (*) as reported by 'uname -p', except on Windows and Mac OS X

All results for package decontam


To the developers/maintainers of the decontam package:
- Please allow up to 24 hours (and sometimes 48 hours) for your latest push to git@git.bioconductor.org:packages/decontam.git to
reflect on this report. See How and When does the builder pull? When will my changes propagate? for more information.
- Make sure to use the following settings in order to reproduce any error or warning you see on this page.

raw results

Package 479/2112HostnameOS / ArchINSTALLBUILDCHECKBUILD BIN
decontam 1.17.0  (landing page)
Benjamin Callahan
Snapshot Date: 2022-05-20 13:55:06 -0400 (Fri, 20 May 2022)
git_url: https://git.bioconductor.org/packages/decontam
git_branch: master
git_last_commit: d0a8639
git_last_commit_date: 2022-04-26 11:48:30 -0400 (Tue, 26 Apr 2022)
nebbiolo2Linux (Ubuntu 20.04.4 LTS) / x86_64  OK    OK    OK  UNNEEDED, same version is already published
palomino4Windows Server 2022 Datacenter / x64  OK    OK    OK    OK  UNNEEDED, same version is already published
lconwaymacOS 12.2.1 Monterey / x86_64  OK    OK    OK    OK  UNNEEDED, same version is already published

Results for Bioconductor software packages that depend directly on package decontam

QUICK STATSOS / ArchINSTALLBUILDCHECKBUILD BIN
nebbiolo2Linux (Ubuntu 20.04.4 LTS) / x86_64
001
001
0001
palomino4Windows Server 2022 Datacenter / x64
001
001
0001
001
lconwaymacOS 12.2.1 Monterey / x86_64
001
001
0001
001
Package 1/1HostnameOS / ArchINSTALLBUILDCHECKBUILD BIN
mia 1.5.0  (landing page)
Felix G.M. Ernst
git_last_commit: ed11eab
git_last_commit_date: 2022-04-26 12:14:03 -0400
nebbiolo2Linux (Ubuntu 20.04.4 LTS) / x86_64  OK    OK    OK  UNNEEDED, same version is already published
palomino4Windows Server 2022 Datacenter / x64  OK    OK    OK    OK  UNNEEDED, same version is already published
lconwaymacOS 12.2.1 Monterey / x86_64  OK    OK    OK    OK  UNNEEDED, same version is already published