Back to Multiple platform build/check report for BioC 3.19:   simplified   long
ABCDEFGHIJKLMNOPQR[S]TUVWXYZ

This page was generated on 2023-11-29 11:34:33 -0500 (Wed, 29 Nov 2023).

HostnameOSArch (*)R versionInstalled pkgs
nebbiolo1Linux (Ubuntu 22.04.2 LTS)x86_64R Under development (unstable) (2023-11-11 r85510) -- "Unsuffered Consequences" 4601
palomino3Windows Server 2022 Datacenterx64R Under development (unstable) (2023-11-14 r85524 ucrt) -- "Unsuffered Consequences" 4343
merida1macOS 12.7.1 Montereyx86_64R Under development (unstable) (2023-11-11 r85510) -- "Unsuffered Consequences" 4368
kunpeng2Linux (openEuler 22.03 LTS-SP1)aarch64R Under development (unstable) (2023-11-01 r85459) -- "Unsuffered Consequences" 4253
Click on any hostname to see more info about the system (e.g. compilers)      (*) as reported by 'uname -p', except on Windows and Mac OS X

All results for package scran


To the developers/maintainers of the scran package:
- Allow up to 24 hours (and sometimes 48 hours) for your latest push to git@git.bioconductor.org:packages/scran.git to reflect on this report. See Troubleshooting Build Report for more information.
- Use the following Renviron settings to reproduce errors and warnings.
- If 'R CMD check' started to fail recently on the Linux builder(s) over a missing dependency, add the missing dependency to 'Suggests:' in your DESCRIPTION file. See Renviron.bioc for more information.

raw results

Package 1858/2225HostnameOS / ArchINSTALLBUILDCHECKBUILD BIN
scran 1.31.0  (landing page)
Aaron Lun
Snapshot Date: 2023-11-28 14:00:17 -0500 (Tue, 28 Nov 2023)
git_url: https://git.bioconductor.org/packages/scran
git_branch: devel
git_last_commit: d75f915
git_last_commit_date: 2023-10-24 10:49:26 -0500 (Tue, 24 Oct 2023)
nebbiolo1Linux (Ubuntu 22.04.2 LTS) / x86_64  OK    OK    WARNINGS  UNNEEDED, same version is already published
palomino3Windows Server 2022 Datacenter / x64  OK    ERROR  skippedskipped
merida1macOS 12.7.1 Monterey / x86_64  OK    OK    WARNINGS    NA  
kunpeng2Linux (openEuler 22.03 LTS-SP1) / aarch64  OK    ERROR  skipped

Results for Bioconductor software packages that depend directly on package scran

QUICK STATSOS / ArchINSTALLBUILDCHECKBUILD BIN
nebbiolo1Linux (Ubuntu 22.04.2 LTS) / x86_64
0220
0319
02314
palomino3Windows Server 2022 Datacenter / x64
0219
01110
0226
0010
merida1macOS 12.7.1 Monterey / x86_64
0220
0319
01315
007
kunpeng2Linux (openEuler 22.03 LTS-SP1) / aarch64
0814
0148
0323
Package 1/22HostnameOS / ArchINSTALLBUILDCHECKBUILD BIN
BASiCS 2.15.0  (landing page)
Catalina Vallejos
git_last_commit: 9507b7e
git_last_commit_date: 2023-10-24 11:00:00 -0500
nebbiolo1Linux (Ubuntu 22.04.2 LTS) / x86_64  ERROR    ERROR  skipped
palomino3Windows Server 2022 Datacenter / x64  ERROR    ERROR  skippedskipped
merida1macOS 12.7.1 Monterey / x86_64  ERROR    ERROR  skippedskipped
kunpeng2Linux (openEuler 22.03 LTS-SP1) / aarch64  ERROR    ERROR  skipped
Package 2/22HostnameOS / ArchINSTALLBUILDCHECKBUILD BIN
BASiCStan 1.5.0  (landing page)
Alan O'Callaghan
git_last_commit: 77e71ae
git_last_commit_date: 2023-10-24 11:43:36 -0500
nebbiolo1Linux (Ubuntu 22.04.2 LTS) / x86_64  ERROR    ERROR  skipped
palomino3Windows Server 2022 Datacenter / x64  ERROR    ERROR  skippedskipped
merida1macOS 12.7.1 Monterey / x86_64  ERROR    ERROR  skippedskipped
kunpeng2Linux (openEuler 22.03 LTS-SP1) / aarch64  ERROR    ERROR  skipped
Package 3/22HostnameOS / ArchINSTALLBUILDCHECKBUILD BIN
BayesSpace 1.13.0  (landing page)
Matt Stone
git_last_commit: 66e4609
git_last_commit_date: 2023-10-24 11:26:25 -0500
nebbiolo1Linux (Ubuntu 22.04.2 LTS) / x86_64  OK    OK    OK  UNNEEDED, same version is already published
palomino3Windows Server 2022 Datacenter / x64  OK    OK    OK    OK  UNNEEDED, same version is already published
merida1macOS 12.7.1 Monterey / x86_64  OK    OK    OK    OK  UNNEEDED, same version is already published
kunpeng2Linux (openEuler 22.03 LTS-SP1) / aarch64  OK    OK    ERROR  
Package 4/22HostnameOS / ArchINSTALLBUILDCHECKBUILD BIN
BioTIP 1.17.0  (landing page)
Yuxi (Jennifer) Sun , Zhezhen Wang , and X Holly Yang
git_last_commit: 6f50250
git_last_commit_date: 2023-10-31 17:35:15 -0500
nebbiolo1Linux (Ubuntu 22.04.2 LTS) / x86_64  OK    OK    WARNINGS  UNNEEDED, same version is already published
palomino3Windows Server 2022 Datacenter / x64  OK    OK    WARNINGS    OK  UNNEEDED, same version is already published
merida1macOS 12.7.1 Monterey / x86_64  OK    OK    WARNINGS    OK  UNNEEDED, same version is already published
kunpeng2Linux (openEuler 22.03 LTS-SP1) / aarch64  OK    OK    WARNINGS  
Package 5/22HostnameOS / ArchINSTALLBUILDCHECKBUILD BIN
celda 1.19.1  (landing page)
Joshua Campbell
git_last_commit: 8c4c8575
git_last_commit_date: 2023-11-04 11:39:22 -0500
nebbiolo1Linux (Ubuntu 22.04.2 LTS) / x86_64  OK    OK    OK  UNNEEDED, same version is already published
palomino3Windows Server 2022 Datacenter / x64  OK    ERROR  skippedskipped
merida1macOS 12.7.1 Monterey / x86_64  OK    OK    OK    OK  UNNEEDED, same version is already published
kunpeng2Linux (openEuler 22.03 LTS-SP1) / aarch64  OK    ERROR  skipped
Package 6/22HostnameOS / ArchINSTALLBUILDCHECKBUILD BIN
ChromSCape 1.13.0  (landing page)
Pacome Prompsy
git_last_commit: d73b93e
git_last_commit_date: 2023-10-24 11:26:16 -0500
nebbiolo1Linux (Ubuntu 22.04.2 LTS) / x86_64  OK    OK    WARNINGS  UNNEEDED, same version is already published
palomino3Windows Server 2022 Datacenter / x64  OK    OK    ERROR    OK  
merida1macOS 12.7.1 Monterey / x86_64  OK    OK    WARNINGS    OK  UNNEEDED, same version is already published
kunpeng2Linux (openEuler 22.03 LTS-SP1) / aarch64  OK    OK    ERROR  
Package 7/22HostnameOS / ArchINSTALLBUILDCHECKBUILD BIN
CiteFuse 1.15.0  (landing page)
Yingxin Lin
git_last_commit: c3cb186
git_last_commit_date: 2023-10-24 11:21:20 -0500
nebbiolo1Linux (Ubuntu 22.04.2 LTS) / x86_64  OK    OK    OK  UNNEEDED, same version is already published
palomino3Windows Server 2022 Datacenter / x64  OK    ERROR  skippedskipped
merida1macOS 12.7.1 Monterey / x86_64  OK    OK    OK    OK  UNNEEDED, same version is already published
kunpeng2Linux (openEuler 22.03 LTS-SP1) / aarch64  OK    ERROR  skipped
Package 8/22HostnameOS / ArchINSTALLBUILDCHECKBUILD BIN
Dino 1.9.0  (landing page)
Jared Brown
git_last_commit: ed70d22
git_last_commit_date: 2023-10-24 11:34:47 -0500
nebbiolo1Linux (Ubuntu 22.04.2 LTS) / x86_64  OK    OK    OK  UNNEEDED, same version is already published
palomino3Windows Server 2022 Datacenter / x64  OK    ERROR  skippedskipped
merida1macOS 12.7.1 Monterey / x86_64  OK    OK    OK    OK  UNNEEDED, same version is already published
kunpeng2Linux (openEuler 22.03 LTS-SP1) / aarch64  ERROR    ERROR  skipped
Package 9/22HostnameOS / ArchINSTALLBUILDCHECKBUILD BIN
FLAMES 1.9.0  (landing page)
Oliver Voogd
git_last_commit: f1ab2cd
git_last_commit_date: 2023-10-24 11:34:56 -0500
nebbiolo1Linux (Ubuntu 22.04.2 LTS) / x86_64  OK    OK    OK  UNNEEDED, same version is already published
palomino3Windows Server 2022 Datacenter / x64... NOT SUPPORTED ...
merida1macOS 12.7.1 Monterey / x86_64  OK    OK    OK    OK  UNNEEDED, same version is already published
kunpeng2Linux (openEuler 22.03 LTS-SP1) / aarch64  OK    OK    ERROR  
Package 10/22HostnameOS / ArchINSTALLBUILDCHECKBUILD BIN
IRISFGM 1.11.0  (landing page)
Yuzhou Chang
git_last_commit: f77bd35
git_last_commit_date: 2023-10-24 11:30:04 -0500
nebbiolo1Linux (Ubuntu 22.04.2 LTS) / x86_64  OK    ERROR  skipped
palomino3Windows Server 2022 Datacenter / x64  OK    ERROR  skippedskipped
merida1macOS 12.7.1 Monterey / x86_64  OK    ERROR  skippedskipped
kunpeng2Linux (openEuler 22.03 LTS-SP1) / aarch64  ERROR    ERROR  skipped
Package 11/22HostnameOS / ArchINSTALLBUILDCHECKBUILD BIN
lute 0.99.24  (landing page)
Sean K Maden
git_last_commit: 70f6287
git_last_commit_date: 2023-10-25 14:13:28 -0500
nebbiolo1Linux (Ubuntu 22.04.2 LTS) / x86_64  OK    OK    OK  UNNEEDED, same version is already published
palomino3Windows Server 2022 Datacenter / x64  OK    OK    OK    OK  UNNEEDED, same version is already published
merida1macOS 12.7.1 Monterey / x86_64  OK    OK    OK    NA  
kunpeng2Linux (openEuler 22.03 LTS-SP1) / aarch64  OK    OK    OK  
Package 12/22HostnameOS / ArchINSTALLBUILDCHECKBUILD BIN
msImpute 1.13.0  (landing page)
Soroor Hediyeh-zadeh
git_last_commit: 165843f
git_last_commit_date: 2023-10-24 11:25:52 -0500
nebbiolo1Linux (Ubuntu 22.04.2 LTS) / x86_64  OK    OK    OK  UNNEEDED, same version is already published
palomino3Windows Server 2022 Datacenter / x64  OK    OK    OK    OK  UNNEEDED, same version is already published
merida1macOS 12.7.1 Monterey / x86_64  OK    OK    OK    NA  
kunpeng2Linux (openEuler 22.03 LTS-SP1) / aarch64  OK    OK    OK  
Package 13/22HostnameOS / ArchINSTALLBUILDCHECKBUILD BIN
mumosa 1.11.0  (landing page)
Aaron Lun
git_last_commit: e6e284e
git_last_commit_date: 2023-10-24 11:28:43 -0500
nebbiolo1Linux (Ubuntu 22.04.2 LTS) / x86_64  OK    OK    OK  UNNEEDED, same version is already published
palomino3Windows Server 2022 Datacenter / x64  OK    ERROR  skippedskipped
merida1macOS 12.7.1 Monterey / x86_64  OK    OK    OK    NA  
kunpeng2Linux (openEuler 22.03 LTS-SP1) / aarch64  OK    ERROR  skipped
Package 14/22HostnameOS / ArchINSTALLBUILDCHECKBUILD BIN
pipeComp 1.13.0  (landing page)
Pierre-Luc Germain
git_last_commit: 163898b
git_last_commit_date: 2023-10-24 11:23:19 -0500
nebbiolo1Linux (Ubuntu 22.04.2 LTS) / x86_64  OK    OK    OK  UNNEEDED, same version is already published
palomino3Windows Server 2022 Datacenter / x64  OK    OK    OK    OK  UNNEEDED, same version is already published
merida1macOS 12.7.1 Monterey / x86_64  OK    OK    OK    NA  
kunpeng2Linux (openEuler 22.03 LTS-SP1) / aarch64  ERROR    ERROR  skipped
Package 15/22HostnameOS / ArchINSTALLBUILDCHECKBUILD BIN
scDblFinder 1.17.0  (landing page)
Pierre-Luc Germain
git_last_commit: a02e882
git_last_commit_date: 2023-10-24 11:17:39 -0500
nebbiolo1Linux (Ubuntu 22.04.2 LTS) / x86_64  OK    OK    OK  UNNEEDED, same version is already published
palomino3Windows Server 2022 Datacenter / x64  OK    ERROR  skippedskipped
merida1macOS 12.7.1 Monterey / x86_64  OK    OK    OK    NA  
kunpeng2Linux (openEuler 22.03 LTS-SP1) / aarch64  OK    ERROR  skipped
Package 16/22HostnameOS / ArchINSTALLBUILDCHECKBUILD BIN
scDD 1.27.0  (landing page)
Keegan Korthauer
git_last_commit: caf0a1a
git_last_commit_date: 2023-10-24 10:54:42 -0500
nebbiolo1Linux (Ubuntu 22.04.2 LTS) / x86_64  OK    OK    OK  UNNEEDED, same version is already published
palomino3Windows Server 2022 Datacenter / x64  OK    OK    OK    OK  UNNEEDED, same version is already published
merida1macOS 12.7.1 Monterey / x86_64  OK    OK    OK    NA  
kunpeng2Linux (openEuler 22.03 LTS-SP1) / aarch64  OK    OK    OK  
Package 17/22HostnameOS / ArchINSTALLBUILDCHECKBUILD BIN
scMerge 1.19.0  (landing page)
Yingxin Lin
git_last_commit: e5feace
git_last_commit_date: 2023-10-24 11:13:27 -0500
nebbiolo1Linux (Ubuntu 22.04.2 LTS) / x86_64  OK    OK    OK  UNNEEDED, same version is already published
palomino3Windows Server 2022 Datacenter / x64  OK    ERROR  skippedskipped
merida1macOS 12.7.1 Monterey / x86_64  OK    OK    OK    NA  
kunpeng2Linux (openEuler 22.03 LTS-SP1) / aarch64  OK    ERROR  skipped
Package 18/22HostnameOS / ArchINSTALLBUILDCHECKBUILD BIN
scTreeViz 1.9.0  (landing page)
Jayaram Kancherla
git_last_commit: 28169b2
git_last_commit_date: 2023-10-24 11:36:50 -0500
nebbiolo1Linux (Ubuntu 22.04.2 LTS) / x86_64  OK    OK    OK  UNNEEDED, same version is already published
palomino3Windows Server 2022 Datacenter / x64  OK    OK    OK    OK  UNNEEDED, same version is already published
merida1macOS 12.7.1 Monterey / x86_64  OK    OK    OK    NA  
kunpeng2Linux (openEuler 22.03 LTS-SP1) / aarch64  ERROR    ERROR  skipped
Package 19/22HostnameOS / ArchINSTALLBUILDCHECKBUILD BIN
SingleCellSignalR 1.15.0  (landing page)
Jacques Colinge Developer
git_last_commit: 299b500
git_last_commit_date: 2023-10-24 11:22:07 -0500
nebbiolo1Linux (Ubuntu 22.04.2 LTS) / x86_64  OK    OK    WARNINGS  UNNEEDED, same version is already published
palomino3Windows Server 2022 Datacenter / x64  OK    OK    WARNINGS    OK  UNNEEDED, same version is already published
merida1macOS 12.7.1 Monterey / x86_64  OK    OK    WARNINGS    NA  
kunpeng2Linux (openEuler 22.03 LTS-SP1) / aarch64  OK    OK    WARNINGS  
Package 20/22HostnameOS / ArchINSTALLBUILDCHECKBUILD BIN
singleCellTK 2.13.0  (landing page)
Yichen Wang
git_last_commit: 0382caa
git_last_commit_date: 2023-10-24 11:04:51 -0500
nebbiolo1Linux (Ubuntu 22.04.2 LTS) / x86_64  OK    OK    ERROR  
palomino3Windows Server 2022 Datacenter / x64  OK    OK    ERROR    OK  
merida1macOS 12.7.1 Monterey / x86_64  OK    OK    ERROR    NA  
kunpeng2Linux (openEuler 22.03 LTS-SP1) / aarch64  ERROR    ERROR  skipped
Package 21/22HostnameOS / ArchINSTALLBUILDCHECKBUILD BIN
Spaniel 1.17.0  (landing page)
Rachel Queen
git_last_commit: 28eec4b
git_last_commit_date: 2023-10-24 11:16:38 -0500
nebbiolo1Linux (Ubuntu 22.04.2 LTS) / x86_64  OK    OK    OK  UNNEEDED, same version is already published
palomino3Windows Server 2022 Datacenter / x64  OK    ERROR  skippedskipped
merida1macOS 12.7.1 Monterey / x86_64  OK    OK    OK    NA  
kunpeng2Linux (openEuler 22.03 LTS-SP1) / aarch64  ERROR    ERROR  skipped
Package 22/22HostnameOS / ArchINSTALLBUILDCHECKBUILD BIN
spatialHeatmap 2.9.0  (landing page)
Jianhai Zhang
git_last_commit: 4351b07
git_last_commit_date: 2023-10-24 11:26:19 -0500
nebbiolo1Linux (Ubuntu 22.04.2 LTS) / x86_64  OK    OK    ERROR  
palomino3Windows Server 2022 Datacenter / x64  OK    ERROR  skippedskipped
merida1macOS 12.7.1 Monterey / x86_64  OK    OK    OK    NA  
kunpeng2Linux (openEuler 22.03 LTS-SP1) / aarch64  OK    ERROR  skipped