Back to Multiple platform build/check report for BioC 3.18:   simplified   long
ABCD[E]FGHIJKLMNOPQRSTUVWXYZ

This page was generated on 2023-05-30 11:07:36 -0400 (Tue, 30 May 2023).

HostnameOSArch (*)R versionInstalled pkgs
nebbiolo2Linux (Ubuntu 22.04.2 LTS)x86_644.3.0 RC (2023-04-18 r84287) -- "Already Tomorrow" 4587
palomino4Windows Server 2022 Datacenterx644.3.0 RC (2023-04-18 r84287 ucrt) -- "Already Tomorrow" 4336
lconwaymacOS 12.6.5 Montereyx86_644.3.0 RC (2023-04-13 r84266) -- "Already Tomorrow" 4337
Click on any hostname to see more info about the system (e.g. compilers)      (*) as reported by 'uname -p', except on Windows and Mac OS X

BUILD results for EpiTxDb on lconway


To the developers/maintainers of the EpiTxDb package:
- Allow up to 24 hours (and sometimes 48 hours) for your latest push to git@git.bioconductor.org:packages/EpiTxDb.git to reflect on this report. See Troubleshooting Build Report for more information.

- Use the following Renviron settings to reproduce errors and warnings.

Note: If "R CMD check" recently failed on the Linux builder over a missing dependency, add the missing dependency to "Suggests" in your DESCRIPTION file. See the Renviron.bioc for details.

raw results

Package 639/2197HostnameOS / ArchINSTALLBUILDCHECKBUILD BIN
EpiTxDb 1.13.0  (landing page)
Felix G.M. Ernst
Snapshot Date: 2023-05-29 14:00:06 -0400 (Mon, 29 May 2023)
git_url: https://git.bioconductor.org/packages/EpiTxDb
git_branch: devel
git_last_commit: 5eb5bab
git_last_commit_date: 2023-04-25 11:16:15 -0400 (Tue, 25 Apr 2023)
nebbiolo2Linux (Ubuntu 22.04.2 LTS) / x86_64  OK    OK    OK  UNNEEDED, same version is already published
palomino4Windows Server 2022 Datacenter / x64  OK    OK    OK    OK  UNNEEDED, same version is already published
lconwaymacOS 12.6.5 Monterey / x86_64  OK    OK    OK    OK  UNNEEDED, same version is already published

Summary

Package: EpiTxDb
Version: 1.13.0
Command: /Library/Frameworks/R.framework/Resources/bin/R CMD build --keep-empty-dirs --no-resave-data EpiTxDb
StartedAt: 2023-05-29 16:23:14 -0400 (Mon, 29 May 2023)
EndedAt: 2023-05-29 16:26:51 -0400 (Mon, 29 May 2023)
EllapsedTime: 217.4 seconds
RetCode: 0
Status:   OK  
PackageFile: EpiTxDb_1.13.0.tar.gz
PackageFileSize: 744.3 KiB

Command output

##############################################################################
##############################################################################
###
### Running command:
###
###   /Library/Frameworks/R.framework/Resources/bin/R CMD build --keep-empty-dirs --no-resave-data EpiTxDb
###
##############################################################################
##############################################################################


* checking for file ‘EpiTxDb/DESCRIPTION’ ... OK
* preparing ‘EpiTxDb’:
* checking DESCRIPTION meta-information ... OK
* installing the package to build vignettes
* creating vignettes ... OK
* checking for LF line-endings in source and make files and shell scripts
* checking for empty or unneeded directories
* looking to see if a ‘data/datalist’ file should be added
* building ‘EpiTxDb_1.13.0.tar.gz’