Back to Multiple platform build/check report for BioC 3.16
ABCDEF[G]HIJKLMNOPQRSTUVWXYZ

This page was generated on 2022-08-06 11:04:14 -0400 (Sat, 06 Aug 2022).

HostnameOSArch (*)R versionInstalled pkgs
nebbiolo2Linux (Ubuntu 20.04.4 LTS)x86_644.2.1 (2022-06-23) -- "Funny-Looking Kid" 4371
palomino4Windows Server 2022 Datacenterx644.2.1 (2022-06-23 ucrt) -- "Funny-Looking Kid" 4155
lconwaymacOS 12.2.1 Montereyx86_644.2.1 Patched (2022-07-09 r82577) -- "Funny-Looking Kid" 4155
Click on any hostname to see more info about the system (e.g. compilers)      (*) as reported by 'uname -p', except on Windows and Mac OS X

All results for package genefilter


To the developers/maintainers of the genefilter package:
- Please allow up to 24 hours (and sometimes 48 hours) for your latest push to git@git.bioconductor.org:packages/genefilter.git to
reflect on this report. See How and When does the builder pull? When will my changes propagate? for more information.
- Make sure to use the following settings in order to reproduce any error or warning you see on this page.

raw results

Package 740/2137HostnameOS / ArchINSTALLBUILDCHECKBUILD BIN
genefilter 1.79.0  (landing page)
Bioconductor Package Maintainer
Snapshot Date: 2022-08-05 14:00:05 -0400 (Fri, 05 Aug 2022)
git_url: https://git.bioconductor.org/packages/genefilter
git_branch: master
git_last_commit: afb0bea
git_last_commit_date: 2022-04-26 10:54:25 -0400 (Tue, 26 Apr 2022)
nebbiolo2Linux (Ubuntu 20.04.4 LTS) / x86_64  OK    OK    WARNINGS  UNNEEDED, same version is already published
palomino4Windows Server 2022 Datacenter / x64  OK    OK    WARNINGS    OK  UNNEEDED, same version is already published
lconwaymacOS 12.2.1 Monterey / x86_64  OK    OK    OK    OK  UNNEEDED, same version is already published

Results for Bioconductor software packages that depend directly on package genefilter

QUICK STATSOS / ArchINSTALLBUILDCHECKBUILD BIN
nebbiolo2Linux (Ubuntu 20.04.4 LTS) / x86_64
0036
0036
00333
palomino4Windows Server 2022 Datacenter / x64
0035
0035
00233
0014
lconwaymacOS 12.2.1 Monterey / x86_64
0036
0135
00332
0035
Package 1/36HostnameOS / ArchINSTALLBUILDCHECKBUILD BIN
a4Base 1.45.0  (landing page)
Laure Cougnaud
git_last_commit: bb5384e
git_last_commit_date: 2022-04-26 11:07:32 -0400
nebbiolo2Linux (Ubuntu 20.04.4 LTS) / x86_64  OK    OK    OK  UNNEEDED, same version is already published
palomino4Windows Server 2022 Datacenter / x64  OK    OK    OK    OK  UNNEEDED, same version is already published
lconwaymacOS 12.2.1 Monterey / x86_64  OK    OK    OK    OK  UNNEEDED, same version is already published
Package 2/36HostnameOS / ArchINSTALLBUILDCHECKBUILD BIN
annmap 1.39.0  (landing page)
Chris Wirth
git_last_commit: 013522f
git_last_commit_date: 2022-04-26 11:11:12 -0400
nebbiolo2Linux (Ubuntu 20.04.4 LTS) / x86_64  OK    OK    WARNINGS  UNNEEDED, same version is already published
palomino4Windows Server 2022 Datacenter / x64... NOT SUPPORTED ...
lconwaymacOS 12.2.1 Monterey / x86_64  OK    OK    WARNINGS    OK  UNNEEDED, same version is already published
Package 3/36HostnameOS / ArchINSTALLBUILDCHECKBUILD BIN
arrayQualityMetrics 3.53.0  (landing page)
Mike Smith
git_last_commit: e6ca80d
git_last_commit_date: 2022-04-26 11:00:12 -0400
nebbiolo2Linux (Ubuntu 20.04.4 LTS) / x86_64  OK    OK    OK  UNNEEDED, same version is already published
palomino4Windows Server 2022 Datacenter / x64  OK    OK    OK    OK  NO, package depends on 'affyPLM' which is not available
lconwaymacOS 12.2.1 Monterey / x86_64  OK    OK    OK    OK  UNNEEDED, same version is already published
Package 4/36HostnameOS / ArchINSTALLBUILDCHECKBUILD BIN
Category 2.63.0  (landing page)
Bioconductor Package Maintainer
git_last_commit: 551df97
git_last_commit_date: 2022-04-26 10:57:10 -0400
nebbiolo2Linux (Ubuntu 20.04.4 LTS) / x86_64  OK    OK    OK  UNNEEDED, same version is already published
palomino4Windows Server 2022 Datacenter / x64  OK    OK    OK    OK  UNNEEDED, same version is already published
lconwaymacOS 12.2.1 Monterey / x86_64  OK    OK    OK    OK  UNNEEDED, same version is already published
Package 5/36HostnameOS / ArchINSTALLBUILDCHECKBUILD BIN
cbaf 1.19.5  (landing page)
Arman Shahrisa
git_last_commit: 2c37582
git_last_commit_date: 2022-07-19 15:12:29 -0400
nebbiolo2Linux (Ubuntu 20.04.4 LTS) / x86_64  OK    OK    OK  UNNEEDED, same version is already published
palomino4Windows Server 2022 Datacenter / x64  OK    OK    OK    OK  UNNEEDED, same version is already published
lconwaymacOS 12.2.1 Monterey / x86_64  OK    OK    OK    OK  UNNEEDED, same version is already published
Package 6/36HostnameOS / ArchINSTALLBUILDCHECKBUILD BIN
cellHTS2 2.61.0  (landing page)
Joseph Barry
git_last_commit: 06688f6
git_last_commit_date: 2022-04-26 10:59:59 -0400
nebbiolo2Linux (Ubuntu 20.04.4 LTS) / x86_64  OK    OK    OK  UNNEEDED, same version is already published
palomino4Windows Server 2022 Datacenter / x64  OK    OK    OK    OK  UNNEEDED, same version is already published
lconwaymacOS 12.2.1 Monterey / x86_64  OK    OK    OK    OK  UNNEEDED, same version is already published
Package 7/36HostnameOS / ArchINSTALLBUILDCHECKBUILD BIN
CNTools 1.53.0  (landing page)
J. Zhang
git_last_commit: 9a92fee
git_last_commit_date: 2022-04-26 11:03:04 -0400
nebbiolo2Linux (Ubuntu 20.04.4 LTS) / x86_64  OK    OK    OK  UNNEEDED, same version is already published
palomino4Windows Server 2022 Datacenter / x64  OK    OK    OK    OK  UNNEEDED, same version is already published
lconwaymacOS 12.2.1 Monterey / x86_64  OK    OK    OK    OK  UNNEEDED, same version is already published
Package 8/36HostnameOS / ArchINSTALLBUILDCHECKBUILD BIN
countsimQC 1.15.1  (landing page)
Charlotte Soneson
git_last_commit: 9a46fd6
git_last_commit_date: 2022-07-22 05:22:21 -0400
nebbiolo2Linux (Ubuntu 20.04.4 LTS) / x86_64  OK    OK    OK  UNNEEDED, same version is already published
palomino4Windows Server 2022 Datacenter / x64  OK    OK    OK    OK  UNNEEDED, same version is already published
lconwaymacOS 12.2.1 Monterey / x86_64  OK    OK    OK    OK  UNNEEDED, same version is already published
Package 9/36HostnameOS / ArchINSTALLBUILDCHECKBUILD BIN
covRNA 1.23.0  (landing page)
Lara Urban
git_last_commit: 5ce0793
git_last_commit_date: 2022-04-26 11:32:28 -0400
nebbiolo2Linux (Ubuntu 20.04.4 LTS) / x86_64  OK    OK    OK  UNNEEDED, same version is already published
palomino4Windows Server 2022 Datacenter / x64  OK    OK    OK    OK  UNNEEDED, same version is already published
lconwaymacOS 12.2.1 Monterey / x86_64  OK    OK    OK    OK  UNNEEDED, same version is already published
Package 10/36HostnameOS / ArchINSTALLBUILDCHECKBUILD BIN
DESeq2 1.37.5  (landing page)
Michael Love
git_last_commit: 9fb505f
git_last_commit_date: 2022-08-05 10:49:12 -0400
nebbiolo2Linux (Ubuntu 20.04.4 LTS) / x86_64  OK    OK    OK  YES
palomino4Windows Server 2022 Datacenter / x64  OK    OK    OK    OK  YES
lconwaymacOS 12.2.1 Monterey / x86_64  OK    OK    OK    OK  YES
Package 11/36HostnameOS / ArchINSTALLBUILDCHECKBUILD BIN
DEXSeq 1.43.0  (landing page)
Alejandro Reyes
git_last_commit: 372a76b
git_last_commit_date: 2022-04-26 11:08:07 -0400
nebbiolo2Linux (Ubuntu 20.04.4 LTS) / x86_64  OK    OK    OK  UNNEEDED, same version is already published
palomino4Windows Server 2022 Datacenter / x64  OK    OK    OK    OK  UNNEEDED, same version is already published
lconwaymacOS 12.2.1 Monterey / x86_64  OK    OK    OK    OK  UNNEEDED, same version is already published
Package 12/36HostnameOS / ArchINSTALLBUILDCHECKBUILD BIN
ENmix 1.33.0  (landing page)
Zongli Xu
git_last_commit: f2ca83b
git_last_commit_date: 2022-04-26 11:25:08 -0400
nebbiolo2Linux (Ubuntu 20.04.4 LTS) / x86_64  OK    OK    OK  UNNEEDED, same version is already published
palomino4Windows Server 2022 Datacenter / x64  OK    OK    OK    OK  UNNEEDED, same version is already published
lconwaymacOS 12.2.1 Monterey / x86_64  OK    OK    OK    OK  UNNEEDED, same version is already published
Package 13/36HostnameOS / ArchINSTALLBUILDCHECKBUILD BIN
GeneMeta 1.69.0  (landing page)
Bioconductor Package Maintainer
git_last_commit: 63221a3
git_last_commit_date: 2022-04-26 10:57:12 -0400
nebbiolo2Linux (Ubuntu 20.04.4 LTS) / x86_64  OK    OK    OK  UNNEEDED, same version is already published
palomino4Windows Server 2022 Datacenter / x64  OK    OK    OK    OK  UNNEEDED, same version is already published
lconwaymacOS 12.2.1 Monterey / x86_64  OK    OK    OK    OK  UNNEEDED, same version is already published
Package 14/36HostnameOS / ArchINSTALLBUILDCHECKBUILD BIN
GISPA 1.21.0  (landing page)
Bhakti Dwivedi
git_last_commit: 7fa8c3d
git_last_commit_date: 2022-04-26 11:39:23 -0400
nebbiolo2Linux (Ubuntu 20.04.4 LTS) / x86_64  OK    OK    OK  UNNEEDED, same version is already published
palomino4Windows Server 2022 Datacenter / x64  OK    OK    OK    OK  UNNEEDED, same version is already published
lconwaymacOS 12.2.1 Monterey / x86_64  OK    OK    OK    OK  UNNEEDED, same version is already published
Package 15/36HostnameOS / ArchINSTALLBUILDCHECKBUILD BIN
GSRI 2.45.0  (landing page)
Julian Gehring
git_last_commit: e9c3662
git_last_commit_date: 2022-04-26 11:04:55 -0400
nebbiolo2Linux (Ubuntu 20.04.4 LTS) / x86_64  OK    OK    OK  UNNEEDED, same version is already published
palomino4Windows Server 2022 Datacenter / x64  OK    OK    OK    OK  UNNEEDED, same version is already published
lconwaymacOS 12.2.1 Monterey / x86_64  OK    OK    OK    OK  UNNEEDED, same version is already published
Package 16/36HostnameOS / ArchINSTALLBUILDCHECKBUILD BIN
metaseqR2 1.9.2  (landing page)
Panagiotis Moulos
git_last_commit: 01daf91
git_last_commit_date: 2022-07-08 15:44:29 -0400
nebbiolo2Linux (Ubuntu 20.04.4 LTS) / x86_64  OK    OK    WARNINGS  UNNEEDED, same version is already published
palomino4Windows Server 2022 Datacenter / x64  OK    OK    WARNINGS    NA  
lconwaymacOS 12.2.1 Monterey / x86_64  OK    OK    WARNINGS    OK  UNNEEDED, same version is already published
Package 17/36HostnameOS / ArchINSTALLBUILDCHECKBUILD BIN
methylCC 1.11.0  (landing page)
Stephanie C. Hicks
git_last_commit: d458e7b
git_last_commit_date: 2022-04-26 11:59:50 -0400
nebbiolo2Linux (Ubuntu 20.04.4 LTS) / x86_64  OK    OK    OK  UNNEEDED, same version is already published
palomino4Windows Server 2022 Datacenter / x64  OK    OK    OK    NA  
lconwaymacOS 12.2.1 Monterey / x86_64  OK    OK    OK    OK  UNNEEDED, same version is already published
Package 18/36HostnameOS / ArchINSTALLBUILDCHECKBUILD BIN
methylumi 2.43.0  (landing page)
Sean Davis
git_last_commit: 6e09976
git_last_commit_date: 2022-04-26 11:03:01 -0400
nebbiolo2Linux (Ubuntu 20.04.4 LTS) / x86_64  OK    OK    OK  UNNEEDED, same version is already published
palomino4Windows Server 2022 Datacenter / x64  OK    OK    OK    NA  
lconwaymacOS 12.2.1 Monterey / x86_64  OK    OK    OK    OK  UNNEEDED, same version is already published
Package 19/36HostnameOS / ArchINSTALLBUILDCHECKBUILD BIN
minfi 1.43.0  (landing page)
Kasper Daniel Hansen
git_last_commit: cb8b7c6
git_last_commit_date: 2022-04-26 11:09:22 -0400
nebbiolo2Linux (Ubuntu 20.04.4 LTS) / x86_64  OK    OK    OK  UNNEEDED, same version is already published
palomino4Windows Server 2022 Datacenter / x64  OK    OK    OK    NA  
lconwaymacOS 12.2.1 Monterey / x86_64  OK    OK    OK    OK  UNNEEDED, same version is already published
Package 20/36HostnameOS / ArchINSTALLBUILDCHECKBUILD BIN
MLInterfaces 1.77.0  (landing page)
V. Carey
git_last_commit: 6d07688
git_last_commit_date: 2022-04-26 10:56:11 -0400
nebbiolo2Linux (Ubuntu 20.04.4 LTS) / x86_64  OK    OK    OK  UNNEEDED, same version is already published
palomino4Windows Server 2022 Datacenter / x64  OK    OK    OK    NA  
lconwaymacOS 12.2.1 Monterey / x86_64  OK    OK    OK    OK  UNNEEDED, same version is already published
Package 21/36HostnameOS / ArchINSTALLBUILDCHECKBUILD BIN
mogsa 1.31.0  (landing page)
Chen Meng
git_last_commit: e15c4c6
git_last_commit_date: 2022-04-26 11:24:48 -0400
nebbiolo2Linux (Ubuntu 20.04.4 LTS) / x86_64  OK    OK    OK  UNNEEDED, same version is already published
palomino4Windows Server 2022 Datacenter / x64  OK    OK    OK    NA  
lconwaymacOS 12.2.1 Monterey / x86_64  OK    OK    OK    OK  UNNEEDED, same version is already published
Package 22/36HostnameOS / ArchINSTALLBUILDCHECKBUILD BIN
NBAMSeq 1.13.0  (landing page)
Xu Ren
git_last_commit: c4ce64c
git_last_commit_date: 2022-04-26 11:54:34 -0400
nebbiolo2Linux (Ubuntu 20.04.4 LTS) / x86_64  OK    OK    OK  UNNEEDED, same version is already published
palomino4Windows Server 2022 Datacenter / x64  OK    OK    OK    NA  
lconwaymacOS 12.2.1 Monterey / x86_64  OK    OK    OK    OK  UNNEEDED, same version is already published
Package 23/36HostnameOS / ArchINSTALLBUILDCHECKBUILD BIN
NxtIRFcore 1.3.1  (landing page)
Alex Chit Hei Wong
git_last_commit: 335a0ca
git_last_commit_date: 2022-06-22 07:36:47 -0400
nebbiolo2Linux (Ubuntu 20.04.4 LTS) / x86_64  OK    OK    OK  UNNEEDED, same version is already published
palomino4Windows Server 2022 Datacenter / x64  OK    OK    OK    NA  
lconwaymacOS 12.2.1 Monterey / x86_64  OK    OK    OK    OK  UNNEEDED, same version is already published
Package 24/36HostnameOS / ArchINSTALLBUILDCHECKBUILD BIN
pcaExplorer 2.23.0  (landing page)
Federico Marini
git_last_commit: ba8d53c
git_last_commit_date: 2022-04-26 11:31:37 -0400
nebbiolo2Linux (Ubuntu 20.04.4 LTS) / x86_64  OK    OK    OK  UNNEEDED, same version is already published
palomino4Windows Server 2022 Datacenter / x64  OK    OK    OK    NA  
lconwaymacOS 12.2.1 Monterey / x86_64  OK    OK    OK    OK  UNNEEDED, same version is already published
Package 25/36HostnameOS / ArchINSTALLBUILDCHECKBUILD BIN
PECA 1.33.0  (landing page)
Tomi Suomi
git_last_commit: 3103684
git_last_commit_date: 2022-04-26 11:17:09 -0400
nebbiolo2Linux (Ubuntu 20.04.4 LTS) / x86_64  OK    OK    OK  UNNEEDED, same version is already published
palomino4Windows Server 2022 Datacenter / x64  OK    OK    OK    NA  
lconwaymacOS 12.2.1 Monterey / x86_64  OK    OK    OK    OK  UNNEEDED, same version is already published
Package 26/36HostnameOS / ArchINSTALLBUILDCHECKBUILD BIN
phenoTest 1.45.0  (landing page)
Evarist Planet
git_last_commit: 4210e20
git_last_commit_date: 2022-04-26 11:06:48 -0400
nebbiolo2Linux (Ubuntu 20.04.4 LTS) / x86_64  OK    OK    WARNINGS  UNNEEDED, same version is already published
palomino4Windows Server 2022 Datacenter / x64  OK    OK    WARNINGS    NA  
lconwaymacOS 12.2.1 Monterey / x86_64  OK    OK    WARNINGS    OK  UNNEEDED, same version is already published
Package 27/36HostnameOS / ArchINSTALLBUILDCHECKBUILD BIN
protGear 1.1.0  (landing page)
Kennedy Mwai
git_last_commit: 3b82349
git_last_commit_date: 2022-04-26 12:22:27 -0400
nebbiolo2Linux (Ubuntu 20.04.4 LTS) / x86_64  OK    OK    OK  UNNEEDED, same version is already published
palomino4Windows Server 2022 Datacenter / x64  OK    OK    OK    NA  
lconwaymacOS 12.2.1 Monterey / x86_64  OK    OK    OK    OK  UNNEEDED, same version is already published
Package 28/36HostnameOS / ArchINSTALLBUILDCHECKBUILD BIN
pwrEWAS 1.11.0  (landing page)
Stefan Graw
git_last_commit: bd80e92
git_last_commit_date: 2022-04-26 11:59:17 -0400
nebbiolo2Linux (Ubuntu 20.04.4 LTS) / x86_64  OK    OK    OK  UNNEEDED, same version is already published
palomino4Windows Server 2022 Datacenter / x64  OK    OK    OK    NA  
lconwaymacOS 12.2.1 Monterey / x86_64  OK    ERROR  skippedskipped
Package 29/36HostnameOS / ArchINSTALLBUILDCHECKBUILD BIN
Ringo 1.61.0  (landing page)
J. Toedling
git_last_commit: 35ef686
git_last_commit_date: 2022-04-26 10:59:39 -0400
nebbiolo2Linux (Ubuntu 20.04.4 LTS) / x86_64  OK    OK    OK  UNNEEDED, same version is already published
palomino4Windows Server 2022 Datacenter / x64  OK    OK    OK    NA  
lconwaymacOS 12.2.1 Monterey / x86_64  OK    OK    OK    OK  UNNEEDED, same version is already published
Package 30/36HostnameOS / ArchINSTALLBUILDCHECKBUILD BIN
SISPA 1.27.0  (landing page)
Bhakti Dwivedi
git_last_commit: d46c915
git_last_commit_date: 2022-04-26 11:27:47 -0400
nebbiolo2Linux (Ubuntu 20.04.4 LTS) / x86_64  OK    OK    OK  UNNEEDED, same version is already published
palomino4Windows Server 2022 Datacenter / x64  OK    OK    OK    NA  
lconwaymacOS 12.2.1 Monterey / x86_64  OK    OK    OK    OK  UNNEEDED, same version is already published
Package 31/36HostnameOS / ArchINSTALLBUILDCHECKBUILD BIN
spatialHeatmap 2.3.0  (landing page)
Jianhai Zhang
git_last_commit: 28c2c4f
git_last_commit_date: 2022-04-26 12:09:07 -0400
nebbiolo2Linux (Ubuntu 20.04.4 LTS) / x86_64  OK    OK    OK  UNNEEDED, same version is already published
palomino4Windows Server 2022 Datacenter / x64  OK    OK    OK    NA  
lconwaymacOS 12.2.1 Monterey / x86_64  OK    OK    OK    OK  UNNEEDED, same version is already published
Package 32/36HostnameOS / ArchINSTALLBUILDCHECKBUILD BIN
SpliceWiz 0.99.2  (landing page)
Alex Chit Hei Wong
git_last_commit: a748543
git_last_commit_date: 2022-07-23 01:32:32 -0400
nebbiolo2Linux (Ubuntu 20.04.4 LTS) / x86_64  OK    OK    OK  UNNEEDED, same version is already published
palomino4Windows Server 2022 Datacenter / x64  OK    OK    OK    NA  
lconwaymacOS 12.2.1 Monterey / x86_64  OK    OK    OK    OK  UNNEEDED, same version is already published
Package 33/36HostnameOS / ArchINSTALLBUILDCHECKBUILD BIN
sva 3.45.0  (landing page)
Jeffrey T. Leek , John D. Storey
git_last_commit: f859c0b
git_last_commit_date: 2022-04-26 11:09:24 -0400
nebbiolo2Linux (Ubuntu 20.04.4 LTS) / x86_64  OK    OK    OK  UNNEEDED, same version is already published
palomino4Windows Server 2022 Datacenter / x64  OK    OK    OK    NA  
lconwaymacOS 12.2.1 Monterey / x86_64  OK    OK    OK    OK  UNNEEDED, same version is already published
Package 34/36HostnameOS / ArchINSTALLBUILDCHECKBUILD BIN
tilingArray 1.75.0  (landing page)
Zhenyu Xu
git_last_commit: 45c4639
git_last_commit_date: 2022-04-26 10:56:47 -0400
nebbiolo2Linux (Ubuntu 20.04.4 LTS) / x86_64  OK    OK    OK  UNNEEDED, same version is already published
palomino4Windows Server 2022 Datacenter / x64  OK    OK    OK    NA  
lconwaymacOS 12.2.1 Monterey / x86_64  OK    OK    OK    OK  UNNEEDED, same version is already published
Package 35/36HostnameOS / ArchINSTALLBUILDCHECKBUILD BIN
XDE 2.43.0  (landing page)
Robert Scharpf
git_last_commit: caab81f
git_last_commit_date: 2022-04-26 11:00:44 -0400
nebbiolo2Linux (Ubuntu 20.04.4 LTS) / x86_64  OK    OK    OK  UNNEEDED, same version is already published
palomino4Windows Server 2022 Datacenter / x64  OK    OK    OK    NA  
lconwaymacOS 12.2.1 Monterey / x86_64  OK    OK    OK    OK  UNNEEDED, same version is already published
Package 36/36HostnameOS / ArchINSTALLBUILDCHECKBUILD BIN
zinbwave 1.19.0  (landing page)
Davide Risso
git_last_commit: 390073c
git_last_commit_date: 2022-04-26 11:41:22 -0400
nebbiolo2Linux (Ubuntu 20.04.4 LTS) / x86_64  OK    OK    OK  UNNEEDED, same version is already published
palomino4Windows Server 2022 Datacenter / x64  OK    OK    OK    NA  
lconwaymacOS 12.2.1 Monterey / x86_64  OK    OK    OK    OK  UNNEEDED, same version is already published