Back to Multiple platform build/check report for BioC 3.16
ABCDEF[G]HIJKLMNOPQRSTUVWXYZ

This page was generated on 2022-05-24 11:04:04 -0400 (Tue, 24 May 2022).

HostnameOSArch (*)R versionInstalled pkgs
nebbiolo2Linux (Ubuntu 20.04.4 LTS)x86_644.2.0 RC (2022-04-21 r82226) -- "Vigorous Calisthenics" 4357
palomino4Windows Server 2022 Datacenterx644.2.0 Patched (2022-04-24 r82246 ucrt) -- "Vigorous Calisthenics" 4129
lconwaymacOS 12.2.1 Montereyx86_644.2.0 Patched (2022-04-24 r82246) -- "Vigorous Calisthenics" 4173
Click on any hostname to see more info about the system (e.g. compilers)      (*) as reported by 'uname -p', except on Windows and Mac OS X

All results for package GenomicDataCommons


To the developers/maintainers of the GenomicDataCommons package:
- Please allow up to 24 hours (and sometimes 48 hours) for your latest push to git@git.bioconductor.org:packages/GenomicDataCommons.git to
reflect on this report. See How and When does the builder pull? When will my changes propagate? for more information.
- Make sure to use the following settings in order to reproduce any error or warning you see on this page.

raw results

Package 760/2112HostnameOS / ArchINSTALLBUILDCHECKBUILD BIN
GenomicDataCommons 1.21.1  (landing page)
Sean Davis
Snapshot Date: 2022-05-23 13:55:05 -0400 (Mon, 23 May 2022)
git_url: https://git.bioconductor.org/packages/GenomicDataCommons
git_branch: master
git_last_commit: 2f1cfa8
git_last_commit_date: 2022-04-27 18:02:54 -0400 (Wed, 27 Apr 2022)
nebbiolo2Linux (Ubuntu 20.04.4 LTS) / x86_64  OK    OK    OK  UNNEEDED, same version is already published
palomino4Windows Server 2022 Datacenter / x64  OK    OK    OK    OK  UNNEEDED, same version is already published
lconwaymacOS 12.2.1 Monterey / x86_64  OK    OK    OK    OK  UNNEEDED, same version is already published

Results for Bioconductor software packages that depend directly on package GenomicDataCommons

QUICK STATSOS / ArchINSTALLBUILDCHECKBUILD BIN
nebbiolo2Linux (Ubuntu 20.04.4 LTS) / x86_64
002
002
0002
palomino4Windows Server 2022 Datacenter / x64
002
002
0002
002
lconwaymacOS 12.2.1 Monterey / x86_64
002
002
0002
001
Package 1/2HostnameOS / ArchINSTALLBUILDCHECKBUILD BIN
GDCRNATools 1.17.1  (landing page)
Ruidong Li
git_last_commit: 3989859
git_last_commit_date: 2022-05-23 02:10:09 -0400
nebbiolo2Linux (Ubuntu 20.04.4 LTS) / x86_64  OK    OK    OK  YES
palomino4Windows Server 2022 Datacenter / x64  OK    OK    OK    OK  YES
lconwaymacOS 12.2.1 Monterey / x86_64  OK    OK    OK    OK  YES
Package 2/2HostnameOS / ArchINSTALLBUILDCHECKBUILD BIN
TCGAutils 1.17.2  (landing page)
Marcel Ramos
git_last_commit: b661ce9
git_last_commit_date: 2022-05-20 11:27:10 -0400
nebbiolo2Linux (Ubuntu 20.04.4 LTS) / x86_64  OK    OK    OK  UNNEEDED, same version is already published
palomino4Windows Server 2022 Datacenter / x64  OK    OK    OK    OK  UNNEEDED, same version is already published
lconwaymacOS 12.2.1 Monterey / x86_64  OK    OK    OK    NA