Back to Multiple platform build/check report for BioC 3.14
ABCDEFGHIJKLMNOPQR[S]TUVWXYZ

This page was generated on 2021-09-24 12:04:24 -0400 (Fri, 24 Sep 2021).

All results for package scHOT

To the developers/maintainers of the scHOT package:
- Please allow up to 24 hours (and sometimes 48 hours) for your latest push to git@git.bioconductor.org:packages/scHOT.git to
reflect on this report. See How and When does the builder pull? When will my changes propagate? here for more information.
- Make sure to use the following settings in order to reproduce any error or warning you see on this page.

raw results

Package 1687/2034HostnameOS / ArchINSTALLBUILDCHECKBUILD BIN
scHOT 1.5.1  (landing page)
Shila Ghazanfar
Snapshot Date: 2021-09-23 14:50:03 -0400 (Thu, 23 Sep 2021)
git_url: https://git.bioconductor.org/packages/scHOT
git_branch: master
git_last_commit: 7172486
git_last_commit_date: 2021-07-29 06:52:35 -0400 (Thu, 29 Jul 2021)
nebbiolo2Linux (Ubuntu 20.04.2 LTS) / x86_64  OK    OK    OK  UNNEEDED, same version is already published
riesling1Windows Server 2019 Standard / x64  OK    OK    OK    OK  UNNEEDED, same version is already published
merida1macOS 10.14.6 Mojave / x86_64  OK    OK    OK    OK  UNNEEDED, same version is already published