Back to Multiple platform build/check report for BioC 3.16
A[B]CDEFGHIJKLMNOPQRSTUVWXYZ

This page was generated on 2022-06-29 11:04:56 -0400 (Wed, 29 Jun 2022).

HostnameOSArch (*)R versionInstalled pkgs
nebbiolo2Linux (Ubuntu 20.04.4 LTS)x86_644.2.0 Patched (2022-06-02 r82447) -- "Vigorous Calisthenics" 4343
lconwaymacOS 12.2.1 Montereyx86_644.2.0 Patched (2022-05-29 r82424) -- "Vigorous Calisthenics" 4159
Click on any hostname to see more info about the system (e.g. compilers)      (*) as reported by 'uname -p', except on Windows and Mac OS X

INSTALL results for BUSseq on lconway


To the developers/maintainers of the BUSseq package:
- Please allow up to 24 hours (and sometimes 48 hours) for your latest push to git@git.bioconductor.org:packages/BUSseq.git to
reflect on this report. See How and When does the builder pull? When will my changes propagate? for more information.
- Make sure to use the following settings in order to reproduce any error or warning you see on this page.

raw results

Package 237/2124HostnameOS / ArchINSTALLBUILDCHECKBUILD BIN
BUSseq 1.3.0  (landing page)
Fangda Song
Snapshot Date: 2022-06-28 14:00:02 -0400 (Tue, 28 Jun 2022)
git_url: https://git.bioconductor.org/packages/BUSseq
git_branch: master
git_last_commit: 2bd0732
git_last_commit_date: 2022-04-26 12:16:46 -0400 (Tue, 26 Apr 2022)
nebbiolo2Linux (Ubuntu 20.04.4 LTS) / x86_64  OK    OK    OK  UNNEEDED, same version is already published
lconwaymacOS 12.2.1 Monterey / x86_64  OK    OK    OK    OK  UNNEEDED, same version is already published

Summary

Package: BUSseq
Version: 1.3.0
Command: /Library/Frameworks/R.framework/Resources/bin/R CMD INSTALL BUSseq
StartedAt: 2022-06-28 15:27:10 -0400 (Tue, 28 Jun 2022)
EndedAt: 2022-06-28 15:27:42 -0400 (Tue, 28 Jun 2022)
EllapsedTime: 32.3 seconds
RetCode: 0
Status:   OK  

Command output

##############################################################################
##############################################################################
###
### Running command:
###
###   /Library/Frameworks/R.framework/Resources/bin/R CMD INSTALL BUSseq
###
##############################################################################
##############################################################################


* installing to library ‘/Library/Frameworks/R.framework/Versions/4.2/Resources/library’
* installing *source* package ‘BUSseq’ ...
** using staged installation
** libs
/Library/Frameworks/R.framework/Resources/share/make/shlib.mk:10: warning: overriding commands for target `BUSseq.so'
Makevars:9: warning: ignoring old commands for target `BUSseq.so'
clang++ -mmacosx-version-min=10.13 -std=gnu++14 -I"/Library/Frameworks/R.framework/Resources/include" -DNDEBUG   -I/usr/local/include   -fPIC  -Wall -g -O2  -c BUSseq.cpp -o BUSseq.o
BUSseq.cpp:2674:7: warning: variable 'All_Drop' set but not used [-Wunused-but-set-variable]
        bool All_Drop = true;
             ^
BUSseq.cpp:3033:6: warning: variable 'count_gene' set but not used [-Wunused-but-set-variable]
        int count_gene = 0;
            ^
2 warnings generated.
clang++ -mmacosx-version-min=10.13 -std=gnu++14 -I"/Library/Frameworks/R.framework/Resources/include" -DNDEBUG   -I/usr/local/include   -fPIC  -Wall -g -O2  -c rngstream.cpp -o rngstream.o
clang++ -mmacosx-version-min=10.13 -std=gnu++14 -dynamiclib -Wl,-headerpad_max_install_names -undefined dynamic_lookup -single_module -multiply_defined suppress -L/Library/Frameworks/R.framework/Resources/lib -L/usr/local/lib -o BUSseq.so BUSseq.o rngstream.o -L/Library/Frameworks/R.framework/Resources/lib -lRlapack -L/Library/Frameworks/R.framework/Resources/lib -lRblas -L/usr/local/gfortran/lib/gcc/x86_64-apple-darwin18/8.2.0 -L/usr/local/gfortran/lib -lgfortran -lquadmath -lm -F/Library/Frameworks/R.framework/.. -framework R -Wl,-framework -Wl,CoreFoundation
ld: warning: directory not found for option '-L/usr/local/gfortran/lib/gcc/x86_64-apple-darwin18/8.2.0'
ld: warning: dylib (/usr/local/gfortran/lib/libgfortran.dylib) was built for newer macOS version (12.0) than being linked (10.13)
ld: warning: dylib (/usr/local/gfortran/lib/libquadmath.dylib) was built for newer macOS version (12.0) than being linked (10.13)
installing to /Library/Frameworks/R.framework/Versions/4.2/Resources/library/00LOCK-BUSseq/00new/BUSseq/libs
** R
** data
*** moving datasets to lazyload DB
** inst
** byte-compile and prepare package for lazy loading
** help
*** installing help indices
** building package indices
** installing vignettes
** testing if installed package can be loaded from temporary location
** checking absolute paths in shared objects and dynamic libraries
** testing if installed package can be loaded from final location
** testing if installed package keeps a record of temporary installation path
* DONE (BUSseq)