Back to Multiple platform build/check report for BioC 3.15
ABCDEFGHIJKLMNOPQ[R]STUVWXYZ

This page was generated on 2021-11-27 14:04:19 -0500 (Sat, 27 Nov 2021).

All results for package RTN

To the developers/maintainers of the RTN package:
- Please allow up to 24 hours (and sometimes 48 hours) for your latest push to git@git.bioconductor.org:packages/RTN.git to
reflect on this report. See How and When does the builder pull? When will my changes propagate? here for more information.
- Make sure to use the following settings in order to reproduce any error or warning you see on this page.

raw results

Package 1658/2068HostnameOS / ArchINSTALLBUILDCHECKBUILD BIN
RTN 2.19.0  (landing page)
Mauro Castro
Snapshot Date: 2021-11-26 14:50:14 -0500 (Fri, 26 Nov 2021)
git_url: https://git.bioconductor.org/packages/RTN
git_branch: master
git_last_commit: 98b3ed5
git_last_commit_date: 2021-10-26 12:09:15 -0500 (Tue, 26 Oct 2021)
nebbiolo1Linux (Ubuntu 20.04.3 LTS) / x86_64  OK    OK    OK  UNNEEDED, same version is already published
riesling1Windows Server 2019 Standard / x64  OK    OK    OK    OK  
merida1macOS 10.14.6 Mojave / x86_64  OK    OK    OK    OK  UNNEEDED, same version is already published

Results for Bioconductor software packages that depend directly on package RTN

QUICK STATSOS / ArchINSTALLBUILDCHECKBUILD BIN
nebbiolo1Linux (Ubuntu 20.04.3 LTS) / x86_64
002
002
0002
riesling1Windows Server 2019 Standard / x64
002
002
0002
002
merida1macOS 10.14.6 Mojave / x86_64
002
002
0002
002
Package 1/2HostnameOS / ArchINSTALLBUILDCHECKBUILD BIN
RTNduals 1.19.0  (landing page)
Mauro Castro , Clarice Groeneveld
git_last_commit: dcce1c1
git_last_commit_date: 2021-10-26 12:32:53 -0500
nebbiolo1Linux (Ubuntu 20.04.3 LTS) / x86_64  OK    OK    OK  UNNEEDED, same version is already published
riesling1Windows Server 2019 Standard / x64  OK    OK    OK    OK  
merida1macOS 10.14.6 Mojave / x86_64  OK    OK    OK    OK  UNNEEDED, same version is already published
Package 2/2HostnameOS / ArchINSTALLBUILDCHECKBUILD BIN
RTNsurvival 1.19.0  (landing page)
Clarice Groeneveld , Mauro A. A. Castro
git_last_commit: cefc558
git_last_commit_date: 2021-10-26 12:35:54 -0500
nebbiolo1Linux (Ubuntu 20.04.3 LTS) / x86_64  OK    OK    OK  UNNEEDED, same version is already published
riesling1Windows Server 2019 Standard / x64  OK    OK    OK    OK  
merida1macOS 10.14.6 Mojave / x86_64  OK    OK    OK    OK  UNNEEDED, same version is already published