Back to Multiple platform build/check report for BioC 3.15
AB[C]DEFGHIJKLMNOPQRSTUVWXYZ

This page was generated on 2021-11-30 13:53:56 -0500 (Tue, 30 Nov 2021).

All results for package chromstaR

To the developers/maintainers of the chromstaR package:
- Please allow up to 24 hours (and sometimes 48 hours) for your latest push to git@git.bioconductor.org:packages/chromstaR.git to
reflect on this report. See How and When does the builder pull? When will my changes propagate? here for more information.
- Make sure to use the following settings in order to reproduce any error or warning you see on this page.

raw results

Package 310/2068HostnameOS / ArchINSTALLBUILDCHECKBUILD BIN
chromstaR 1.21.4  (landing page)
Aaron Taudt
Snapshot Date: 2021-11-29 14:50:17 -0500 (Mon, 29 Nov 2021)
git_url: https://git.bioconductor.org/packages/chromstaR
git_branch: master
git_last_commit: f2d6332
git_last_commit_date: 2021-11-20 23:22:12 -0500 (Sat, 20 Nov 2021)
nebbiolo1Linux (Ubuntu 20.04.3 LTS) / x86_64  OK    OK    OK  UNNEEDED, same version is already published
riesling1Windows Server 2019 Standard / x64  OK    OK    OK    OK  
merida1macOS 10.14.6 Mojave / x86_64  OK    ERROR  skippedskipped