Back to Multiple platform build/check report for BioC 3.19: simplified long |
|
This page was generated on 2024-03-28 11:38:53 -0400 (Thu, 28 Mar 2024).
Hostname | OS | Arch (*) | R version | Installed pkgs |
---|---|---|---|---|
nebbiolo1 | Linux (Ubuntu 22.04.3 LTS) | x86_64 | R Under development (unstable) (2024-03-18 r86148) -- "Unsuffered Consequences" | 4708 |
palomino3 | Windows Server 2022 Datacenter | x64 | R Under development (unstable) (2024-03-16 r86144 ucrt) -- "Unsuffered Consequences" | 4446 |
lconway | macOS 12.7.1 Monterey | x86_64 | R Under development (unstable) (2024-03-18 r86148) -- "Unsuffered Consequences" | 4471 |
kunpeng2 | Linux (openEuler 22.03 LTS-SP1) | aarch64 | R Under development (unstable) (2024-03-19 r86153) -- "Unsuffered Consequences" | 4426 |
Click on any hostname to see more info about the system (e.g. compilers) (*) as reported by 'uname -p', except on Windows and Mac OS X |
Package 262/2270 | Hostname | OS / Arch | INSTALL | BUILD | CHECK | BUILD BIN | ||||||||
CAGEr 2.9.0 (landing page) Charles Plessy
| nebbiolo1 | Linux (Ubuntu 22.04.3 LTS) / x86_64 | OK | OK | OK | |||||||||
palomino3 | Windows Server 2022 Datacenter / x64 | OK | OK | OK | OK | |||||||||
lconway | macOS 12.7.1 Monterey / x86_64 | OK | OK | OK | OK | |||||||||
kunpeng2 | Linux (openEuler 22.03 LTS-SP1) / aarch64 | OK | OK | OK | ||||||||||
To the developers/maintainers of the CAGEr package: - Allow up to 24 hours (and sometimes 48 hours) for your latest push to git@git.bioconductor.org:packages/CAGEr.git to reflect on this report. See Troubleshooting Build Report for more information. - Use the following Renviron settings to reproduce errors and warnings. - If 'R CMD check' started to fail recently on the Linux builder(s) over a missing dependency, add the missing dependency to 'Suggests:' in your DESCRIPTION file. See Renviron.bioc for more information. |
Package: CAGEr |
Version: 2.9.0 |
Command: /Library/Frameworks/R.framework/Resources/bin/R CMD check --install=check:CAGEr.install-out.txt --library=/Library/Frameworks/R.framework/Resources/library --no-vignettes --timings CAGEr_2.9.0.tar.gz |
StartedAt: 2024-03-27 19:58:05 -0400 (Wed, 27 Mar 2024) |
EndedAt: 2024-03-27 20:11:10 -0400 (Wed, 27 Mar 2024) |
EllapsedTime: 784.2 seconds |
RetCode: 0 |
Status: OK |
CheckDir: CAGEr.Rcheck |
Warnings: 0 |
############################################################################## ############################################################################## ### ### Running command: ### ### /Library/Frameworks/R.framework/Resources/bin/R CMD check --install=check:CAGEr.install-out.txt --library=/Library/Frameworks/R.framework/Resources/library --no-vignettes --timings CAGEr_2.9.0.tar.gz ### ############################################################################## ############################################################################## * using log directory ‘/Users/biocbuild/bbs-3.19-bioc/meat/CAGEr.Rcheck’ * using R Under development (unstable) (2024-03-18 r86148) * using platform: x86_64-apple-darwin20 * R was compiled by Apple clang version 14.0.0 (clang-1400.0.29.202) GNU Fortran (GCC) 12.2.0 * running under: macOS Monterey 12.7.1 * using session charset: UTF-8 * using option ‘--no-vignettes’ * checking for file ‘CAGEr/DESCRIPTION’ ... OK * this is package ‘CAGEr’ version ‘2.9.0’ * package encoding: UTF-8 * checking package namespace information ... OK * checking package dependencies ... OK * checking if this is a source package ... OK * checking if there is a namespace ... OK * checking for hidden files and directories ... OK * checking for portable file names ... OK * checking for sufficient/correct file permissions ... OK * checking whether package ‘CAGEr’ can be installed ... OK * checking installed package size ... OK * checking package directory ... OK * checking ‘build’ directory ... OK * checking DESCRIPTION meta-information ... OK * checking top-level files ... OK * checking for left-over files ... OK * checking index information ... OK * checking package subdirectories ... OK * checking code files for non-ASCII characters ... OK * checking R files for syntax errors ... OK * checking whether the package can be loaded ... OK * checking whether the package can be loaded with stated dependencies ... OK * checking whether the package can be unloaded cleanly ... OK * checking whether the namespace can be loaded with stated dependencies ... OK * checking whether the namespace can be unloaded cleanly ... OK * checking dependencies in R code ... OK * checking S3 generic/method consistency ... OK * checking replacement functions ... OK * checking foreign function calls ... OK * checking R code for possible problems ... OK * checking Rd files ... NOTE checkRd: (-1) inputFiles.Rd:28: Lost braces 28 | code{\link{CAGEexp}} objects. | ^ checkRd: (-1) inputFilesType.Rd:37: Lost braces in \itemize; meant \describe ? checkRd: (-1) inputFilesType.Rd:40: Lost braces in \itemize; meant \describe ? checkRd: (-1) inputFilesType.Rd:43: Lost braces in \itemize; meant \describe ? checkRd: (-1) inputFilesType.Rd:46-47: Lost braces in \itemize; meant \describe ? checkRd: (-1) inputFilesType.Rd:50: Lost braces in \itemize; meant \describe ? checkRd: (-1) inputFilesType.Rd:53-55: Lost braces in \itemize; meant \describe ? * checking Rd metadata ... OK * checking Rd cross-references ... OK * checking for missing documentation entries ... OK * checking for code/documentation mismatches ... OK * checking Rd \usage sections ... NOTE S3 methods shown with full name in Rd file 'rowsum.RleDataFrame.Rd': 'rowsum.RleDataFrame' The \usage entries for S3 methods should use the \method markup and not their full name. See chapter ‘Writing R documentation files’ in the ‘Writing R Extensions’ manual. * checking Rd contents ... OK * checking for unstated dependencies in examples ... OK * checking contents of ‘data’ directory ... OK * checking data for non-ASCII characters ... OK * checking LazyData ... OK * checking data for ASCII and uncompressed saves ... OK * checking files in ‘vignettes’ ... OK * checking examples ... OK Examples with CPU (user + system) or elapsed time > 5s user system elapsed exportToTrack 40.594 0.615 41.538 aggregateTagClusters 37.899 1.570 39.821 clusterCTSS 38.122 0.538 39.020 scoreShift 30.468 0.748 31.476 quantilePositions 28.030 1.030 29.293 annotateCTSS 26.582 0.915 27.731 cumulativeCTSSdistribution 25.427 1.548 27.241 CustomConsensusClusters 14.273 0.539 14.906 getExpressionProfiles 13.005 0.485 13.590 plotExpressionProfiles 10.537 0.309 10.930 CAGEexp-class 5.240 1.014 6.325 expressionClasses 5.567 0.083 5.686 * checking for unstated dependencies in vignettes ... OK * checking package vignettes ... OK * checking running R code from vignettes ... SKIPPED * checking re-building of vignette outputs ... SKIPPED * checking PDF version of manual ... OK * DONE Status: 2 NOTEs See ‘/Users/biocbuild/bbs-3.19-bioc/meat/CAGEr.Rcheck/00check.log’ for details.
CAGEr.Rcheck/00install.out
############################################################################## ############################################################################## ### ### Running command: ### ### /Library/Frameworks/R.framework/Resources/bin/R CMD INSTALL CAGEr ### ############################################################################## ############################################################################## * installing to library ‘/Library/Frameworks/R.framework/Versions/4.4-x86_64/Resources/library’ * installing *source* package ‘CAGEr’ ... ** using staged installation ** R ** data *** moving datasets to lazyload DB ** inst ** byte-compile and prepare package for lazy loading ** help *** installing help indices ** building package indices ** installing vignettes ** testing if installed package can be loaded from temporary location ** testing if installed package can be loaded from final location ** testing if installed package keeps a record of temporary installation path * DONE (CAGEr)
CAGEr.Rcheck/CAGEr-Ex.timings
name | user | system | elapsed | |
CAGEexp-class | 5.240 | 1.014 | 6.325 | |
CAGEr_Multicore | 3.676 | 0.032 | 3.730 | |
CTSS-class | 0.330 | 0.006 | 0.340 | |
CTSSclusteringMethod | 0.001 | 0.000 | 0.001 | |
CTSScoordinates | 0.089 | 0.002 | 0.091 | |
CTSSnormalizedTpm | 0.816 | 0.022 | 0.843 | |
CTSStagCount | 1.064 | 0.104 | 1.177 | |
CTSStoGenes | 0.530 | 0.028 | 0.562 | |
CustomConsensusClusters | 14.273 | 0.539 | 14.906 | |
GeneExpDESeq2 | 0.645 | 0.023 | 0.674 | |
GeneExpSE | 0.005 | 0.000 | 0.006 | |
QuantileWidthFunctions | 0.178 | 0.003 | 0.184 | |
aggregateTagClusters | 37.899 | 1.570 | 39.821 | |
annotateCTSS | 26.582 | 0.915 | 27.731 | |
byCtss | 0.019 | 0.001 | 0.021 | |
clusterCTSS | 38.122 | 0.538 | 39.020 | |
consensusClusters | 0.141 | 0.004 | 0.145 | |
consensusClustersDESeq2 | 4.671 | 0.197 | 4.911 | |
consensusClustersTpm | 0.007 | 0.001 | 0.008 | |
coverage-functions | 2.089 | 0.075 | 2.181 | |
cumulativeCTSSdistribution | 25.427 | 1.548 | 27.241 | |
distclu-functions | 4.051 | 0.363 | 4.449 | |
exampleCAGEexp | 0.000 | 0.001 | 0.001 | |
exportToTrack | 40.594 | 0.615 | 41.538 | |
expressionClasses | 5.567 | 0.083 | 5.686 | |
genomeName | 0.000 | 0.000 | 0.001 | |
getCTSS | 1.357 | 0.025 | 1.390 | |
getExpressionProfiles | 13.005 | 0.485 | 13.590 | |
getShiftingPromoters | 4.341 | 0.172 | 4.541 | |
hanabi | 0.273 | 0.003 | 0.277 | |
hanabiPlot | 0.347 | 0.007 | 0.359 | |
import.CAGEscanMolecule | 0 | 0 | 0 | |
import.CTSS | 0.104 | 0.003 | 0.119 | |
import.bam | 0.000 | 0.000 | 0.001 | |
import.bedCTSS | 0 | 0 | 0 | |
import.bedScore | 0 | 0 | 0 | |
import.bedmolecule | 0.000 | 0.001 | 0.000 | |
inputFiles | 0.003 | 0.001 | 0.003 | |
inputFilesType | 0.001 | 0.001 | 0.002 | |
librarySizes | 0.001 | 0.000 | 0.002 | |
mapStats | 0.065 | 0.006 | 0.072 | |
mergeCAGEsets | 3.006 | 0.056 | 3.088 | |
mergeSamples | 0.717 | 0.008 | 0.730 | |
moleculesGR2CTSS | 0.174 | 0.003 | 0.178 | |
normalizeTagCount | 0.696 | 0.012 | 0.714 | |
parseCAGEscanBlocksToGrangeTSS | 0.027 | 0.001 | 0.029 | |
plotAnnot | 2.887 | 0.051 | 2.970 | |
plotCorrelation | 0.310 | 0.005 | 0.319 | |
plotExpressionProfiles | 10.537 | 0.309 | 10.930 | |
plotInterquantileWidth | 2.331 | 0.026 | 2.432 | |
plotReverseCumulatives | 0.385 | 0.008 | 0.397 | |
quantilePositions | 28.030 | 1.030 | 29.293 | |
quickEnhancers | 0 | 0 | 0 | |
ranges2annot | 0.411 | 0.011 | 0.425 | |
ranges2genes | 0.098 | 0.004 | 0.103 | |
ranges2names | 0.068 | 0.001 | 0.070 | |
resetCAGEexp | 0.361 | 0.004 | 0.369 | |
rowSums.RleDataFrame | 0.027 | 0.001 | 0.028 | |
rowsum.RleDataFrame | 0.027 | 0.001 | 0.027 | |
sampleLabels | 0.004 | 0.001 | 0.005 | |
scoreShift | 30.468 | 0.748 | 31.476 | |
seqNameTotalsSE | 0.006 | 0.000 | 0.006 | |
setColors | 0.488 | 0.007 | 0.499 | |
strandInvaders | 1.051 | 0.117 | 1.206 | |
summariseChrExpr | 0.665 | 0.007 | 0.676 | |
tagClusters | 0.299 | 0.007 | 0.312 | |