Back to Multiple platform build/check report for BioC 3.16
ABCDE[F]GHIJKLMNOPQRSTUVWXYZ

This page was generated on 2022-06-24 11:07:51 -0400 (Fri, 24 Jun 2022).

HostnameOSArch (*)R versionInstalled pkgs
nebbiolo2Linux (Ubuntu 20.04.4 LTS)x86_644.2.0 Patched (2022-06-02 r82447) -- "Vigorous Calisthenics" 4331
palomino4Windows Server 2022 Datacenterx644.2.0 Patched (2022-06-02 r82447 ucrt) -- "Vigorous Calisthenics" 4136
lconwaymacOS 12.2.1 Montereyx86_644.2.0 Patched (2022-05-29 r82424) -- "Vigorous Calisthenics" 4147
Click on any hostname to see more info about the system (e.g. compilers)      (*) as reported by 'uname -p', except on Windows and Mac OS X

BUILD BIN results for fgsea on lconway


To the developers/maintainers of the fgsea package:
- Please allow up to 24 hours (and sometimes 48 hours) for your latest push to git@git.bioconductor.org:packages/fgsea.git to
reflect on this report. See How and When does the builder pull? When will my changes propagate? for more information.
- Make sure to use the following settings in order to reproduce any error or warning you see on this page.

raw results

Package 655/2118HostnameOS / ArchINSTALLBUILDCHECKBUILD BIN
fgsea 1.23.0  (landing page)
Alexey Sergushichev
Snapshot Date: 2022-06-23 14:00:04 -0400 (Thu, 23 Jun 2022)
git_url: https://git.bioconductor.org/packages/fgsea
git_branch: master
git_last_commit: 2f42fb4
git_last_commit_date: 2022-04-26 11:33:18 -0400 (Tue, 26 Apr 2022)
nebbiolo2Linux (Ubuntu 20.04.4 LTS) / x86_64  OK    OK    OK  UNNEEDED, same version is already published
palomino4Windows Server 2022 Datacenter / x64  OK    OK    OK    OK  UNNEEDED, same version is already published
lconwaymacOS 12.2.1 Monterey / x86_64  OK    OK    OK    OK  UNNEEDED, same version is already published

Summary

Package: fgsea
Version: 1.23.0
Command: rm -rf fgsea.buildbin-libdir && mkdir fgsea.buildbin-libdir && /Users/biocbuild/BBS/utils/build-universal.sh fgsea_1.23.0.tar.gz /Library/Frameworks/R.framework/Resources/bin/R fgsea.buildbin-libdir
StartedAt: 2022-06-23 23:37:28 -0400 (Thu, 23 Jun 2022)
EndedAt: 2022-06-23 23:38:09 -0400 (Thu, 23 Jun 2022)
EllapsedTime: 40.7 seconds
RetCode: 0
Status:   OK  
PackageFile: fgsea_1.23.0.tgz
PackageFileSize: 1.42 MiB

Command output

##############################################################################
##############################################################################
###
### Running command:
###
###   rm -rf fgsea.buildbin-libdir && mkdir fgsea.buildbin-libdir && /Users/biocbuild/BBS/utils/build-universal.sh fgsea_1.23.0.tar.gz /Library/Frameworks/R.framework/Resources/bin/R fgsea.buildbin-libdir
###
##############################################################################
##############################################################################


>>>>>>> 
>>>>>>> INSTALLATION WITH 'R CMD INSTALL --preclean --no-multiarch --library=fgsea.buildbin-libdir fgsea_1.23.0.tar.gz'
>>>>>>> 

* installing *source* package ‘fgsea’ ...
** using staged installation
** libs
clang++ -mmacosx-version-min=10.13 -std=gnu++11 -I"/Library/Frameworks/R.framework/Resources/include" -DNDEBUG  -I'/Library/Frameworks/R.framework/Versions/4.2/Resources/library/Rcpp/include' -I'/Library/Frameworks/R.framework/Versions/4.2/Resources/library/BH/include' -I/usr/local/include   -fPIC  -Wall -g -O2  -c RcppExports.cpp -o RcppExports.o
clang++ -mmacosx-version-min=10.13 -std=gnu++11 -I"/Library/Frameworks/R.framework/Resources/include" -DNDEBUG  -I'/Library/Frameworks/R.framework/Versions/4.2/Resources/library/Rcpp/include' -I'/Library/Frameworks/R.framework/Versions/4.2/Resources/library/BH/include' -I/usr/local/include   -fPIC  -Wall -g -O2  -c esCalculation.cpp -o esCalculation.o
clang++ -mmacosx-version-min=10.13 -std=gnu++11 -I"/Library/Frameworks/R.framework/Resources/include" -DNDEBUG  -I'/Library/Frameworks/R.framework/Versions/4.2/Resources/library/Rcpp/include' -I'/Library/Frameworks/R.framework/Versions/4.2/Resources/library/BH/include' -I/usr/local/include   -fPIC  -Wall -g -O2  -c fastGSEA.cpp -o fastGSEA.o
clang++ -mmacosx-version-min=10.13 -std=gnu++11 -I"/Library/Frameworks/R.framework/Resources/include" -DNDEBUG  -I'/Library/Frameworks/R.framework/Versions/4.2/Resources/library/Rcpp/include' -I'/Library/Frameworks/R.framework/Versions/4.2/Resources/library/BH/include' -I/usr/local/include   -fPIC  -Wall -g -O2  -c fgseaMultilevel.cpp -o fgseaMultilevel.o
clang++ -mmacosx-version-min=10.13 -std=gnu++11 -I"/Library/Frameworks/R.framework/Resources/include" -DNDEBUG  -I'/Library/Frameworks/R.framework/Versions/4.2/Resources/library/Rcpp/include' -I'/Library/Frameworks/R.framework/Versions/4.2/Resources/library/BH/include' -I/usr/local/include   -fPIC  -Wall -g -O2  -c fgseaMultilevelSupplement.cpp -o fgseaMultilevelSupplement.o
fgseaMultilevelSupplement.cpp:81:16: warning: unused variable 'currentES' [-Wunused-variable]
        double currentES = calcES(ranks, currentSamples[sampleId]);
               ^
fgseaMultilevelSupplement.cpp:264:14: warning: unused variable 'fl' [-Wunused-variable]
        bool fl = false;
             ^
2 warnings generated.
clang++ -mmacosx-version-min=10.13 -std=gnu++11 -I"/Library/Frameworks/R.framework/Resources/include" -DNDEBUG  -I'/Library/Frameworks/R.framework/Versions/4.2/Resources/library/Rcpp/include' -I'/Library/Frameworks/R.framework/Versions/4.2/Resources/library/BH/include' -I/usr/local/include   -fPIC  -Wall -g -O2  -c util.cpp -o util.o
clang++ -mmacosx-version-min=10.13 -std=gnu++11 -dynamiclib -Wl,-headerpad_max_install_names -undefined dynamic_lookup -single_module -multiply_defined suppress -L/Library/Frameworks/R.framework/Resources/lib -L/usr/local/lib -o fgsea.so RcppExports.o esCalculation.o fastGSEA.o fgseaMultilevel.o fgseaMultilevelSupplement.o util.o -F/Library/Frameworks/R.framework/.. -framework R -Wl,-framework -Wl,CoreFoundation
installing to /Users/biocbuild/bbs-3.16-bioc/meat/fgsea.buildbin-libdir/00LOCK-fgsea/00new/fgsea/libs
** R
** data
*** moving datasets to lazyload DB
** inst
** byte-compile and prepare package for lazy loading
** help
*** installing help indices
** building package indices
** installing vignettes
** testing if installed package can be loaded from temporary location
** checking absolute paths in shared objects and dynamic libraries
** testing if installed package can be loaded from final location
** testing if installed package keeps a record of temporary installation path
* DONE (fgsea)


>>>>>>> 
>>>>>>> FIXING LINKS FOR fgsea.buildbin-libdir/fgsea/libs/fgsea.so
>>>>>>> 

install_name_tool -change "/usr/local/lib/libgcc_s.1.dylib" "/Library/Frameworks/R.framework/Versions/4.2/Resources/lib/libgcc_s.1.dylib" "fgsea.buildbin-libdir/fgsea/libs/fgsea.so"
install_name_tool -change "/usr/local/lib/libgfortran.5.dylib" "/Library/Frameworks/R.framework/Versions/4.2/Resources/lib/libgfortran.5.dylib" "fgsea.buildbin-libdir/fgsea/libs/fgsea.so"
install_name_tool -change "/usr/local/lib/libquadmath.0.dylib" "/Library/Frameworks/R.framework/Versions/4.2/Resources/lib/libquadmath.0.dylib" "fgsea.buildbin-libdir/fgsea/libs/fgsea.so"