Back to Multiple platform build/check report for BioC 3.12
ABCDEFGH[I]JKLMNOPQRSTUVWXYZ

Multiple platform build/check report for BioC 3.12

Results for InPAS

This page was generated on 2020-07-13 12:41:31 -0400 (Mon, 13 Jul 2020).

Package 863/1876HostnameOS / ArchINSTALLBUILDCHECKBUILD BIN
InPAS 1.21.0
Jianhong Ou
Snapshot Date: 2020-07-12 15:51:42 -0400 (Sun, 12 Jul 2020)
URL: https://git.bioconductor.org/packages/InPAS
Branch: master
Last Commit: 54b29cc
Last Changed Date: 2020-04-27 14:47:33 -0400 (Mon, 27 Apr 2020)
malbec1 Linux (Ubuntu 18.04.4 LTS) / x86_64  OK  OK  OK UNNEEDED, same version exists in internal repository
tokay1 Windows Server 2012 R2 Standard / x64  OK  OK  OK  OK UNNEEDED, same version exists in internal repository
merida1 macOS 10.14.6 Mojave / x86_64  OK  OK  OK  OK UNNEEDED, same version exists in internal repository