Back to Build/check report for BioC 3.17:   simplified   long
ABCDEFGHIJKL[M]NOPQRSTUVWXYZ

This page was generated on 2023-03-30 12:33:36 -0400 (Thu, 30 Mar 2023).

HostnameOSArch (*)R versionInstalled pkgs
nebbiolo1Linux (Ubuntu 22.04.1 LTS)x86_64R Under development (unstable) (2023-03-16 r83996) -- "Unsuffered Consequences" 4547
Click on any hostname to see more info about the system (e.g. compilers)      (*) as reported by 'uname -p', except on Windows and Mac OS X

All results for package martini


To the developers/maintainers of the martini package:
- Allow up to 24 hours (and sometimes 48 hours) for your latest push to git@git.bioconductor.org:packages/martini.git to reflect on this report. See Troubleshooting Build Report for more information.

- Use the following Renviron settings to reproduce errors and warnings.

Note: If "R CMD check" recently failed on the Linux builder over a missing dependency, add the missing dependency to "Suggests" in your DESCRIPTION file. See the Renviron.bioc for details.

raw results

Package 1104/2195HostnameOS / ArchINSTALLBUILDCHECKBUILD BIN
martini 1.19.0  (landing page)
Hector Climente-Gonzalez
Snapshot Date: 2023-03-29 14:00:20 -0400 (Wed, 29 Mar 2023)
git_url: https://git.bioconductor.org/packages/martini
git_branch: devel
git_last_commit: 544b8dd
git_last_commit_date: 2023-01-11 03:20:52 -0400 (Wed, 11 Jan 2023)
nebbiolo1Linux (Ubuntu 22.04.1 LTS) / x86_64  OK    OK    OK  UNNEEDED, same version is already published