Back to Multiple platform build/check report for BioC 3.15
ABC[D]EFGHIJKLMNOPQRSTUVWXYZ

This page was generated on 2021-12-07 12:33:21 -0500 (Tue, 07 Dec 2021).

All results for package DelayedDataFrame

To the developers/maintainers of the DelayedDataFrame package:
- Please allow up to 24 hours (and sometimes 48 hours) for your latest push to git@git.bioconductor.org:packages/DelayedDataFrame.git to
reflect on this report. See How and When does the builder pull? When will my changes propagate? here for more information.
- Make sure to use the following settings in order to reproduce any error or warning you see on this page.

raw results

Package 476/2068HostnameOS / ArchINSTALLBUILDCHECKBUILD BIN
DelayedDataFrame 1.11.0  (landing page)
Qian Liu
Snapshot Date: 2021-12-06 13:55:08 -0500 (Mon, 06 Dec 2021)
git_url: https://git.bioconductor.org/packages/DelayedDataFrame
git_branch: master
git_last_commit: 449bc39
git_last_commit_date: 2021-10-26 12:48:35 -0500 (Tue, 26 Oct 2021)
nebbiolo1Linux (Ubuntu 20.04.3 LTS) / x86_64  OK    OK    ERROR  
merida1macOS 10.14.6 Mojave / x86_64  OK    OK    ERROR    OK  

Results for Bioconductor software packages that depend directly on package DelayedDataFrame

QUICK STATSOS / ArchINSTALLBUILDCHECKBUILD BIN
nebbiolo1Linux (Ubuntu 20.04.3 LTS) / x86_64
001
010
0000
merida1macOS 10.14.6 Mojave / x86_64
001
010
0000
000
Package 1/1HostnameOS / ArchINSTALLBUILDCHECKBUILD BIN
VariantExperiment 1.9.0  (landing page)
Qian Liu
git_last_commit: c6e2a3d
git_last_commit_date: 2021-10-26 12:53:37 -0500
nebbiolo1Linux (Ubuntu 20.04.3 LTS) / x86_64  OK    ERROR  skipped
merida1macOS 10.14.6 Mojave / x86_64  OK    ERROR  skippedskipped