Back to Multiple platform build/check report for BioC 3.16
ABCD[E]FGHIJKLMNOPQRSTUVWXYZ

This page was generated on 2022-05-19 11:04:27 -0400 (Thu, 19 May 2022).

HostnameOSArch (*)R versionInstalled pkgs
nebbiolo2Linux (Ubuntu 20.04.4 LTS)x86_644.2.0 RC (2022-04-21 r82226) -- "Vigorous Calisthenics" 4357
palomino4Windows Server 2022 Datacenterx644.2.0 Patched (2022-04-24 r82246 ucrt) -- "Vigorous Calisthenics" 4129
lconwaymacOS 12.2.1 Montereyx86_644.2.0 Patched (2022-04-24 r82246) -- "Vigorous Calisthenics" 4138
Click on any hostname to see more info about the system (e.g. compilers)      (*) as reported by 'uname -p', except on Windows and Mac OS X

All results for package epivizrServer


To the developers/maintainers of the epivizrServer package:
- Please allow up to 24 hours (and sometimes 48 hours) for your latest push to git@git.bioconductor.org:packages/epivizrServer.git to
reflect on this report. See How and When does the builder pull? When will my changes propagate? for more information.
- Make sure to use the following settings in order to reproduce any error or warning you see on this page.

raw results

Package 612/2112HostnameOS / ArchINSTALLBUILDCHECKBUILD BIN
epivizrServer 1.25.0  (landing page)
Hector Corrada Bravo
Snapshot Date: 2022-05-18 13:55:06 -0400 (Wed, 18 May 2022)
git_url: https://git.bioconductor.org/packages/epivizrServer
git_branch: master
git_last_commit: c99cd4a
git_last_commit_date: 2022-04-26 11:32:04 -0400 (Tue, 26 Apr 2022)
nebbiolo2Linux (Ubuntu 20.04.4 LTS) / x86_64  OK    OK    OK  UNNEEDED, same version is already published
palomino4Windows Server 2022 Datacenter / x64  OK    OK    OK    OK  UNNEEDED, same version is already published
lconwaymacOS 12.2.1 Monterey / x86_64  OK    OK    OK    OK  UNNEEDED, same version is already published

Results for Bioconductor software packages that depend directly on package epivizrServer

QUICK STATSOS / ArchINSTALLBUILDCHECKBUILD BIN
nebbiolo2Linux (Ubuntu 20.04.4 LTS) / x86_64
006
015
0023
palomino4Windows Server 2022 Datacenter / x64
006
015
0023
005
lconwaymacOS 12.2.1 Monterey / x86_64
006
015
0023
005
Package 1/6HostnameOS / ArchINSTALLBUILDCHECKBUILD BIN
epivizr 2.27.0  (landing page)
Hector Corrada Bravo
git_last_commit: f7a722f
git_last_commit_date: 2022-04-26 11:16:37 -0400
nebbiolo2Linux (Ubuntu 20.04.4 LTS) / x86_64  OK    OK    WARNINGS  UNNEEDED, same version is already published
palomino4Windows Server 2022 Datacenter / x64  OK    OK    WARNINGS    OK  NO, package depends on 'epivizrData' which is not available
lconwaymacOS 12.2.1 Monterey / x86_64  OK    OK    WARNINGS    OK  NO, package depends on 'epivizrData' which is not available
Package 2/6HostnameOS / ArchINSTALLBUILDCHECKBUILD BIN
epivizrChart 1.19.0  (landing page)
Hector Corrada Bravo
git_last_commit: 5d2cda5
git_last_commit_date: 2022-04-26 11:42:01 -0400
nebbiolo2Linux (Ubuntu 20.04.4 LTS) / x86_64  OK    OK    OK  UNNEEDED, same version is already published
palomino4Windows Server 2022 Datacenter / x64  OK    OK    OK    OK  NO, package depends on 'epivizrData' which is not available
lconwaymacOS 12.2.1 Monterey / x86_64  OK    OK    OK    OK  NO, package depends on 'epivizrData' which is not available
Package 3/6HostnameOS / ArchINSTALLBUILDCHECKBUILD BIN
epivizrData 1.25.0  (landing page)
Hector Corrada Bravo
git_last_commit: f7b9f4b
git_last_commit_date: 2022-04-26 11:32:06 -0400
nebbiolo2Linux (Ubuntu 20.04.4 LTS) / x86_64  OK    OK    WARNINGS  UNNEEDED, same version is already published
palomino4Windows Server 2022 Datacenter / x64  OK    OK    WARNINGS    OK  NO, package depends on 'OrganismDbi' which is not available
lconwaymacOS 12.2.1 Monterey / x86_64  OK    OK    WARNINGS    OK  NO, package depends on 'Biobase' which is not available
Package 4/6HostnameOS / ArchINSTALLBUILDCHECKBUILD BIN
epivizrStandalone 1.25.0  (landing page)
Hector Corrada Bravo
git_last_commit: a1b3549
git_last_commit_date: 2022-04-26 11:32:23 -0400
nebbiolo2Linux (Ubuntu 20.04.4 LTS) / x86_64  OK    OK    OK  UNNEEDED, same version is already published
palomino4Windows Server 2022 Datacenter / x64  OK    OK    OK    OK  NO, package depends on 'epivizr' which is not available
lconwaymacOS 12.2.1 Monterey / x86_64  OK    OK    OK    OK  NO, package depends on 'epivizr' which is not available
Package 5/6HostnameOS / ArchINSTALLBUILDCHECKBUILD BIN
metavizr 1.21.0  (landing page)
Hector Corrada Bravo
git_last_commit: eb1b65b
git_last_commit_date: 2022-04-26 11:40:36 -0400
nebbiolo2Linux (Ubuntu 20.04.4 LTS) / x86_64  OK    ERROR  skipped
palomino4Windows Server 2022 Datacenter / x64  OK    ERROR  skippedskipped
lconwaymacOS 12.2.1 Monterey / x86_64  OK    ERROR  skippedskipped
Package 6/6HostnameOS / ArchINSTALLBUILDCHECKBUILD BIN
scTreeViz 1.3.0  (landing page)
Jayaram Kancherla
git_last_commit: f47d9c9
git_last_commit_date: 2022-04-26 12:18:41 -0400
nebbiolo2Linux (Ubuntu 20.04.4 LTS) / x86_64  OK    OK    OK  UNNEEDED, same version is already published
palomino4Windows Server 2022 Datacenter / x64  OK    OK    OK    OK  NO, package depends on 'epivizr' which is not available
lconwaymacOS 12.2.1 Monterey / x86_64  OK    OK    OK    OK  NO, package depends on 'epivizr' which is not available