Back to Multiple platform build/check report for BioC 3.17:   simplified   long
ABCDEFGHIJKLMNOPQRST[U]VWXYZ

This page was generated on 2023-03-28 11:05:02 -0400 (Tue, 28 Mar 2023).

HostnameOSArch (*)R versionInstalled pkgs
nebbiolo1Linux (Ubuntu 22.04.1 LTS)x86_64R Under development (unstable) (2023-03-16 r83996) -- "Unsuffered Consequences" 4547
palomino3Windows Server 2022 Datacenterx64R Under development (unstable) (2023-03-15 r83984 ucrt) -- "Unsuffered Consequences" 4308
merida1macOS 10.14.6 Mojavex86_64R Under development (unstable) (2023-03-16 r83985) -- "Unsuffered Consequences" 4301
Click on any hostname to see more info about the system (e.g. compilers)      (*) as reported by 'uname -p', except on Windows and Mac OS X

All results for package UniProt.ws


To the developers/maintainers of the UniProt.ws package:
- Please allow up to 24 hours (and sometimes 48 hours) for your latest push to git@git.bioconductor.org:packages/UniProt.ws.git to
reflect on this report. See How and When does the builder pull? When will my changes propagate? for more information.
- Make sure to use the following settings in order to reproduce any error or warning you see on this page.

raw results

Package 2137/2195HostnameOS / ArchINSTALLBUILDCHECKBUILD BIN
UniProt.ws 2.39.3  (landing page)
Marcel Ramos
Snapshot Date: 2023-03-27 14:00:21 -0400 (Mon, 27 Mar 2023)
git_url: https://git.bioconductor.org/packages/UniProt.ws
git_branch: devel
git_last_commit: dcfeb62
git_last_commit_date: 2023-02-24 15:02:20 -0400 (Fri, 24 Feb 2023)
nebbiolo1Linux (Ubuntu 22.04.1 LTS) / x86_64  OK    OK    OK  UNNEEDED, same version is already published
palomino3Windows Server 2022 Datacenter / x64  OK    OK    OK    OK  UNNEEDED, same version is already published
merida1macOS 10.14.6 Mojave / x86_64  OK    OK    OK    OK  UNNEEDED, same version is already published

Results for Bioconductor software packages that depend directly on package UniProt.ws

QUICK STATSOS / ArchINSTALLBUILDCHECKBUILD BIN
nebbiolo1Linux (Ubuntu 22.04.1 LTS) / x86_64
002
002
0002
palomino3Windows Server 2022 Datacenter / x64
002
002
0002
002
merida1macOS 10.14.6 Mojave / x86_64
002
002
0002
002
Package 1/2HostnameOS / ArchINSTALLBUILDCHECKBUILD BIN
dagLogo 1.37.0  (landing page)
Jianhong Ou
git_last_commit: 87098d8
git_last_commit_date: 2022-11-01 11:08:48 -0400
nebbiolo1Linux (Ubuntu 22.04.1 LTS) / x86_64  OK    OK    OK  UNNEEDED, same version is already published
palomino3Windows Server 2022 Datacenter / x64  OK    OK    OK    OK  UNNEEDED, same version is already published
merida1macOS 10.14.6 Mojave / x86_64  OK    OK    OK    OK  UNNEEDED, same version is already published
Package 2/2HostnameOS / ArchINSTALLBUILDCHECKBUILD BIN
drugTargetInteractions 1.7.0  (landing page)
Thomas Girke
git_last_commit: 7f8fecc
git_last_commit_date: 2022-11-01 11:24:22 -0400
nebbiolo1Linux (Ubuntu 22.04.1 LTS) / x86_64  OK    OK    OK  UNNEEDED, same version is already published
palomino3Windows Server 2022 Datacenter / x64  OK    OK    OK    OK  UNNEEDED, same version is already published
merida1macOS 10.14.6 Mojave / x86_64  OK    OK    OK    OK  UNNEEDED, same version is already published