Back to Multiple platform build/check report for BioC 3.14
ABCDEFGHIJKL[M]NOPQRSTUVWXYZ

This page was generated on 2021-10-14 12:05:12 -0400 (Thu, 14 Oct 2021).

BUILD results for msgbsR on nebbiolo2

To the developers/maintainers of the msgbsR package:
- Please allow up to 24 hours (and sometimes 48 hours) for your latest push to git@git.bioconductor.org:packages/msgbsR.git to
reflect on this report. See How and When does the builder pull? When will my changes propagate? here for more information.
- Make sure to use the following settings in order to reproduce any error or warning you see on this page.

raw results

Package 1199/2056HostnameOS / ArchINSTALLBUILDCHECKBUILD BIN
msgbsR 1.17.0  (landing page)
Benjamin Mayne
Snapshot Date: 2021-10-13 14:50:09 -0400 (Wed, 13 Oct 2021)
git_url: https://git.bioconductor.org/packages/msgbsR
git_branch: master
git_last_commit: 612f713
git_last_commit_date: 2021-05-19 12:27:53 -0400 (Wed, 19 May 2021)
nebbiolo2Linux (Ubuntu 20.04.2 LTS) / x86_64  OK    OK    WARNINGS  UNNEEDED, same version is already published
riesling1Windows Server 2019 Standard / x64  OK    OK    WARNINGS    OK  UNNEEDED, same version is already published
merida1macOS 10.14.6 Mojave / x86_64  OK    OK    WARNINGS    OK  UNNEEDED, same version is already published

Summary

Package: msgbsR
Version: 1.17.0
Command: /home/biocbuild/bbs-3.14-bioc/R/bin/R CMD build --keep-empty-dirs --no-resave-data msgbsR
StartedAt: 2021-10-13 17:54:06 -0400 (Wed, 13 Oct 2021)
EndedAt: 2021-10-13 17:55:32 -0400 (Wed, 13 Oct 2021)
EllapsedTime: 85.2 seconds
RetCode: 0
Status:   OK  
PackageFile: msgbsR_1.17.0.tar.gz
PackageFileSize: 15.53 MiB

Command output

##############################################################################
##############################################################################
###
### Running command:
###
###   /home/biocbuild/bbs-3.14-bioc/R/bin/R CMD build --keep-empty-dirs --no-resave-data msgbsR
###
##############################################################################
##############################################################################


* checking for file ‘msgbsR/DESCRIPTION’ ... OK
* preparing ‘msgbsR’:
* checking DESCRIPTION meta-information ... OK
* installing the package to build vignettes
* creating vignettes ... OK
* checking for LF line-endings in source and make files and shell scripts
* checking for empty or unneeded directories
* looking to see if a ‘data/datalist’ file should be added
* building ‘msgbsR_1.17.0.tar.gz’