Back to Multiple platform build/check report for BioC 3.15
ABCDEF[G]HIJKLMNOPQRSTUVWXYZ

This page was generated on 2022-01-19 11:05:02 -0500 (Wed, 19 Jan 2022).

HostnameOSArch (*)R versionInstalled pkgs
nebbiolo1Linux (Ubuntu 20.04.4 LTS)x86_64R Under development (unstable) (2022-01-05 r81451) -- "Unsuffered Consequences" 4161
riesling1Windows Server 2019 Standardx64R Under development (unstable) (2021-11-21 r81221) -- "Unsuffered Consequences" 4056
palomino3Windows Server 2022 Datacenterx64R Under development (unstable) (2021-12-21 r81400 ucrt) -- "Unsuffered Consequences" 3998
merida1macOS 10.14.6 Mojavex86_64R Under development (unstable) (2022-01-05 r81451) -- "Unsuffered Consequences" 4115
Click on any hostname to see more info about the system (e.g. compilers)      (*) as reported by 'uname -p', except on Windows and Mac OS X

All results for package GOSemSim


To the developers/maintainers of the GOSemSim package:
- Please allow up to 24 hours (and sometimes 48 hours) for your latest push to git@git.bioconductor.org:packages/GOSemSim.git to
reflect on this report. See How and When does the builder pull? When will my changes propagate? here for more information.
- Make sure to use the following settings in order to reproduce any error or warning you see on this page.

raw results

Package 800/2074HostnameOS / ArchINSTALLBUILDCHECKBUILD BIN
GOSemSim 2.21.1  (landing page)
Guangchuang Yu
Snapshot Date: 2022-01-18 13:55:18 -0500 (Tue, 18 Jan 2022)
git_url: https://git.bioconductor.org/packages/GOSemSim
git_branch: master
git_last_commit: 93e0843
git_last_commit_date: 2022-01-09 21:12:55 -0500 (Sun, 09 Jan 2022)
nebbiolo1Linux (Ubuntu 20.04.4 LTS) / x86_64  OK    OK    OK  UNNEEDED, same version is already published
riesling1Windows Server 2019 Standard / x64  OK    OK    OK    OK  
palomino3Windows Server 2022 Datacenter / x64  OK    OK    OK    OK  NO, package depends on 'AnnotationDbi' which is not available
merida1macOS 10.14.6 Mojave / x86_64  OK    OK    OK    OK  UNNEEDED, same version is already published

Results for Bioconductor software packages that depend directly on package GOSemSim

QUICK STATSOS / ArchINSTALLBUILDCHECKBUILD BIN
nebbiolo1Linux (Ubuntu 20.04.4 LTS) / x86_64
0010
019
0036
riesling1Windows Server 2019 Standard / x64
0010
019
0036
009
palomino3Windows Server 2022 Datacenter / x64
0010
019
0036
009
merida1macOS 10.14.6 Mojave / x86_64
0010
019
0036
009
Package 1/10HostnameOS / ArchINSTALLBUILDCHECKBUILD BIN
clusterProfiler 4.3.2  (landing page)
Guangchuang Yu
git_last_commit: 8d74298
git_last_commit_date: 2022-01-12 03:30:17 -0500
nebbiolo1Linux (Ubuntu 20.04.4 LTS) / x86_64  OK    OK    OK  UNNEEDED, same version is already published
riesling1Windows Server 2019 Standard / x64  OK    OK    OK    OK  
palomino3Windows Server 2022 Datacenter / x64  OK    OK    OK    OK  NO, package depends on 'AnnotationDbi' which is not available
merida1macOS 10.14.6 Mojave / x86_64  OK    OK    OK    OK  NO, package depends on 'DOSE' which is not available
Package 2/10HostnameOS / ArchINSTALLBUILDCHECKBUILD BIN
DOSE 3.21.2  (landing page)
Guangchuang Yu
git_last_commit: 20c57bc
git_last_commit_date: 2022-01-04 01:56:36 -0500
nebbiolo1Linux (Ubuntu 20.04.4 LTS) / x86_64  OK    OK    OK  UNNEEDED, same version is already published
riesling1Windows Server 2019 Standard / x64  OK    OK    OK    OK  
palomino3Windows Server 2022 Datacenter / x64  OK    OK    OK    OK  NO, package depends on 'AnnotationDbi' which is not available
merida1macOS 10.14.6 Mojave / x86_64  OK    OK    OK    OK  NO, package depends on 'fgsea' which is not available
Package 3/10HostnameOS / ArchINSTALLBUILDCHECKBUILD BIN
enrichplot 1.15.2  (landing page)
Guangchuang Yu
git_last_commit: ca78254
git_last_commit_date: 2021-12-29 02:41:04 -0500
nebbiolo1Linux (Ubuntu 20.04.4 LTS) / x86_64  OK    OK    OK  UNNEEDED, same version is already published
riesling1Windows Server 2019 Standard / x64  OK    OK    OK    OK  
palomino3Windows Server 2022 Datacenter / x64  OK    OK    OK    OK  NO, package depends on 'DOSE' which is not available
merida1macOS 10.14.6 Mojave / x86_64  OK    OK    OK    OK  NO, package depends on 'DOSE' which is not available
Package 4/10HostnameOS / ArchINSTALLBUILDCHECKBUILD BIN
GAPGOM 1.11.0  (landing page)
Rezvan Ehsani
git_last_commit: b7987ae
git_last_commit_date: 2021-10-26 12:49:12 -0500
nebbiolo1Linux (Ubuntu 20.04.4 LTS) / x86_64  OK    ERROR  skipped
riesling1Windows Server 2019 Standard / x64  OK    ERROR  skippedskipped
palomino3Windows Server 2022 Datacenter / x64  OK    ERROR  skippedskipped
merida1macOS 10.14.6 Mojave / x86_64  OK    ERROR  skippedskipped
Package 5/10HostnameOS / ArchINSTALLBUILDCHECKBUILD BIN
meshes 1.21.0  (landing page)
Guangchuang Yu
git_last_commit: 771f2e8
git_last_commit_date: 2021-10-26 12:31:02 -0500
nebbiolo1Linux (Ubuntu 20.04.4 LTS) / x86_64  OK    OK    OK  UNNEEDED, same version is already published
riesling1Windows Server 2019 Standard / x64  OK    OK    OK    OK  
palomino3Windows Server 2022 Datacenter / x64  OK    OK    OK    OK  NO, package depends on 'AnnotationDbi' which is not available
merida1macOS 10.14.6 Mojave / x86_64  OK    OK    OK    OK  NO, package depends on 'DOSE' which is not available
Package 6/10HostnameOS / ArchINSTALLBUILDCHECKBUILD BIN
Rcpi 1.31.0  (landing page)
Nan Xiao
git_last_commit: 55058fb
git_last_commit_date: 2021-12-16 16:37:19 -0500
nebbiolo1Linux (Ubuntu 20.04.4 LTS) / x86_64  OK    OK    OK  UNNEEDED, same version is already published
riesling1Windows Server 2019 Standard / x64  OK    OK    OK    OK  
palomino3Windows Server 2022 Datacenter / x64  OK    OK    OK    OK  NO, package depends on 'Biostrings' which is not available
merida1macOS 10.14.6 Mojave / x86_64  OK    OK    OK    OK  NO, package depends on 'ChemmineR' which is not available
Package 7/10HostnameOS / ArchINSTALLBUILDCHECKBUILD BIN
rrvgo 1.7.1  (landing page)
Sergi Sayols
git_last_commit: a523d68
git_last_commit_date: 2022-01-17 03:32:45 -0500
nebbiolo1Linux (Ubuntu 20.04.4 LTS) / x86_64  OK    OK    OK  UNNEEDED, same version is already published
riesling1Windows Server 2019 Standard / x64  OK    OK    OK    OK  
palomino3Windows Server 2022 Datacenter / x64  OK    OK    OK    OK  NO, package depends on 'GOSemSim' which is not available
merida1macOS 10.14.6 Mojave / x86_64  OK    OK    OK    OK  UNNEEDED, same version is already published
Package 8/10HostnameOS / ArchINSTALLBUILDCHECKBUILD BIN
simplifyEnrichment 1.5.2  (landing page)
Zuguang Gu
git_last_commit: 75f5d20
git_last_commit_date: 2021-12-01 17:19:09 -0500
nebbiolo1Linux (Ubuntu 20.04.4 LTS) / x86_64  OK    OK    WARNINGS  UNNEEDED, same version is already published
riesling1Windows Server 2019 Standard / x64  OK    OK    WARNINGS    OK  
palomino3Windows Server 2022 Datacenter / x64  OK    OK    WARNINGS    OK  NO, package depends on 'BiocGenerics' which is not available
merida1macOS 10.14.6 Mojave / x86_64  OK    OK    WARNINGS    OK  UNNEEDED, same version is already published
Package 9/10HostnameOS / ArchINSTALLBUILDCHECKBUILD BIN
tRanslatome 1.33.0  (landing page)
Toma Tebaldi , Erik Dassi
git_last_commit: cdad2f0
git_last_commit_date: 2021-10-26 12:08:16 -0500
nebbiolo1Linux (Ubuntu 20.04.4 LTS) / x86_64  OK    OK    WARNINGS  UNNEEDED, same version is already published
riesling1Windows Server 2019 Standard / x64  OK    OK    WARNINGS    OK  
palomino3Windows Server 2022 Datacenter / x64  OK    OK    WARNINGS    OK  NO, package depends on 'anota' which is not available
merida1macOS 10.14.6 Mojave / x86_64  OK    OK    WARNINGS    OK  UNNEEDED, same version is already published
Package 10/10HostnameOS / ArchINSTALLBUILDCHECKBUILD BIN
ViSEAGO 1.9.0  (landing page)
Aurelien Brionne
git_last_commit: 0d62b70
git_last_commit_date: 2021-10-26 12:52:59 -0500
nebbiolo1Linux (Ubuntu 20.04.4 LTS) / x86_64  OK    OK    WARNINGS  UNNEEDED, same version is already published
riesling1Windows Server 2019 Standard / x64  OK    OK    WARNINGS    OK  
palomino3Windows Server 2022 Datacenter / x64  OK    OK    WARNINGS    OK  NO, package depends on 'AnnotationDbi' which is not available
merida1macOS 10.14.6 Mojave / x86_64  OK    OK    WARNINGS    OK  NO, package depends on 'fgsea' which is not available