Back to Multiple platform build/check report for BioC 3.16
ABCDEFGHIJKLMN[O]PQRSTUVWXYZ

This page was generated on 2022-06-24 11:08:18 -0400 (Fri, 24 Jun 2022).

HostnameOSArch (*)R versionInstalled pkgs
nebbiolo2Linux (Ubuntu 20.04.4 LTS)x86_644.2.0 Patched (2022-06-02 r82447) -- "Vigorous Calisthenics" 4331
palomino4Windows Server 2022 Datacenterx644.2.0 Patched (2022-06-02 r82447 ucrt) -- "Vigorous Calisthenics" 4136
lconwaymacOS 12.2.1 Montereyx86_644.2.0 Patched (2022-05-29 r82424) -- "Vigorous Calisthenics" 4147
Click on any hostname to see more info about the system (e.g. compilers)      (*) as reported by 'uname -p', except on Windows and Mac OS X

BUILD BIN results for omicsViewer on lconway


To the developers/maintainers of the omicsViewer package:
- Please allow up to 24 hours (and sometimes 48 hours) for your latest push to git@git.bioconductor.org:packages/omicsViewer.git to
reflect on this report. See How and When does the builder pull? When will my changes propagate? for more information.
- Make sure to use the following settings in order to reproduce any error or warning you see on this page.

raw results

Package 1351/2118HostnameOS / ArchINSTALLBUILDCHECKBUILD BIN
omicsViewer 1.1.3  (landing page)
Chen Meng
Snapshot Date: 2022-06-23 14:00:04 -0400 (Thu, 23 Jun 2022)
git_url: https://git.bioconductor.org/packages/omicsViewer
git_branch: master
git_last_commit: b5147c3
git_last_commit_date: 2022-06-08 08:38:40 -0400 (Wed, 08 Jun 2022)
nebbiolo2Linux (Ubuntu 20.04.4 LTS) / x86_64  OK    OK    OK  UNNEEDED, same version is already published
palomino4Windows Server 2022 Datacenter / x64  OK    OK    OK    OK  UNNEEDED, same version is already published
lconwaymacOS 12.2.1 Monterey / x86_64  OK    OK    OK    OK  UNNEEDED, same version is already published

Summary

Package: omicsViewer
Version: 1.1.3
Command: rm -rf omicsViewer.buildbin-libdir && mkdir omicsViewer.buildbin-libdir && /Users/biocbuild/BBS/utils/build-universal.sh omicsViewer_1.1.3.tar.gz /Library/Frameworks/R.framework/Resources/bin/R omicsViewer.buildbin-libdir
StartedAt: 2022-06-23 23:48:47 -0400 (Thu, 23 Jun 2022)
EndedAt: 2022-06-23 23:49:27 -0400 (Thu, 23 Jun 2022)
EllapsedTime: 39.2 seconds
RetCode: 0
Status:   OK  
PackageFile: omicsViewer_1.1.3.tgz
PackageFileSize: 4.3 MiB

Command output

##############################################################################
##############################################################################
###
### Running command:
###
###   rm -rf omicsViewer.buildbin-libdir && mkdir omicsViewer.buildbin-libdir && /Users/biocbuild/BBS/utils/build-universal.sh omicsViewer_1.1.3.tar.gz /Library/Frameworks/R.framework/Resources/bin/R omicsViewer.buildbin-libdir
###
##############################################################################
##############################################################################


>>>>>>> 
>>>>>>> INSTALLATION WITH 'R CMD INSTALL --preclean --no-multiarch --library=omicsViewer.buildbin-libdir omicsViewer_1.1.3.tar.gz'
>>>>>>> 

* installing *source* package ‘omicsViewer’ ...
** using staged installation
** R
** inst
** byte-compile and prepare package for lazy loading
** help
*** installing help indices
** building package indices
** installing vignettes
** testing if installed package can be loaded from temporary location
** testing if installed package can be loaded from final location
** testing if installed package keeps a record of temporary installation path
* DONE (omicsViewer)