Back to Multiple platform build/check report for BioC 3.16
ABCDEFGHIJK[L]MNOPQRSTUVWXYZ

This page was generated on 2022-07-05 11:05:28 -0400 (Tue, 05 Jul 2022).

HostnameOSArch (*)R versionInstalled pkgs
nebbiolo2Linux (Ubuntu 20.04.4 LTS)x86_644.2.0 Patched (2022-06-02 r82447) -- "Vigorous Calisthenics" 4343
palomino4Windows Server 2022 Datacenterx644.2.0 Patched (2022-06-02 r82447 ucrt) -- "Vigorous Calisthenics" 4148
lconwaymacOS 12.2.1 Montereyx86_644.2.0 Patched (2022-05-29 r82424) -- "Vigorous Calisthenics" 4160
Click on any hostname to see more info about the system (e.g. compilers)      (*) as reported by 'uname -p', except on Windows and Mac OS X

INSTALL results for lipidr on nebbiolo2


To the developers/maintainers of the lipidr package:
- Please allow up to 24 hours (and sometimes 48 hours) for your latest push to git@git.bioconductor.org:packages/lipidr.git to
reflect on this report. See How and When does the builder pull? When will my changes propagate? for more information.
- Make sure to use the following settings in order to reproduce any error or warning you see on this page.

raw results

Package 1021/2124HostnameOS / ArchINSTALLBUILDCHECKBUILD BIN
lipidr 2.11.0  (landing page)
Ahmed Mohamed
Snapshot Date: 2022-07-04 14:00:06 -0400 (Mon, 04 Jul 2022)
git_url: https://git.bioconductor.org/packages/lipidr
git_branch: master
git_last_commit: 35bec2e
git_last_commit_date: 2022-04-26 11:55:16 -0400 (Tue, 26 Apr 2022)
nebbiolo2Linux (Ubuntu 20.04.4 LTS) / x86_64  OK    OK    OK  UNNEEDED, same version is already published
palomino4Windows Server 2022 Datacenter / x64  OK    OK    OK    OK  UNNEEDED, same version is already published
lconwaymacOS 12.2.1 Monterey / x86_64  OK    OK    OK    OK  UNNEEDED, same version is already published

Summary

Package: lipidr
Version: 2.11.0
Command: /home/biocbuild/bbs-3.16-bioc/R/bin/R CMD INSTALL lipidr
StartedAt: 2022-07-04 15:27:23 -0400 (Mon, 04 Jul 2022)
EndedAt: 2022-07-04 15:27:49 -0400 (Mon, 04 Jul 2022)
EllapsedTime: 25.7 seconds
RetCode: 0
Status:   OK  

Command output

##############################################################################
##############################################################################
###
### Running command:
###
###   /home/biocbuild/bbs-3.16-bioc/R/bin/R CMD INSTALL lipidr
###
##############################################################################
##############################################################################


* installing to library ‘/home/biocbuild/bbs-3.16-bioc/R/library’
* installing *source* package ‘lipidr’ ...
** using staged installation
** R
** data
** inst
** byte-compile and prepare package for lazy loading
** help
*** installing help indices
*** copying figures
** building package indices
** installing vignettes
** testing if installed package can be loaded from temporary location
** testing if installed package can be loaded from final location
** testing if installed package keeps a record of temporary installation path
* DONE (lipidr)